Workbook

Sheet ESRI_MAPINFO_SHEET

Sheet Serie x Rama SIPA
A1: Asalariados registrados del sector privado según rama de actividad de la ocupación principal. Total país.
A2: Desde Enero de 2009 en adelante (en cantidad)
A4: Período | B4: Agricultura, ganaderia, caza y silvicultura | C4: Pesca | D4: Explotacion de minas y canteras | E4: Industrias manufactureras | F4: Suministro de Electricidad, gas y agua | G4: Construcción | H4: Comercio y reparaciones | I4: Hoteles y restaurantes | J4: Transporte, almacen. y comunicación | K4: Intermediacion financiera | L4: Actividades inmobiliarias, empresariales y de alquiler | M4: Enseñanza | N4: Servicios sociales y de salud | O4: Servicios comunitarios, sociales y personales | P4: Sin Especificar | Q4: Total
A5: 39814 | B5: 332623 | C5: 15223 | D5: 68535 | E5: 1182975 | F5: 54390 | G5: 403885 | H5: 1003820 | I5: 218286 | J5: 487714 | K5: 144651 | L5: 814714 | M5: 322844 | N5: 232437 | O5: 340573 | P5: 1501 | Q5: 5624171
A6: 39845 | B6: 329754 | C6: 15106 | D6: 68213 | E6: 1178470 | F6: 54459 | G6: 402082 | H6: 1006098 | I6: 219111 | J6: 486792 | K6: 141611 | L6: 810209 | M6: 321777 | N6: 233859 | O6: 339719 | P6: 1511 | Q6: 5608771
A7: 39873 | B7: 328862 | C7: 15234 | D7: 67266 | E7: 1169224 | F7: 54460 | G7: 398958 | H7: 1006015 | I7: 219567 | J7: 486268 | K7: 140838 | L7: 807780 | M7: 321868 | N7: 234424 | O7: 339802 | P7: 1413 | Q7: 5591979
A8: 39904 | B8: 326904 | C8: 15268 | D8: 66935 | E8: 1160632 | F8: 54610 | G8: 396812 | H8: 1005838 | I8: 220046 | J8: 486028 | K8: 139981 | L8: 802128 | M8: 322341 | N8: 235324 | O8: 339741 | P8: 1345 | Q8: 5573933
A9: 39934 | B9: 325071 | C9: 15377 | D9: 66975 | E9: 1157458 | F9: 54702 | G9: 395574 | H9: 1005455 | I9: 219962 | J9: 485680 | K9: 139637 | L9: 801652 | M9: 322776 | N9: 236098 | O9: 340232 | P9: 1332 | Q9: 5567981
A10: 39965 | B10: 326392 | C10: 15001 | D10: 66949 | E10: 1160321 | F10: 55469 | G10: 395798 | H10: 1006512 | I10: 220305 | J10: 485154 | K10: 139601 | L10: 801952 | M10: 324130 | N10: 237048 | O10: 340208 | P10: 1303 | Q10: 5576143
A11: 39995 | B11: 327464 | C11: 14687 | D11: 66822 | E11: 1159723 | F11: 55510 | G11: 393720 | H11: 1006308 | I11: 217325 | J11: 484732 | K11: 139411 | L11: 815841 | M11: 323038 | N11: 238131 | O11: 338974 | P11: 1284 | Q11: 5582970
A12: 40026 | B12: 328563 | C12: 14652 | D12: 66680 | E12: 1161439 | F12: 55656 | G12: 392664 | H12: 1007968 | I12: 218075 | J12: 484983 | K12: 139508 | L12: 797719 | M12: 324899 | N12: 238644 | O12: 340035 | P12: 1265 | Q12: 5572750
A13: 40057 | B13: 327358 | C13: 14775 | D13: 66606 | E13: 1163921 | F13: 55822 | G13: 389827 | H13: 1010066 | I13: 219967 | J13: 484323 | K13: 139404 | L13: 802806 | M13: 326434 | N13: 239323 | O13: 343200 | P13: 1216 | Q13: 5585048
A14: 40087 | B14: 328352 | C14: 14586 | D14: 66649 | E14: 1167478 | F14: 55965 | G14: 388255 | H14: 1011639 | I14: 221779 | J14: 485831 | K14: 139535 | L14: 805268 | M14: 327221 | N14: 239795 | O14: 345676 | P14: 1181 | Q14: 5599210
A15: 40118 | B15: 328770 | C15: 14642 | D15: 66567 | E15: 1166989 | F15: 56060 | G15: 387400 | H15: 1014882 | I15: 221712 | J15: 486432 | K15: 139941 | L15: 803715 | M15: 328225 | N15: 240533 | O15: 345609 | P15: 1187 | Q15: 5602664
A16: 40148 | B16: 324795 | C16: 14705 | D16: 66722 | E16: 1167184 | F16: 56111 | G16: 387339 | H16: 1014073 | I16: 222778 | J16: 487272 | K16: 140243 | L16: 809514 | M16: 328927 | N16: 241240 | O16: 347013 | P16: 1195 | Q16: 5609111
... A114: 43132 | B114: 323438 | C114: 12864 | D114: 78150 | E114: 1187010 | F114: 74148 | G114: 462623 | H114: 1176793 | I114: 272524 | J114: 560194 | K114: 163346 | L114: 839805 | M114: 407049 | N114: 324686 | O114: 387064 | P114: 733 | Q114: 6270427
A115: mar-18 | B115: 323160 | C115: 12831 | D115: 78210 | E115: 1185039 | F115: 74176 | G115: 465668 | H115: 1177995 | I115: 272872 | J115: 561141 | K115: 163405 | L115: 842404 | M115: 408489 | N115: 325295 | O115: 387553 | P115: 725 | Q115: 6278963
A116: 43191 | B116: 322029 | C116: 12962 | D116: 81051 | E116: 1182210 | F116: 74224 | G116: 465540 | H116: 1178046 | I116: 273829 | J116: 561651 | K116: 163651 | L116: 843394 | M116: 409114 | N116: 325659 | O116: 387725 | P116: 695 | Q116: 6281780
A117: 43221 | B117: 322006 | C117: 12797 | D117: 81579 | E117: 1177760 | F117: 74235 | G117: 464748 | H117: 1176387 | I117: 273992 | J117: 560392 | K117: 163669 | L117: 844029 | M117: 409771 | N117: 326087 | O117: 387262 | P117: 669 | Q117: 6275383
A118: 43252 | B118: 321340 | C118: 12799 | D118: 81391 | E118: 1170611 | F118: 74126 | G118: 461004 | H118: 1173129 | I118: 273152 | J118: 558703 | K118: 163592 | L118: 840562 | M118: 410493 | N118: 326171 | O118: 386660 | P118: 645 | Q118: 6254378
A119: 43282 | B119: 323103 | C119: 12842 | D119: 81490 | E119: 1164956 | F119: 74275 | G119: 457580 | H119: 1170055 | I119: 273204 | J119: 557992 | K119: 163591 | L119: 839711 | M119: 411030 | N119: 325842 | O119: 387674 | P119: 679 | Q119: 6244024
A120: ago-18 | B120: 325275 | C120: 13168 | D120: 81691 | E120: 1160255 | F120: 74038 | G120: 455238 | H120: 1167361 | I120: 272504 | J120: 556400 | K120: 163425 | L120: 837386 | M120: 413929 | N120: 325635 | O120: 387910 | P120: 682 | Q120: 6234897
A121: sep-18 | B121: 324872 | C121: 13476 | D121: 81929 | E121: 1152066 | F121: 73894 | G121: 449488 | H121: 1162043 | I121: 271396 | J121: 553983 | K121: 163113 | L121: 836242 | M121: 413871 | N121: 325784 | O121: 387214 | P121: 753 | Q121: 6210124
A122: 43374 | B122: 329361 | C122: 13766 | D122: 82564 | E122: 1144830 | F122: 74071 | G122: 446400 | H122: 1156246 | I122: 271110 | J122: 552161 | K122: 162957 | L122: 834305 | M122: 414786 | N122: 325540 | O122: 386687 | P122: 780 | Q122: 6195564
A123: 43405 | B123: 332618 | C123: 13851 | D123: 82780 | E123: 1135612 | F123: 74173 | G123: 444200 | H123: 1148571 | I123: 269523 | J123: 549336 | K123: 162603 | L123: 829061 | M123: 414253 | N123: 325491 | O123: 386687 | P123: 714 | Q123: 6169473
A124: 43435 | B124: 329601 | C124: 12708 | D124: 83096 | E124: 1133227 | F124: 74154 | G124: 447606 | H124: 1140988 | I124: 267789 | J124: 547478 | K124: 162349 | L124: 828103 | M124: 413672 | N124: 325485 | O124: 385333 | P124: 686 | Q124: 6152275
A125: 43466 | B125: 328514 | C125: 13614 | D125: 83669 | E125: 1129281 | F125: 74210 | G125: 450689 | H125: 1139368 | I125: 267424 | J125: 545117 | K125: 161997 | L125: 828821 | M125: 413823 | N125: 325394 | O125: 383360 | P125: 816 | Q125: 6146097
A126: 43497 | B126: 328379 | C126: 13513 | D126: 83980 | E126: 1126285 | F126: 74433 | G126: 457153 | H126: 1138061 | I126: 267418 | J126: 544394 | K126: 161763 | L126: 830719 | M126: 413012 | N126: 325545 | O126: 384413 | P126: 819 | Q126: 6149887
A127: 43525 | B127: 325524 | C127: 13600 | D127: 84348 | E127: 1120241 | F127: 74391 | G127: 456604 | H127: 1134038 | I127: 267743 | J127: 543421 | K127: 161288 | L127: 829402 | M127: 412919 | N127: 325245 | O127: 383858 | P127: 840 | Q127: 6133462
A128: 43556 | B128: 330452 | C128: 13440 | D128: 84696 | E128: 1116234 | F128: 74327 | G128: 455398 | H128: 1130545 | I128: 267192 | J128: 542333 | K128: 161043 | L128: 827577 | M128: 414210 | N128: 325111 | O128: 383242 | P128: 814 | Q128: 6126614
A129: 43586 | B129: 330112 | C129: 12307 | D129: 84795 | E129: 1113278 | F129: 74372 | G129: 454433 | H129: 1128278 | I129: 267864 | J129: 541824 | K129: 160864 | L129: 828389 | M129: 414291 | N129: 325177 | O129: 383342 | P129: 821 | Q129: 6120147
A130: jun-19 | B130: 328994 | C130: 12833 | D130: 85400 | E130: 1110417 | F130: 74480 | G130: 449677 | H130: 1126828 | I130: 267879 | J130: 541388 | K130: 160752 | L130: 830418 | M130: 414278 | N130: 324993 | O130: 383343 | P130: 893 | Q130: 6112573
A131: 43647 | B131: 327997 | C131: 13414 | D131: 85908 | E131: 1107982 | F131: 74510 | G131: 445871 | H131: 1126107 | I131: 268045 | J131: 539627 | K131: 160297 | L131: 830715 | M131: 414774 | N131: 325148 | O131: 384401 | P131: 873 | Q131: 6105669
A132: 43678 | B132: 327837 | C132: 13570 | D132: 86033 | E132: 1105177 | F132: 74544 | G132: 441959 | H132: 1124380 | I132: 267975 | J132: 539010 | K132: 160221 | L132: 829856 | M132: 414391 | N132: 325366 | O132: 383968 | P132: 823 | Q132: 6095110
A133: 43709 | B133: 327400 | C133: 13283 | D133: 86131 | E133: 1098485 | F133: 74426 | G133: 430077 | H133: 1121162 | I133: 266005 | J133: 537547 | K133: 160347 | L133: 827467 | M133: 415381 | N133: 325052 | O133: 382532 | P133: 849 | Q133: 6066144
A134: oct-19 | B134: 327639 | C134: 13393 | D134: 86162 | E134: 1093656 | F134: 74466 | G134: 416723 | H134: 1117884 | I134: 264657 | J134: 537331 | K134: 159910 | L134: 826816 | M134: 415699 | N134: 325179 | O134: 382561 | P134: 849 | Q134: 6042925
A135: 43770 | B135: 328093 | C135: 12927 | D135: 85974 | E135: 1087714 | F135: 74331 | G135: 409099 | H135: 1115444 | I135: 264068 | J135: 536434 | K135: 159842 | L135: 827309 | M135: 415023 | N135: 325231 | O135: 381372 | P135: 877 | Q135: 6023738
A136: 43800 | B136: 325356 | C136: 12824 | D136: 85603 | E136: 1085037 | F136: 74160 | G136: 401290 | H136: 1112404 | I136: 262434 | J136: 535106 | K136: 159266 | L136: 826769 | M136: 414031 | N136: 325476 | O136: 381092 | P136: 874 | Q136: 6001722
A137: 43831 | B137: 324166 | C137: 13273 | D137: 84760 | E137: 1084781 | F137: 73970 | G137: 391477 | H137: 1113210 | I137: 263298 | J137: 533977 | K137: 159251 | L137: 824822 | M137: 414247 | N137: 325422 | O137: 380765 | P137: 864 | Q137: 5988283
A138: 43862 | B138: 324962 | C138: 13489 | D138: 84929 | E138: 1085237 | F138: 73857 | G138: 385554 | H138: 1114289 | I138: 265364 | J138: 533933 | K138: 159350 | L138: 827883 | M138: 413042 | N138: 325714 | O138: 381856 | P138: 860 | Q138: 5990319
A139: 43891 | B139: 323850 | C139: 12668 | D139: 84531 | E139: 1082541 | F139: 73826 | G139: 370174 | H139: 1111308 | I139: 258915 | J139: 531565 | K139: 158850 | L139: 824387 | M139: 411145 | N139: 325958 | O139: 376732 | P139: 791 | Q139: 5947241
A140: 43922 | B140: 322270 | C140: 12692 | D140: 83731 | E140: 1077186 | F140: 73614 | G140: 332684 | H140: 1100982 | I140: 242962 | J140: 527055 | K140: 157984 | L140: 808314 | M140: 404593 | N140: 325524 | O140: 369676 | P140: 729 | Q140: 5839996
A141: 43952 | B141: 321850 | C141: 12903 | D141: 82996 | E141: 1075863 | F141: 73548 | G141: 325161 | H141: 1098268 | I141: 241411 | J141: 524258 | K141: 157672 | L141: 805713 | M141: 401775 | N141: 325072 | O141: 367740 | P141: 704 | Q141: 5814934
A142: 43983 | B142: 320419 | C142: 12821 | D142: 81798 | E142: 1077365 | F142: 73626 | G142: 324048 | H142: 1095702 | I142: 238602 | J142: 522570 | K142: 157322 | L142: 811024 | M142: 400264 | N142: 325440 | O142: 367171 | P142: 685 | Q142: 5808857
A143: 44013 | B143: 319827 | C143: 13136 | D143: 80713 | E143: 1079542 | F143: 73656 | G143: 317437 | H143: 1093854 | I143: 232177 | J143: 521072 | K143: 156818 | L143: 814245 | M143: 400939 | N143: 326180 | O143: 363781 | P143: 662 | Q143: 5794039
A144: 44044 | B144: 320026 | C144: 12918 | D144: 80497 | E144: 1082984 | F144: 73672 | G144: 319462 | H144: 1093401 | I144: 227910 | J144: 519480 | K144: 156446 | L144: 821096 | M144: 397723 | N144: 327084 | O144: 363164 | P144: 537 | Q144: 5796400
A145: 44075 | B145: 318741 | C145: 13051 | D145: 80045 | E145: 1087199 | F145: 73740 | G145: 322566 | H145: 1093819 | I145: 223966 | J145: 518754 | K145: 156533 | L145: 825016 | M145: 395952 | N145: 327881 | O145: 363119 | P145: 516 | Q145: 5800898
A146: 44105 | B146: 317314 | C146: 13491 | D146: 79333 | E146: 1091354 | F146: 73724 | G146: 328529 | H146: 1092817 | I146: 219480 | J146: 516453 | K146: 156301 | L146: 827466 | M146: 395012 | N146: 327940 | O146: 362495 | P146: 476 | Q146: 5802185
A147: 44136 | B147: 318530 | C147: 13651 | D147: 79113 | E147: 1094071 | F147: 73771 | G147: 334566 | H147: 1092398 | I147: 215417 | J147: 515794 | K147: 155964 | L147: 830009 | M147: 395096 | N147: 327585 | O147: 362014 | P147: 483 | Q147: 5808462
A148: dic-20 | B148: 319256 | C148: 13096 | D148: 79046 | E148: 1094947 | F148: 73933 | G148: 338544 | H148: 1088805 | I148: 213015 | J148: 514168 | K148: 155790 | L148: 830376 | M148: 397897 | N148: 326642 | O148: 360359 | P148: 444 | Q148: 5806318
A149: 44197 | B149: 319896 | C149: 13327 | D149: 79971 | E149: 1097158 | F149: 74073 | G149: 346084 | H149: 1089669 | I149: 209474 | J149: 514405 | K149: 155378 | L149: 832412 | M149: 404578 | N149: 326521 | O149: 361551 | P149: 378 | Q149: 5824875
A150: 44228 | B150: 320014 | C150: 13721 | D150: 80177 | E150: 1099371 | F150: 74134 | G150: 351485 | H150: 1092937 | I150: 209422 | J150: 514453 | K150: 155368 | L150: 835271 | M150: 403662 | N150: 326786 | O150: 359927 | P150: 356 | Q150: 5837084
A151: 44256 | B151: 321936 | C151: 13630 | D151: 80297 | E151: 1104255 | F151: 74161 | G151: 357386 | H151: 1097690 | I151: 210422 | J151: 514392 | K151: 155129 | L151: 840161 | M151: 402900 | N151: 327684 | O151: 360751 | P151: 346 | Q151: 5861140
A152: 44287 | B152: 324282 | C152: 13446 | D152: 80441 | E152: 1109716 | F152: 74245 | G152: 363052 | H152: 1102163 | I152: 211270 | J152: 515747 | K152: 155211 | L152: 849268 | M152: 403236 | N152: 329410 | O152: 363549 | P152: 332 | Q152: 5895368
A153: 44317 | B153: 324683 | C153: 13802 | D153: 80975 | E153: 1111068 | F153: 74222 | G153: 364390 | H153: 1102617 | I153: 208087 | J153: 514820 | K153: 155117 | L153: 851898 | M153: 401733 | N153: 330553 | O153: 362638 | P153: 305 | Q153: 5896908
A154: 44348 | B154: 324442 | C154: 13924 | D154: 81460 | E154: 1112242 | F154: 74240 | G154: 369448 | H154: 1101876 | I154: 205917 | J154: 513716 | K154: 154716 | L154: 854356 | M154: 400831 | N154: 331035 | O154: 362945 | P154: 309 | Q154: 5901457
A155: 44378 | B155: 324724 | C155: 13876 | D155: 81618 | E155: 1112053 | F155: 74245 | G155: 373825 | H155: 1101535 | I155: 206799 | J155: 512445 | K155: 154566 | L155: 852324 | M155: 402146 | N155: 330036 | O155: 362124 | P155: 305 | Q155: 5902621
A156: 44409 | B156: 324264 | C156: 14079 | D156: 81875 | E156: 1113608 | F156: 74222 | G156: 378096 | H156: 1103598 | I156: 210001 | J156: 512070 | K156: 154490 | L156: 853893 | M156: 404350 | N156: 329394 | O156: 362060 | P156: 293 | Q156: 5916293
A157: 44440 | B157: 324643 | C157: 14704 | D157: 82185 | E157: 1116938 | F157: 74333 | G157: 382543 | H157: 1107780 | I157: 213854 | J157: 512233 | K157: 154069 | L157: 856339 | M157: 405997 | N157: 328648 | O157: 361903 | P157: 293 | Q157: 5936462
A158: 44470 | B158: 322446 | C158: 13656 | D158: 82568 | E158: 1118066 | F158: 74328 | G158: 387930 | H158: 1111151 | I158: 218153 | J158: 512654 | K158: 153967 | L158: 858135 | M158: 406861 | N158: 327933 | O158: 362802 | P158: 285 | Q158: 5950935
A159: 44501 | B159: 319780 | C159: 13611 | D159: 82741 | E159: 1122331 | F159: 74373 | G159: 392314 | H159: 1116645 | I159: 223451 | J159: 513933 | K159: 153910 | L159: 861968 | M159: 407803 | N159: 328351 | O159: 363173 | P159: 306 | Q159: 5974690
A160: 44531 | B160: 321280 | C160: 13659 | D160: 83063 | E160: 1127689 | F160: 74471 | G160: 397420 | H160: 1120985 | I160: 228521 | J160: 515539 | K160: 153808 | L160: 867136 | M160: 408777 | N160: 328694 | O160: 365861 | P160: 301 | Q160: 6007204
... A214: 46174 | B214: 321178 | C214: 14301 | D214: 86963 | E214: 1105418 | F214: 76381 | G214: 378135 | H214: 1218019 | I214: 275824 | J214: 504547 | K214: 143552 | L214: 881148 | M214: 423916 | N214: 330178 | O214: 366766 | P214: 54 | Q214: 6126380
A216: Notas:
A217: * Los datos tienen carácter provisorio, ya que se encuentran sujetos a leves ajustes en los próximos meses
A218: El empleo perteneciente a las empresas con participación accionaria privada y estatal se incluye dentro del sector privado.
A219: Fuente: Observatorio de Empleo y Dinámica Empresarial, Dirección Nacional de Estudios y Estadísticas Laborales, Secretaría de Trabajo, Empleo y Seguridad Social, Ministerio de Capital Humano, sobre la base del SIPA (ARCA).

Sheet Var. Mensual
A1: Variación mensual de los Asalariados registrados del sector privado según rama de actividad de la ocupación principal. Total país.
A2: Desde Febrero de 2009 en adelante (en %)
A4: Período | B4: Agricultura, ganaderia, caza y silvicultura | C4: Pesca | D4: Explotacion de minas y canteras | E4: Industrias manufactureras | F4: Suministro de Electricidad, gas y agua | G4: Construcción | H4: Comercio y reparaciones | I4: Hoteles y restaurantes | J4: Transporte, almacen. y comunicación | K4: Intermediacion financiera | L4: Actividades inmobiliarias, empresariales y de alquiler | M4: Enseñanza | N4: Servicios sociales y de salud | O4: Servicios comunitarios, sociales y personales | P4: Sin Especificar | Q4: Total
A5: 39845 | B5: =('Serie x Rama SIPA'!B6/'Serie x Rama SIPA'!B5-1)*100 -> -0.86253807 | C5: =('Serie x Rama SIPA'!C6/'Serie x Rama SIPA'!C5-1)*100 -> -0.76857387 | D5: =('Serie x Rama SIPA'!D6/'Serie x Rama SIPA'!D5-1)*100 -> -0.46983293 | E5: =('Serie x Rama SIPA'!E6/'Serie x Rama SIPA'!E5-1)*100 -> -0.38081954 | F5: =('Serie x Rama SIPA'!F6/'Serie x Rama SIPA'!F5-1)*100 -> 0.12686156 | G5: =('Serie x Rama SIPA'!G6/'Serie x Rama SIPA'!G5-1)*100 -> -0.4464142 | H5: =('Serie x Rama SIPA'!H6/'Serie x Rama SIPA'!H5-1)*100 -> 0.22693312 | I5: =('Serie x Rama SIPA'!I6/'Serie x Rama SIPA'!I5-1)*100 -> 0.37794453 | ... Q5: =('Serie x Rama SIPA'!Q6/'Serie x Rama SIPA'!Q5-1)*100 -> -0.27381813
A6: 39873 | B6: =('Serie x Rama SIPA'!B7/'Serie x Rama SIPA'!B6-1)*100 -> -0.27050468 | C6: =('Serie x Rama SIPA'!C7/'Serie x Rama SIPA'!C6-1)*100 -> 0.84734543 | D6: =('Serie x Rama SIPA'!D7/'Serie x Rama SIPA'!D6-1)*100 -> -1.3882984 | E6: =('Serie x Rama SIPA'!E7/'Serie x Rama SIPA'!E6-1)*100 -> -0.78457661 | F6: =('Serie x Rama SIPA'!F7/'Serie x Rama SIPA'!F6-1)*100 -> 0.0018362438 | G6: =('Serie x Rama SIPA'!G7/'Serie x Rama SIPA'!G6-1)*100 -> -0.77695594 | H6: =('Serie x Rama SIPA'!H7/'Serie x Rama SIPA'!H6-1)*100 -> -0.0082496934 | I6: =('Serie x Rama SIPA'!I7/'Serie x Rama SIPA'!I6-1)*100 -> 0.2081137 | ... Q6: =('Serie x Rama SIPA'!Q7/'Serie x Rama SIPA'!Q6-1)*100 -> -0.29938823
A7: 39904 | B7: =('Serie x Rama SIPA'!B8/'Serie x Rama SIPA'!B7-1)*100 -> -0.59538651 | C7: =('Serie x Rama SIPA'!C8/'Serie x Rama SIPA'!C7-1)*100 -> 0.22318498 | D7: =('Serie x Rama SIPA'!D8/'Serie x Rama SIPA'!D7-1)*100 -> -0.49207623 | E7: =('Serie x Rama SIPA'!E8/'Serie x Rama SIPA'!E7-1)*100 -> -0.73484636 | F7: =('Serie x Rama SIPA'!F8/'Serie x Rama SIPA'!F7-1)*100 -> 0.27543151 | G7: =('Serie x Rama SIPA'!G8/'Serie x Rama SIPA'!G7-1)*100 -> -0.53790123 | H7: =('Serie x Rama SIPA'!H8/'Serie x Rama SIPA'!H7-1)*100 -> -0.017594171 | I7: =('Serie x Rama SIPA'!I8/'Serie x Rama SIPA'!I7-1)*100 -> 0.21815664 | ... Q7: =('Serie x Rama SIPA'!Q8/'Serie x Rama SIPA'!Q7-1)*100 -> -0.32271223
A8: 39934 | B8: =('Serie x Rama SIPA'!B9/'Serie x Rama SIPA'!B8-1)*100 -> -0.56071507 | C8: =('Serie x Rama SIPA'!C9/'Serie x Rama SIPA'!C8-1)*100 -> 0.71391145 | D8: =('Serie x Rama SIPA'!D9/'Serie x Rama SIPA'!D8-1)*100 -> 0.059759468 | E8: =('Serie x Rama SIPA'!E9/'Serie x Rama SIPA'!E8-1)*100 -> -0.27347169 | F8: =('Serie x Rama SIPA'!F9/'Serie x Rama SIPA'!F8-1)*100 -> 0.16846731 | G8: =('Serie x Rama SIPA'!G9/'Serie x Rama SIPA'!G8-1)*100 -> -0.31198653 | H8: =('Serie x Rama SIPA'!H9/'Serie x Rama SIPA'!H8-1)*100 -> -0.038077702 | I8: =('Serie x Rama SIPA'!I9/'Serie x Rama SIPA'!I8-1)*100 -> -0.038173836 | ... Q8: =('Serie x Rama SIPA'!Q9/'Serie x Rama SIPA'!Q8-1)*100 -> -0.10678277
A9: 39965 | B9: =('Serie x Rama SIPA'!B10/'Serie x Rama SIPA'!B9-1)*100 -> 0.40637276 | C9: =('Serie x Rama SIPA'!C10/'Serie x Rama SIPA'!C9-1)*100 -> -2.4452104 | D9: =('Serie x Rama SIPA'!D10/'Serie x Rama SIPA'!D9-1)*100 -> -0.038820455 | E9: =('Serie x Rama SIPA'!E10/'Serie x Rama SIPA'!E9-1)*100 -> 0.24735239 | F9: =('Serie x Rama SIPA'!F10/'Serie x Rama SIPA'!F9-1)*100 -> 1.4021425 | G9: =('Serie x Rama SIPA'!G10/'Serie x Rama SIPA'!G9-1)*100 -> 0.056626573 | H9: =('Serie x Rama SIPA'!H10/'Serie x Rama SIPA'!H9-1)*100 -> 0.10512653 | I9: =('Serie x Rama SIPA'!I10/'Serie x Rama SIPA'!I9-1)*100 -> 0.15593603 | ... Q9: =('Serie x Rama SIPA'!Q10/'Serie x Rama SIPA'!Q9-1)*100 -> 0.14658814
A10: 39995 | B10: =('Serie x Rama SIPA'!B11/'Serie x Rama SIPA'!B10-1)*100 -> 0.32843942 | C10: =('Serie x Rama SIPA'!C11/'Serie x Rama SIPA'!C10-1)*100 -> -2.0931938 | D10: =('Serie x Rama SIPA'!D11/'Serie x Rama SIPA'!D10-1)*100 -> -0.18969663 | E10: =('Serie x Rama SIPA'!E11/'Serie x Rama SIPA'!E10-1)*100 -> -0.051537462 | F10: =('Serie x Rama SIPA'!F11/'Serie x Rama SIPA'!F10-1)*100 -> 0.07391516 | G10: =('Serie x Rama SIPA'!G11/'Serie x Rama SIPA'!G10-1)*100 -> -0.52501529 | H10: =('Serie x Rama SIPA'!H11/'Serie x Rama SIPA'!H10-1)*100 -> -0.020268015 | I10: =('Serie x Rama SIPA'!I11/'Serie x Rama SIPA'!I10-1)*100 -> -1.3526702 | ... Q10: =('Serie x Rama SIPA'!Q11/'Serie x Rama SIPA'!Q10-1)*100 -> 0.1224323
A11: 40026 | B11: =('Serie x Rama SIPA'!B12/'Serie x Rama SIPA'!B11-1)*100 -> 0.33560941 | C11: =('Serie x Rama SIPA'!C12/'Serie x Rama SIPA'!C11-1)*100 -> -0.23830598 | D11: =('Serie x Rama SIPA'!D12/'Serie x Rama SIPA'!D11-1)*100 -> -0.21250486 | E11: =('Serie x Rama SIPA'!E12/'Serie x Rama SIPA'!E11-1)*100 -> 0.14796637 | F11: =('Serie x Rama SIPA'!F12/'Serie x Rama SIPA'!F11-1)*100 -> 0.26301567 | G11: =('Serie x Rama SIPA'!G12/'Serie x Rama SIPA'!G11-1)*100 -> -0.26821091 | H11: =('Serie x Rama SIPA'!H12/'Serie x Rama SIPA'!H11-1)*100 -> 0.16495944 | I11: =('Serie x Rama SIPA'!I12/'Serie x Rama SIPA'!I11-1)*100 -> 0.34510526 | ... Q11: =('Serie x Rama SIPA'!Q12/'Serie x Rama SIPA'!Q11-1)*100 -> -0.18305669
A12: 40057 | B12: =('Serie x Rama SIPA'!B13/'Serie x Rama SIPA'!B12-1)*100 -> -0.36674854 | C12: =('Serie x Rama SIPA'!C13/'Serie x Rama SIPA'!C12-1)*100 -> 0.83947584 | D12: =('Serie x Rama SIPA'!D13/'Serie x Rama SIPA'!D12-1)*100 -> -0.1109778 | E12: =('Serie x Rama SIPA'!E13/'Serie x Rama SIPA'!E12-1)*100 -> 0.21370042 | F12: =('Serie x Rama SIPA'!F13/'Serie x Rama SIPA'!F12-1)*100 -> 0.29826074 | G12: =('Serie x Rama SIPA'!G13/'Serie x Rama SIPA'!G12-1)*100 -> -0.72250066 | H12: =('Serie x Rama SIPA'!H13/'Serie x Rama SIPA'!H12-1)*100 -> 0.20814153 | I12: =('Serie x Rama SIPA'!I13/'Serie x Rama SIPA'!I12-1)*100 -> 0.86759142 | ... Q12: =('Serie x Rama SIPA'!Q13/'Serie x Rama SIPA'!Q12-1)*100 -> 0.22068099
A13: 40087 | B13: =('Serie x Rama SIPA'!B14/'Serie x Rama SIPA'!B13-1)*100 -> 0.30364311 | C13: =('Serie x Rama SIPA'!C14/'Serie x Rama SIPA'!C13-1)*100 -> -1.2791878 | D13: =('Serie x Rama SIPA'!D14/'Serie x Rama SIPA'!D13-1)*100 -> 0.064558748 | E13: =('Serie x Rama SIPA'!E14/'Serie x Rama SIPA'!E13-1)*100 -> 0.30560493 | F13: =('Serie x Rama SIPA'!F14/'Serie x Rama SIPA'!F13-1)*100 -> 0.2561714 | G13: =('Serie x Rama SIPA'!G14/'Serie x Rama SIPA'!G13-1)*100 -> -0.4032558 | H13: =('Serie x Rama SIPA'!H14/'Serie x Rama SIPA'!H13-1)*100 -> 0.1557324 | I13: =('Serie x Rama SIPA'!I14/'Serie x Rama SIPA'!I13-1)*100 -> 0.82375993 | ... Q13: =('Serie x Rama SIPA'!Q14/'Serie x Rama SIPA'!Q13-1)*100 -> 0.25356989
A14: 40118 | B14: =('Serie x Rama SIPA'!B15/'Serie x Rama SIPA'!B14-1)*100 -> 0.12730241 | C14: =('Serie x Rama SIPA'!C15/'Serie x Rama SIPA'!C14-1)*100 -> 0.3839298 | D14: =('Serie x Rama SIPA'!D15/'Serie x Rama SIPA'!D14-1)*100 -> -0.1230326 | E14: =('Serie x Rama SIPA'!E15/'Serie x Rama SIPA'!E14-1)*100 -> -0.041885158 | F14: =('Serie x Rama SIPA'!F15/'Serie x Rama SIPA'!F14-1)*100 -> 0.16974895 | G14: =('Serie x Rama SIPA'!G15/'Serie x Rama SIPA'!G14-1)*100 -> -0.2202161 | H14: =('Serie x Rama SIPA'!H15/'Serie x Rama SIPA'!H14-1)*100 -> 0.3205689 | I14: =('Serie x Rama SIPA'!I15/'Serie x Rama SIPA'!I14-1)*100 -> -0.030210254 | ... Q14: =('Serie x Rama SIPA'!Q15/'Serie x Rama SIPA'!Q14-1)*100 -> 0.061687274
A15: 40148 | B15: =('Serie x Rama SIPA'!B16/'Serie x Rama SIPA'!B15-1)*100 -> -1.2090519 | C15: =('Serie x Rama SIPA'!C16/'Serie x Rama SIPA'!C15-1)*100 -> 0.43026909 | D15: =('Serie x Rama SIPA'!D16/'Serie x Rama SIPA'!D15-1)*100 -> 0.23284811 | E15: =('Serie x Rama SIPA'!E16/'Serie x Rama SIPA'!E15-1)*100 -> 0.016709669 | F15: =('Serie x Rama SIPA'!F16/'Serie x Rama SIPA'!F15-1)*100 -> 0.090973956 | G15: =('Serie x Rama SIPA'!G16/'Serie x Rama SIPA'!G15-1)*100 -> -0.015745999 | H15: =('Serie x Rama SIPA'!H16/'Serie x Rama SIPA'!H15-1)*100 -> -0.079713701 | I15: =('Serie x Rama SIPA'!I16/'Serie x Rama SIPA'!I15-1)*100 -> 0.48080393 | ... Q15: =('Serie x Rama SIPA'!Q16/'Serie x Rama SIPA'!Q15-1)*100 -> 0.11507026
A16: 40179 | B16: =('Serie x Rama SIPA'!B17/'Serie x Rama SIPA'!B16-1)*100 -> -0.54495913 | C16: =('Serie x Rama SIPA'!C17/'Serie x Rama SIPA'!C16-1)*100 -> -0.66643999 | D16: =('Serie x Rama SIPA'!D17/'Serie x Rama SIPA'!D16-1)*100 -> 0.091424118 | E16: =('Serie x Rama SIPA'!E17/'Serie x Rama SIPA'!E16-1)*100 -> 0.10957998 | F16: =('Serie x Rama SIPA'!F17/'Serie x Rama SIPA'!F16-1)*100 -> 0.11049527 | G16: =('Serie x Rama SIPA'!G17/'Serie x Rama SIPA'!G16-1)*100 -> 0.22744934 | H16: =('Serie x Rama SIPA'!H17/'Serie x Rama SIPA'!H16-1)*100 -> 0.13283067 | I16: =('Serie x Rama SIPA'!I17/'Serie x Rama SIPA'!I16-1)*100 -> -0.049376509 | ... Q16: =('Serie x Rama SIPA'!Q17/'Serie x Rama SIPA'!Q16-1)*100 -> 0.077445428
... A113: 43132 | B113: =('Serie x Rama SIPA'!B114/'Serie x Rama SIPA'!B113-1)*100 -> -0.33925044 | C113: =('Serie x Rama SIPA'!C114/'Serie x Rama SIPA'!C113-1)*100 -> -1.6062414 | D113: =('Serie x Rama SIPA'!D114/'Serie x Rama SIPA'!D113-1)*100 -> 0.30032343 | E113: =('Serie x Rama SIPA'!E114/'Serie x Rama SIPA'!E113-1)*100 -> -0.26684905 | F113: =('Serie x Rama SIPA'!F114/'Serie x Rama SIPA'!F113-1)*100 -> 0.047225183 | G113: =('Serie x Rama SIPA'!G114/'Serie x Rama SIPA'!G113-1)*100 -> 0.11447887 | H113: =('Serie x Rama SIPA'!H114/'Serie x Rama SIPA'!H113-1)*100 -> -0.12696376 | I113: =('Serie x Rama SIPA'!I114/'Serie x Rama SIPA'!I113-1)*100 -> -0.026412713 | ... Q113: =('Serie x Rama SIPA'!Q114/'Serie x Rama SIPA'!Q113-1)*100 -> -0.074675946
A114: mar-18 | B114: =('Serie x Rama SIPA'!B115/'Serie x Rama SIPA'!B114-1)*100 -> -0.085951558 | C114: =('Serie x Rama SIPA'!C115/'Serie x Rama SIPA'!C114-1)*100 -> -0.25652985 | D114: =('Serie x Rama SIPA'!D115/'Serie x Rama SIPA'!D114-1)*100 -> 0.076775432 | E114: =('Serie x Rama SIPA'!E115/'Serie x Rama SIPA'!E114-1)*100 -> -0.16604746 | F114: =('Serie x Rama SIPA'!F115/'Serie x Rama SIPA'!F114-1)*100 -> 0.037762313 | G114: =('Serie x Rama SIPA'!G115/'Serie x Rama SIPA'!G114-1)*100 -> 0.65820333 | H114: =('Serie x Rama SIPA'!H115/'Serie x Rama SIPA'!H114-1)*100 -> 0.10214201 | I114: =('Serie x Rama SIPA'!I115/'Serie x Rama SIPA'!I114-1)*100 -> 0.12769518 | ... Q114: =('Serie x Rama SIPA'!Q115/'Serie x Rama SIPA'!Q114-1)*100 -> 0.13613108
A115: 43191 | B115: =('Serie x Rama SIPA'!B116/'Serie x Rama SIPA'!B115-1)*100 -> -0.34998143 | C115: =('Serie x Rama SIPA'!C116/'Serie x Rama SIPA'!C115-1)*100 -> 1.0209649 | D115: =('Serie x Rama SIPA'!D116/'Serie x Rama SIPA'!D115-1)*100 -> 3.6325278 | E115: =('Serie x Rama SIPA'!E116/'Serie x Rama SIPA'!E115-1)*100 -> -0.23872632 | F115: =('Serie x Rama SIPA'!F116/'Serie x Rama SIPA'!F115-1)*100 -> 0.064710958 | G115: =('Serie x Rama SIPA'!G116/'Serie x Rama SIPA'!G115-1)*100 -> -0.027487394 | H115: =('Serie x Rama SIPA'!H116/'Serie x Rama SIPA'!H115-1)*100 -> 0.0043293902 | I115: =('Serie x Rama SIPA'!I116/'Serie x Rama SIPA'!I115-1)*100 -> 0.35071389 | ... Q115: =('Serie x Rama SIPA'!Q116/'Serie x Rama SIPA'!Q115-1)*100 -> 0.044864096
A116: 43221 | B116: =('Serie x Rama SIPA'!B117/'Serie x Rama SIPA'!B116-1)*100 -> -0.0071422139 | C116: =('Serie x Rama SIPA'!C117/'Serie x Rama SIPA'!C116-1)*100 -> -1.2729517 | D116: =('Serie x Rama SIPA'!D117/'Serie x Rama SIPA'!D116-1)*100 -> 0.65144168 | E116: =('Serie x Rama SIPA'!E117/'Serie x Rama SIPA'!E116-1)*100 -> -0.37641367 | F116: =('Serie x Rama SIPA'!F117/'Serie x Rama SIPA'!F116-1)*100 -> 0.014820004 | G116: =('Serie x Rama SIPA'!G117/'Serie x Rama SIPA'!G116-1)*100 -> -0.17012502 | H116: =('Serie x Rama SIPA'!H117/'Serie x Rama SIPA'!H116-1)*100 -> -0.14082642 | I116: =('Serie x Rama SIPA'!I117/'Serie x Rama SIPA'!I116-1)*100 -> 0.059526201 | ... Q116: =('Serie x Rama SIPA'!Q117/'Serie x Rama SIPA'!Q116-1)*100 -> -0.10183419
A117: 43252 | B117: =('Serie x Rama SIPA'!B118/'Serie x Rama SIPA'!B117-1)*100 -> -0.20682844 | C117: =('Serie x Rama SIPA'!C118/'Serie x Rama SIPA'!C117-1)*100 -> 0.015628663 | D117: =('Serie x Rama SIPA'!D118/'Serie x Rama SIPA'!D117-1)*100 -> -0.23045146 | E117: =('Serie x Rama SIPA'!E118/'Serie x Rama SIPA'!E117-1)*100 -> -0.60699973 | F117: =('Serie x Rama SIPA'!F118/'Serie x Rama SIPA'!F117-1)*100 -> -0.14683101 | G117: =('Serie x Rama SIPA'!G118/'Serie x Rama SIPA'!G117-1)*100 -> -0.80559787 | H117: =('Serie x Rama SIPA'!H118/'Serie x Rama SIPA'!H117-1)*100 -> -0.27694968 | I117: =('Serie x Rama SIPA'!I118/'Serie x Rama SIPA'!I117-1)*100 -> -0.30657829 | ... Q117: =('Serie x Rama SIPA'!Q118/'Serie x Rama SIPA'!Q117-1)*100 -> -0.33472061
A118: 43282 | B118: =('Serie x Rama SIPA'!B119/'Serie x Rama SIPA'!B118-1)*100 -> 0.54864007 | C118: =('Serie x Rama SIPA'!C119/'Serie x Rama SIPA'!C118-1)*100 -> 0.33596375 | D118: =('Serie x Rama SIPA'!D119/'Serie x Rama SIPA'!D118-1)*100 -> 0.12163507 | E118: =('Serie x Rama SIPA'!E119/'Serie x Rama SIPA'!E118-1)*100 -> -0.48308106 | F118: =('Serie x Rama SIPA'!F119/'Serie x Rama SIPA'!F118-1)*100 -> 0.20100909 | G118: =('Serie x Rama SIPA'!G119/'Serie x Rama SIPA'!G118-1)*100 -> -0.74272674 | H118: =('Serie x Rama SIPA'!H119/'Serie x Rama SIPA'!H118-1)*100 -> -0.26203427 | I118: =('Serie x Rama SIPA'!I119/'Serie x Rama SIPA'!I118-1)*100 -> 0.01903702 | ... Q118: =('Serie x Rama SIPA'!Q119/'Serie x Rama SIPA'!Q118-1)*100 -> -0.16554804
A119: ago-18 | B119: =('Serie x Rama SIPA'!B120/'Serie x Rama SIPA'!B119-1)*100 -> 0.67223146 | C119: =('Serie x Rama SIPA'!C120/'Serie x Rama SIPA'!C119-1)*100 -> 2.5385454 | D119: =('Serie x Rama SIPA'!D120/'Serie x Rama SIPA'!D119-1)*100 -> 0.24665603 | E119: =('Serie x Rama SIPA'!E120/'Serie x Rama SIPA'!E119-1)*100 -> -0.40353455 | F119: =('Serie x Rama SIPA'!F120/'Serie x Rama SIPA'!F119-1)*100 -> -0.31908448 | G119: =('Serie x Rama SIPA'!G120/'Serie x Rama SIPA'!G119-1)*100 -> -0.51182307 | H119: =('Serie x Rama SIPA'!H120/'Serie x Rama SIPA'!H119-1)*100 -> -0.23024559 | I119: =('Serie x Rama SIPA'!I120/'Serie x Rama SIPA'!I119-1)*100 -> -0.2562188 | ... Q119: =('Serie x Rama SIPA'!Q120/'Serie x Rama SIPA'!Q119-1)*100 -> -0.14617176
A120: sep-18 | B120: =('Serie x Rama SIPA'!B121/'Serie x Rama SIPA'!B120-1)*100 -> -0.12389517 | C120: =('Serie x Rama SIPA'!C121/'Serie x Rama SIPA'!C120-1)*100 -> 2.3390036 | D120: =('Serie x Rama SIPA'!D121/'Serie x Rama SIPA'!D120-1)*100 -> 0.29134176 | E120: =('Serie x Rama SIPA'!E121/'Serie x Rama SIPA'!E120-1)*100 -> -0.70579312 | F120: =('Serie x Rama SIPA'!F121/'Serie x Rama SIPA'!F120-1)*100 -> -0.19449472 | G120: =('Serie x Rama SIPA'!G121/'Serie x Rama SIPA'!G120-1)*100 -> -1.2630756 | H120: =('Serie x Rama SIPA'!H121/'Serie x Rama SIPA'!H120-1)*100 -> -0.45555745 | I120: =('Serie x Rama SIPA'!I121/'Serie x Rama SIPA'!I120-1)*100 -> -0.40659954 | ... Q120: =('Serie x Rama SIPA'!Q121/'Serie x Rama SIPA'!Q120-1)*100 -> -0.39732814
A121: 43374 | B121: =('Serie x Rama SIPA'!B122/'Serie x Rama SIPA'!B121-1)*100 -> 1.381775 | C121: =('Serie x Rama SIPA'!C122/'Serie x Rama SIPA'!C121-1)*100 -> 2.1519739 | D121: =('Serie x Rama SIPA'!D122/'Serie x Rama SIPA'!D121-1)*100 -> 0.77506133 | E121: =('Serie x Rama SIPA'!E122/'Serie x Rama SIPA'!E121-1)*100 -> -0.62808902 | F121: =('Serie x Rama SIPA'!F122/'Serie x Rama SIPA'!F121-1)*100 -> 0.2395323 | G121: =('Serie x Rama SIPA'!G122/'Serie x Rama SIPA'!G121-1)*100 -> -0.68700388 | H121: =('Serie x Rama SIPA'!H122/'Serie x Rama SIPA'!H121-1)*100 -> -0.49886278 | I121: =('Serie x Rama SIPA'!I122/'Serie x Rama SIPA'!I121-1)*100 -> -0.10538107 | ... Q121: =('Serie x Rama SIPA'!Q122/'Serie x Rama SIPA'!Q121-1)*100 -> -0.23445587
A122: 43405 | B122: =('Serie x Rama SIPA'!B123/'Serie x Rama SIPA'!B122-1)*100 -> 0.98888454 | C122: =('Serie x Rama SIPA'!C123/'Serie x Rama SIPA'!C122-1)*100 -> 0.61746332 | D122: =('Serie x Rama SIPA'!D123/'Serie x Rama SIPA'!D122-1)*100 -> 0.26161523 | E122: =('Serie x Rama SIPA'!E123/'Serie x Rama SIPA'!E122-1)*100 -> -0.80518505 | F122: =('Serie x Rama SIPA'!F123/'Serie x Rama SIPA'!F122-1)*100 -> 0.13770571 | G122: =('Serie x Rama SIPA'!G123/'Serie x Rama SIPA'!G122-1)*100 -> -0.49283154 | H122: =('Serie x Rama SIPA'!H123/'Serie x Rama SIPA'!H122-1)*100 -> -0.66378608 | I122: =('Serie x Rama SIPA'!I123/'Serie x Rama SIPA'!I122-1)*100 -> -0.58537125 | ... Q122: =('Serie x Rama SIPA'!Q123/'Serie x Rama SIPA'!Q122-1)*100 -> -0.42112389
A123: 43435 | B123: =('Serie x Rama SIPA'!B124/'Serie x Rama SIPA'!B123-1)*100 -> -0.90704652 | C123: =('Serie x Rama SIPA'!C124/'Serie x Rama SIPA'!C123-1)*100 -> -8.2521118 | D123: =('Serie x Rama SIPA'!D124/'Serie x Rama SIPA'!D123-1)*100 -> 0.38173472 | E123: =('Serie x Rama SIPA'!E124/'Serie x Rama SIPA'!E123-1)*100 -> -0.21001891 | F123: =('Serie x Rama SIPA'!F124/'Serie x Rama SIPA'!F123-1)*100 -> -0.02561579 | G123: =('Serie x Rama SIPA'!G124/'Serie x Rama SIPA'!G123-1)*100 -> 0.76677172 | H123: =('Serie x Rama SIPA'!H124/'Serie x Rama SIPA'!H123-1)*100 -> -0.66021169 | I123: =('Serie x Rama SIPA'!I124/'Serie x Rama SIPA'!I123-1)*100 -> -0.64335882 | ... Q123: =('Serie x Rama SIPA'!Q124/'Serie x Rama SIPA'!Q123-1)*100 -> -0.27875963
A124: 43466 | B124: =('Serie x Rama SIPA'!B125/'Serie x Rama SIPA'!B124-1)*100 -> -0.32979269 | C124: =('Serie x Rama SIPA'!C125/'Serie x Rama SIPA'!C124-1)*100 -> 7.1293673 | D124: =('Serie x Rama SIPA'!D125/'Serie x Rama SIPA'!D124-1)*100 -> 0.68956388 | E124: =('Serie x Rama SIPA'!E125/'Serie x Rama SIPA'!E124-1)*100 -> -0.34820914 | F124: =('Serie x Rama SIPA'!F125/'Serie x Rama SIPA'!F124-1)*100 -> 0.075518516 | G124: =('Serie x Rama SIPA'!G125/'Serie x Rama SIPA'!G124-1)*100 -> 0.6887754 | H124: =('Serie x Rama SIPA'!H125/'Serie x Rama SIPA'!H124-1)*100 -> -0.14198221 | I124: =('Serie x Rama SIPA'!I125/'Serie x Rama SIPA'!I124-1)*100 -> -0.13630134 | ... Q124: =('Serie x Rama SIPA'!Q125/'Serie x Rama SIPA'!Q124-1)*100 -> -0.10041814
A125: 43497 | B125: =('Serie x Rama SIPA'!B126/'Serie x Rama SIPA'!B125-1)*100 -> -0.041094139 | C125: =('Serie x Rama SIPA'!C126/'Serie x Rama SIPA'!C125-1)*100 -> -0.74188336 | D125: =('Serie x Rama SIPA'!D126/'Serie x Rama SIPA'!D125-1)*100 -> 0.37170278 | E125: =('Serie x Rama SIPA'!E126/'Serie x Rama SIPA'!E125-1)*100 -> -0.26530155 | F125: =('Serie x Rama SIPA'!F126/'Serie x Rama SIPA'!F125-1)*100 -> 0.30049859 | G125: =('Serie x Rama SIPA'!G126/'Serie x Rama SIPA'!G125-1)*100 -> 1.4342485 | H125: =('Serie x Rama SIPA'!H126/'Serie x Rama SIPA'!H125-1)*100 -> -0.11471272 | I125: =('Serie x Rama SIPA'!I126/'Serie x Rama SIPA'!I125-1)*100 -> -0.0022436281 | ... Q125: =('Serie x Rama SIPA'!Q126/'Serie x Rama SIPA'!Q125-1)*100 -> 0.061665151
A126: 43525 | B126: =('Serie x Rama SIPA'!B127/'Serie x Rama SIPA'!B126-1)*100 -> -0.86942222 | C126: =('Serie x Rama SIPA'!C127/'Serie x Rama SIPA'!C126-1)*100 -> 0.64382447 | D126: =('Serie x Rama SIPA'!D127/'Serie x Rama SIPA'!D126-1)*100 -> 0.43819957 | E126: =('Serie x Rama SIPA'!E127/'Serie x Rama SIPA'!E126-1)*100 -> -0.53663149 | F126: =('Serie x Rama SIPA'!F127/'Serie x Rama SIPA'!F126-1)*100 -> -0.056426585 | G126: =('Serie x Rama SIPA'!G127/'Serie x Rama SIPA'!G126-1)*100 -> -0.12009109 | H126: =('Serie x Rama SIPA'!H127/'Serie x Rama SIPA'!H126-1)*100 -> -0.35349599 | I126: =('Serie x Rama SIPA'!I127/'Serie x Rama SIPA'!I126-1)*100 -> 0.12153258 | ... Q126: =('Serie x Rama SIPA'!Q127/'Serie x Rama SIPA'!Q126-1)*100 -> -0.26707808
A127: 43556 | B127: =('Serie x Rama SIPA'!B128/'Serie x Rama SIPA'!B127-1)*100 -> 1.5138669 | C127: =('Serie x Rama SIPA'!C128/'Serie x Rama SIPA'!C127-1)*100 -> -1.1764706 | D127: =('Serie x Rama SIPA'!D128/'Serie x Rama SIPA'!D127-1)*100 -> 0.41257647 | E127: =('Serie x Rama SIPA'!E128/'Serie x Rama SIPA'!E127-1)*100 -> -0.35769089 | F127: =('Serie x Rama SIPA'!F128/'Serie x Rama SIPA'!F127-1)*100 -> -0.086031912 | G127: =('Serie x Rama SIPA'!G128/'Serie x Rama SIPA'!G127-1)*100 -> -0.26412384 | H127: =('Serie x Rama SIPA'!H128/'Serie x Rama SIPA'!H127-1)*100 -> -0.30801437 | I127: =('Serie x Rama SIPA'!I128/'Serie x Rama SIPA'!I127-1)*100 -> -0.20579436 | ... Q127: =('Serie x Rama SIPA'!Q128/'Serie x Rama SIPA'!Q127-1)*100 -> -0.11164983
A128: 43586 | B128: =('Serie x Rama SIPA'!B129/'Serie x Rama SIPA'!B128-1)*100 -> -0.10288938 | C128: =('Serie x Rama SIPA'!C129/'Serie x Rama SIPA'!C128-1)*100 -> -8.4300595 | D128: =('Serie x Rama SIPA'!D129/'Serie x Rama SIPA'!D128-1)*100 -> 0.11688864 | E128: =('Serie x Rama SIPA'!E129/'Serie x Rama SIPA'!E128-1)*100 -> -0.26481903 | F128: =('Serie x Rama SIPA'!F129/'Serie x Rama SIPA'!F128-1)*100 -> 0.060543275 | G128: =('Serie x Rama SIPA'!G129/'Serie x Rama SIPA'!G128-1)*100 -> -0.21190256 | H128: =('Serie x Rama SIPA'!H129/'Serie x Rama SIPA'!H128-1)*100 -> -0.20052276 | I128: =('Serie x Rama SIPA'!I129/'Serie x Rama SIPA'!I128-1)*100 -> 0.25150454 | ... Q128: =('Serie x Rama SIPA'!Q129/'Serie x Rama SIPA'!Q128-1)*100 -> -0.10555586
A129: jun-19 | B129: =('Serie x Rama SIPA'!B130/'Serie x Rama SIPA'!B129-1)*100 -> -0.33867294 | C129: =('Serie x Rama SIPA'!C130/'Serie x Rama SIPA'!C129-1)*100 -> 4.2739904 | D129: =('Serie x Rama SIPA'!D130/'Serie x Rama SIPA'!D129-1)*100 -> 0.71348546 | E129: =('Serie x Rama SIPA'!E130/'Serie x Rama SIPA'!E129-1)*100 -> -0.25698882 | F129: =('Serie x Rama SIPA'!F130/'Serie x Rama SIPA'!F129-1)*100 -> 0.14521594 | G129: =('Serie x Rama SIPA'!G130/'Serie x Rama SIPA'!G129-1)*100 -> -1.0465789 | H129: =('Serie x Rama SIPA'!H130/'Serie x Rama SIPA'!H129-1)*100 -> -0.12851443 | I129: =('Serie x Rama SIPA'!I130/'Serie x Rama SIPA'!I129-1)*100 -> 0.0055998566 | ... Q129: =('Serie x Rama SIPA'!Q130/'Serie x Rama SIPA'!Q129-1)*100 -> -0.1237552
A130: 43647 | B130: =('Serie x Rama SIPA'!B131/'Serie x Rama SIPA'!B130-1)*100 -> -0.30304504 | C130: =('Serie x Rama SIPA'!C131/'Serie x Rama SIPA'!C130-1)*100 -> 4.5273903 | D130: =('Serie x Rama SIPA'!D131/'Serie x Rama SIPA'!D130-1)*100 -> 0.59484778 | E130: =('Serie x Rama SIPA'!E131/'Serie x Rama SIPA'!E130-1)*100 -> -0.21928699 | F130: =('Serie x Rama SIPA'!F131/'Serie x Rama SIPA'!F130-1)*100 -> 0.04027927 | G130: =('Serie x Rama SIPA'!G131/'Serie x Rama SIPA'!G130-1)*100 -> -0.84638529 | H130: =('Serie x Rama SIPA'!H131/'Serie x Rama SIPA'!H130-1)*100 -> -0.063984921 | I130: =('Serie x Rama SIPA'!I131/'Serie x Rama SIPA'!I130-1)*100 -> 0.061968277 | ... Q130: =('Serie x Rama SIPA'!Q131/'Serie x Rama SIPA'!Q130-1)*100 -> -0.11294753
A131: 43678 | B131: =('Serie x Rama SIPA'!B132/'Serie x Rama SIPA'!B131-1)*100 -> -0.048780934 | C131: =('Serie x Rama SIPA'!C132/'Serie x Rama SIPA'!C131-1)*100 -> 1.1629641 | D131: =('Serie x Rama SIPA'!D132/'Serie x Rama SIPA'!D131-1)*100 -> 0.14550449 | E131: =('Serie x Rama SIPA'!E132/'Serie x Rama SIPA'!E131-1)*100 -> -0.25316296 | F131: =('Serie x Rama SIPA'!F132/'Serie x Rama SIPA'!F131-1)*100 -> 0.045631459 | G131: =('Serie x Rama SIPA'!G132/'Serie x Rama SIPA'!G131-1)*100 -> -0.87738382 | H131: =('Serie x Rama SIPA'!H132/'Serie x Rama SIPA'!H131-1)*100 -> -0.1533602 | I131: =('Serie x Rama SIPA'!I132/'Serie x Rama SIPA'!I131-1)*100 -> -0.026115018 | ... Q131: =('Serie x Rama SIPA'!Q132/'Serie x Rama SIPA'!Q131-1)*100 -> -0.17293764
A132: 43709 | B132: =('Serie x Rama SIPA'!B133/'Serie x Rama SIPA'!B132-1)*100 -> -0.13329795 | C132: =('Serie x Rama SIPA'!C133/'Serie x Rama SIPA'!C132-1)*100 -> -2.1149595 | D132: =('Serie x Rama SIPA'!D133/'Serie x Rama SIPA'!D132-1)*100 -> 0.11390978 | E132: =('Serie x Rama SIPA'!E133/'Serie x Rama SIPA'!E132-1)*100 -> -0.60551387 | F132: =('Serie x Rama SIPA'!F133/'Serie x Rama SIPA'!F132-1)*100 -> -0.15829577 | G132: =('Serie x Rama SIPA'!G133/'Serie x Rama SIPA'!G132-1)*100 -> -2.6884847 | H132: =('Serie x Rama SIPA'!H133/'Serie x Rama SIPA'!H132-1)*100 -> -0.28620217 | I132: =('Serie x Rama SIPA'!I133/'Serie x Rama SIPA'!I132-1)*100 -> -0.7351432 | ... Q132: =('Serie x Rama SIPA'!Q133/'Serie x Rama SIPA'!Q132-1)*100 -> -0.47523342
A133: oct-19 | B133: =('Serie x Rama SIPA'!B134/'Serie x Rama SIPA'!B133-1)*100 -> 0.072999389 | C133: =('Serie x Rama SIPA'!C134/'Serie x Rama SIPA'!C133-1)*100 -> 0.82812618 | D133: =('Serie x Rama SIPA'!D134/'Serie x Rama SIPA'!D133-1)*100 -> 0.035991687 | E133: =('Serie x Rama SIPA'!E134/'Serie x Rama SIPA'!E133-1)*100 -> -0.43960546 | F133: =('Serie x Rama SIPA'!F134/'Serie x Rama SIPA'!F133-1)*100 -> 0.053744659 | G133: =('Serie x Rama SIPA'!G134/'Serie x Rama SIPA'!G133-1)*100 -> -3.1050254 | H133: =('Serie x Rama SIPA'!H134/'Serie x Rama SIPA'!H133-1)*100 -> -0.29237523 | I133: =('Serie x Rama SIPA'!I134/'Serie x Rama SIPA'!I133-1)*100 -> -0.50675739 | ... Q133: =('Serie x Rama SIPA'!Q134/'Serie x Rama SIPA'!Q133-1)*100 -> -0.38276375
A134: 43770 | B134: =('Serie x Rama SIPA'!B135/'Serie x Rama SIPA'!B134-1)*100 -> 0.13856714 | C134: =('Serie x Rama SIPA'!C135/'Serie x Rama SIPA'!C134-1)*100 -> -3.4794296 | D134: =('Serie x Rama SIPA'!D135/'Serie x Rama SIPA'!D134-1)*100 -> -0.21819364 | E134: =('Serie x Rama SIPA'!E135/'Serie x Rama SIPA'!E134-1)*100 -> -0.54331527 | F134: =('Serie x Rama SIPA'!F135/'Serie x Rama SIPA'!F134-1)*100 -> -0.18129079 | G134: =('Serie x Rama SIPA'!G135/'Serie x Rama SIPA'!G134-1)*100 -> -1.8295126 | H134: =('Serie x Rama SIPA'!H135/'Serie x Rama SIPA'!H134-1)*100 -> -0.21826952 | I134: =('Serie x Rama SIPA'!I135/'Serie x Rama SIPA'!I134-1)*100 -> -0.22255221 | ... Q134: =('Serie x Rama SIPA'!Q135/'Serie x Rama SIPA'!Q134-1)*100 -> -0.3175118
A135: 43800 | B135: =('Serie x Rama SIPA'!B136/'Serie x Rama SIPA'!B135-1)*100 -> -0.83421469 | C135: =('Serie x Rama SIPA'!C136/'Serie x Rama SIPA'!C135-1)*100 -> -0.79678193 | D135: =('Serie x Rama SIPA'!D136/'Serie x Rama SIPA'!D135-1)*100 -> -0.43152581 | E135: =('Serie x Rama SIPA'!E136/'Serie x Rama SIPA'!E135-1)*100 -> -0.24611249 | F135: =('Serie x Rama SIPA'!F136/'Serie x Rama SIPA'!F135-1)*100 -> -0.23005206 | G135: =('Serie x Rama SIPA'!G136/'Serie x Rama SIPA'!G135-1)*100 -> -1.9088289 | H135: =('Serie x Rama SIPA'!H136/'Serie x Rama SIPA'!H135-1)*100 -> -0.27253721 | I135: =('Serie x Rama SIPA'!I136/'Serie x Rama SIPA'!I135-1)*100 -> -0.61878001 | ... Q135: =('Serie x Rama SIPA'!Q136/'Serie x Rama SIPA'!Q135-1)*100 -> -0.36548734
A136: 43831 | B136: =('Serie x Rama SIPA'!B137/'Serie x Rama SIPA'!B136-1)*100 -> -0.36575321 | C136: =('Serie x Rama SIPA'!C137/'Serie x Rama SIPA'!C136-1)*100 -> 3.5012477 | D136: =('Serie x Rama SIPA'!D137/'Serie x Rama SIPA'!D136-1)*100 -> -0.98477857 | E136: =('Serie x Rama SIPA'!E137/'Serie x Rama SIPA'!E136-1)*100 -> -0.023593665 | F136: =('Serie x Rama SIPA'!F137/'Serie x Rama SIPA'!F136-1)*100 -> -0.2562028 | G136: =('Serie x Rama SIPA'!G137/'Serie x Rama SIPA'!G136-1)*100 -> -2.4453637 | H136: =('Serie x Rama SIPA'!H137/'Serie x Rama SIPA'!H136-1)*100 -> 0.072455691 | I136: =('Serie x Rama SIPA'!I137/'Serie x Rama SIPA'!I136-1)*100 -> 0.32922563 | ... Q136: =('Serie x Rama SIPA'!Q137/'Serie x Rama SIPA'!Q136-1)*100 -> -0.22391907
A137: 43862 | B137: =('Serie x Rama SIPA'!B138/'Serie x Rama SIPA'!B137-1)*100 -> 0.2455532 | C137: =('Serie x Rama SIPA'!C138/'Serie x Rama SIPA'!C137-1)*100 -> 1.6273638 | D137: =('Serie x Rama SIPA'!D138/'Serie x Rama SIPA'!D137-1)*100 -> 0.1993865 | E137: =('Serie x Rama SIPA'!E138/'Serie x Rama SIPA'!E137-1)*100 -> 0.042036134 | F137: =('Serie x Rama SIPA'!F138/'Serie x Rama SIPA'!F137-1)*100 -> -0.15276463 | G137: =('Serie x Rama SIPA'!G138/'Serie x Rama SIPA'!G137-1)*100 -> -1.512988 | H137: =('Serie x Rama SIPA'!H138/'Serie x Rama SIPA'!H137-1)*100 -> 0.096926905 | I137: =('Serie x Rama SIPA'!I138/'Serie x Rama SIPA'!I137-1)*100 -> 0.78466225 | ... Q137: =('Serie x Rama SIPA'!Q138/'Serie x Rama SIPA'!Q137-1)*100 -> 0.033999729
A138: 43891 | B138: =('Serie x Rama SIPA'!B139/'Serie x Rama SIPA'!B138-1)*100 -> -0.34219386 | C138: =('Serie x Rama SIPA'!C139/'Serie x Rama SIPA'!C138-1)*100 -> -6.0864408 | D138: =('Serie x Rama SIPA'!D139/'Serie x Rama SIPA'!D138-1)*100 -> -0.46862674 | E138: =('Serie x Rama SIPA'!E139/'Serie x Rama SIPA'!E138-1)*100 -> -0.248425 | F138: =('Serie x Rama SIPA'!F139/'Serie x Rama SIPA'!F138-1)*100 -> -0.041973002 | G138: =('Serie x Rama SIPA'!G139/'Serie x Rama SIPA'!G138-1)*100 -> -3.9890651 | H138: =('Serie x Rama SIPA'!H139/'Serie x Rama SIPA'!H138-1)*100 -> -0.26752485 | I138: =('Serie x Rama SIPA'!I139/'Serie x Rama SIPA'!I138-1)*100 -> -2.4302468 | ... Q138: =('Serie x Rama SIPA'!Q139/'Serie x Rama SIPA'!Q138-1)*100 -> -0.71912698
A139: 43922 | B139: =('Serie x Rama SIPA'!B140/'Serie x Rama SIPA'!B139-1)*100 -> -0.48788019 | C139: =('Serie x Rama SIPA'!C140/'Serie x Rama SIPA'!C139-1)*100 -> 0.18945374 | D139: =('Serie x Rama SIPA'!D140/'Serie x Rama SIPA'!D139-1)*100 -> -0.94639836 | E139: =('Serie x Rama SIPA'!E140/'Serie x Rama SIPA'!E139-1)*100 -> -0.49466949 | F139: =('Serie x Rama SIPA'!F140/'Serie x Rama SIPA'!F139-1)*100 -> -0.2871617 | G139: =('Serie x Rama SIPA'!G140/'Serie x Rama SIPA'!G139-1)*100 -> -10.12767 | H139: =('Serie x Rama SIPA'!H140/'Serie x Rama SIPA'!H139-1)*100 -> -0.92917535 | I139: =('Serie x Rama SIPA'!I140/'Serie x Rama SIPA'!I139-1)*100 -> -6.1614816 | ... Q139: =('Serie x Rama SIPA'!Q140/'Serie x Rama SIPA'!Q139-1)*100 -> -1.8032731
A140: 43952 | B140: =('Serie x Rama SIPA'!B141/'Serie x Rama SIPA'!B140-1)*100 -> -0.1303255 | C140: =('Serie x Rama SIPA'!C141/'Serie x Rama SIPA'!C140-1)*100 -> 1.6624645 | D140: =('Serie x Rama SIPA'!D141/'Serie x Rama SIPA'!D140-1)*100 -> -0.87781109 | E140: =('Serie x Rama SIPA'!E141/'Serie x Rama SIPA'!E140-1)*100 -> -0.12282001 | F140: =('Serie x Rama SIPA'!F141/'Serie x Rama SIPA'!F140-1)*100 -> -0.089656859 | G140: =('Serie x Rama SIPA'!G141/'Serie x Rama SIPA'!G140-1)*100 -> -2.261305 | H140: =('Serie x Rama SIPA'!H141/'Serie x Rama SIPA'!H140-1)*100 -> -0.24650721 | I140: =('Serie x Rama SIPA'!I141/'Serie x Rama SIPA'!I140-1)*100 -> -0.63837143 | ... Q140: =('Serie x Rama SIPA'!Q141/'Serie x Rama SIPA'!Q140-1)*100 -> -0.42914413
A141: 43983 | B141: =('Serie x Rama SIPA'!B142/'Serie x Rama SIPA'!B141-1)*100 -> -0.44461706 | C141: =('Serie x Rama SIPA'!C142/'Serie x Rama SIPA'!C141-1)*100 -> -0.63551112 | D141: =('Serie x Rama SIPA'!D142/'Serie x Rama SIPA'!D141-1)*100 -> -1.4434431 | E141: =('Serie x Rama SIPA'!E142/'Serie x Rama SIPA'!E141-1)*100 -> 0.13960885 | F141: =('Serie x Rama SIPA'!F142/'Serie x Rama SIPA'!F141-1)*100 -> 0.10605319 | G141: =('Serie x Rama SIPA'!G142/'Serie x Rama SIPA'!G141-1)*100 -> -0.34229197 | H141: =('Serie x Rama SIPA'!H142/'Serie x Rama SIPA'!H141-1)*100 -> -0.23364061 | I141: =('Serie x Rama SIPA'!I142/'Serie x Rama SIPA'!I141-1)*100 -> -1.1635758 | ... Q141: =('Serie x Rama SIPA'!Q142/'Serie x Rama SIPA'!Q141-1)*100 -> -0.10450678
A142: 44013 | B142: =('Serie x Rama SIPA'!B143/'Serie x Rama SIPA'!B142-1)*100 -> -0.18475808 | C142: =('Serie x Rama SIPA'!C143/'Serie x Rama SIPA'!C142-1)*100 -> 2.4569066 | D142: =('Serie x Rama SIPA'!D143/'Serie x Rama SIPA'!D142-1)*100 -> -1.3264383 | E142: =('Serie x Rama SIPA'!E143/'Serie x Rama SIPA'!E142-1)*100 -> 0.20206708 | F142: =('Serie x Rama SIPA'!F143/'Serie x Rama SIPA'!F142-1)*100 -> 0.040746475 | G142: =('Serie x Rama SIPA'!G143/'Serie x Rama SIPA'!G142-1)*100 -> -2.0401299 | H142: =('Serie x Rama SIPA'!H143/'Serie x Rama SIPA'!H142-1)*100 -> -0.168659 | I142: =('Serie x Rama SIPA'!I143/'Serie x Rama SIPA'!I142-1)*100 -> -2.6927687 | ... Q142: =('Serie x Rama SIPA'!Q143/'Serie x Rama SIPA'!Q142-1)*100 -> -0.25509321
A143: 44044 | B143: =('Serie x Rama SIPA'!B144/'Serie x Rama SIPA'!B143-1)*100 -> 0.062221138 | C143: =('Serie x Rama SIPA'!C144/'Serie x Rama SIPA'!C143-1)*100 -> -1.6595615 | D143: =('Serie x Rama SIPA'!D144/'Serie x Rama SIPA'!D143-1)*100 -> -0.26761488 | E143: =('Serie x Rama SIPA'!E144/'Serie x Rama SIPA'!E143-1)*100 -> 0.31883892 | F143: =('Serie x Rama SIPA'!F144/'Serie x Rama SIPA'!F143-1)*100 -> 0.021722602 | G143: =('Serie x Rama SIPA'!G144/'Serie x Rama SIPA'!G143-1)*100 -> 0.63792186 | H143: =('Serie x Rama SIPA'!H144/'Serie x Rama SIPA'!H143-1)*100 -> -0.041413205 | I143: =('Serie x Rama SIPA'!I144/'Serie x Rama SIPA'!I143-1)*100 -> -1.837822 | ... Q143: =('Serie x Rama SIPA'!Q144/'Serie x Rama SIPA'!Q143-1)*100 -> 0.040748776
A144: 44075 | B144: =('Serie x Rama SIPA'!B145/'Serie x Rama SIPA'!B144-1)*100 -> -0.40152988 | C144: =('Serie x Rama SIPA'!C145/'Serie x Rama SIPA'!C144-1)*100 -> 1.0295711 | D144: =('Serie x Rama SIPA'!D145/'Serie x Rama SIPA'!D144-1)*100 -> -0.56151161 | E144: =('Serie x Rama SIPA'!E145/'Serie x Rama SIPA'!E144-1)*100 -> 0.38920243 | F144: =('Serie x Rama SIPA'!F145/'Serie x Rama SIPA'!F144-1)*100 -> 0.09230101 | G144: =('Serie x Rama SIPA'!G145/'Serie x Rama SIPA'!G144-1)*100 -> 0.97163356 | H144: =('Serie x Rama SIPA'!H145/'Serie x Rama SIPA'!H144-1)*100 -> 0.038229341 | I144: =('Serie x Rama SIPA'!I145/'Serie x Rama SIPA'!I144-1)*100 -> -1.7305077 | ... Q144: =('Serie x Rama SIPA'!Q145/'Serie x Rama SIPA'!Q144-1)*100 -> 0.07759989
A145: 44105 | B145: =('Serie x Rama SIPA'!B146/'Serie x Rama SIPA'!B145-1)*100 -> -0.44769892 | C145: =('Serie x Rama SIPA'!C146/'Serie x Rama SIPA'!C145-1)*100 -> 3.3713892 | D145: =('Serie x Rama SIPA'!D146/'Serie x Rama SIPA'!D145-1)*100 -> -0.88949966 | E145: =('Serie x Rama SIPA'!E146/'Serie x Rama SIPA'!E145-1)*100 -> 0.38217474 | F145: =('Serie x Rama SIPA'!F146/'Serie x Rama SIPA'!F145-1)*100 -> -0.021697857 | G145: =('Serie x Rama SIPA'!G146/'Serie x Rama SIPA'!G145-1)*100 -> 1.8486139 | H145: =('Serie x Rama SIPA'!H146/'Serie x Rama SIPA'!H145-1)*100 -> -0.09160565 | I145: =('Serie x Rama SIPA'!I146/'Serie x Rama SIPA'!I145-1)*100 -> -2.0029826 | ... Q145: =('Serie x Rama SIPA'!Q146/'Serie x Rama SIPA'!Q145-1)*100 -> 0.02218622
A146: 44136 | B146: =('Serie x Rama SIPA'!B147/'Serie x Rama SIPA'!B146-1)*100 -> 0.38321662 | C146: =('Serie x Rama SIPA'!C147/'Serie x Rama SIPA'!C146-1)*100 -> 1.1859758 | D146: =('Serie x Rama SIPA'!D147/'Serie x Rama SIPA'!D146-1)*100 -> -0.27731209 | E146: =('Serie x Rama SIPA'!E147/'Serie x Rama SIPA'!E146-1)*100 -> 0.2489568 | F146: =('Serie x Rama SIPA'!F147/'Serie x Rama SIPA'!F146-1)*100 -> 0.063751289 | G146: =('Serie x Rama SIPA'!G147/'Serie x Rama SIPA'!G146-1)*100 -> 1.8375851 | H146: =('Serie x Rama SIPA'!H147/'Serie x Rama SIPA'!H146-1)*100 -> -0.038341278 | I146: =('Serie x Rama SIPA'!I147/'Serie x Rama SIPA'!I146-1)*100 -> -1.8511937 | ... Q146: =('Serie x Rama SIPA'!Q147/'Serie x Rama SIPA'!Q146-1)*100 -> 0.10818338
A147: dic-20 | B147: =('Serie x Rama SIPA'!B148/'Serie x Rama SIPA'!B147-1)*100 -> 0.22792202 | C147: =('Serie x Rama SIPA'!C148/'Serie x Rama SIPA'!C147-1)*100 -> -4.0656362 | D147: =('Serie x Rama SIPA'!D148/'Serie x Rama SIPA'!D147-1)*100 -> -0.084688989 | E147: =('Serie x Rama SIPA'!E148/'Serie x Rama SIPA'!E147-1)*100 -> 0.08006793 | F147: =('Serie x Rama SIPA'!F148/'Serie x Rama SIPA'!F147-1)*100 -> 0.21959849 | G147: =('Serie x Rama SIPA'!G148/'Serie x Rama SIPA'!G147-1)*100 -> 1.1890031 | H147: =('Serie x Rama SIPA'!H148/'Serie x Rama SIPA'!H147-1)*100 -> -0.32890943 | I147: =('Serie x Rama SIPA'!I148/'Serie x Rama SIPA'!I147-1)*100 -> -1.1150466 | ... Q147: =('Serie x Rama SIPA'!Q148/'Serie x Rama SIPA'!Q147-1)*100 -> -0.036911664
A148: 44197 | B148: =('Serie x Rama SIPA'!B149/'Serie x Rama SIPA'!B148-1)*100 -> 0.20046608 | C148: =('Serie x Rama SIPA'!C149/'Serie x Rama SIPA'!C148-1)*100 -> 1.7638974 | D148: =('Serie x Rama SIPA'!D149/'Serie x Rama SIPA'!D148-1)*100 -> 1.1702047 | E148: =('Serie x Rama SIPA'!E149/'Serie x Rama SIPA'!E148-1)*100 -> 0.20192758 | F148: =('Serie x Rama SIPA'!F149/'Serie x Rama SIPA'!F148-1)*100 -> 0.18936064 | G148: =('Serie x Rama SIPA'!G149/'Serie x Rama SIPA'!G148-1)*100 -> 2.2271846 | H148: =('Serie x Rama SIPA'!H149/'Serie x Rama SIPA'!H148-1)*100 -> 0.079353052 | I148: =('Serie x Rama SIPA'!I149/'Serie x Rama SIPA'!I148-1)*100 -> -1.6623242 | ... Q148: =('Serie x Rama SIPA'!Q149/'Serie x Rama SIPA'!Q148-1)*100 -> 0.31960013
A149: 44228 | B149: =('Serie x Rama SIPA'!B150/'Serie x Rama SIPA'!B149-1)*100 -> 0.036886988 | C149: =('Serie x Rama SIPA'!C150/'Serie x Rama SIPA'!C149-1)*100 -> 2.9564043 | D149: =('Serie x Rama SIPA'!D150/'Serie x Rama SIPA'!D149-1)*100 -> 0.25759338 | E149: =('Serie x Rama SIPA'!E150/'Serie x Rama SIPA'!E149-1)*100 -> 0.20170295 | F149: =('Serie x Rama SIPA'!F150/'Serie x Rama SIPA'!F149-1)*100 -> 0.082351194 | G149: =('Serie x Rama SIPA'!G150/'Serie x Rama SIPA'!G149-1)*100 -> 1.5606038 | H149: =('Serie x Rama SIPA'!H150/'Serie x Rama SIPA'!H149-1)*100 -> 0.29990759 | I149: =('Serie x Rama SIPA'!I150/'Serie x Rama SIPA'!I149-1)*100 -> -0.024824083 | ... Q149: =('Serie x Rama SIPA'!Q150/'Serie x Rama SIPA'!Q149-1)*100 -> 0.20960106
A150: 44256 | B150: =('Serie x Rama SIPA'!B151/'Serie x Rama SIPA'!B150-1)*100 -> 0.60059872 | C150: =('Serie x Rama SIPA'!C151/'Serie x Rama SIPA'!C150-1)*100 -> -0.66321697 | D150: =('Serie x Rama SIPA'!D151/'Serie x Rama SIPA'!D150-1)*100 -> 0.14966886 | E150: =('Serie x Rama SIPA'!E151/'Serie x Rama SIPA'!E150-1)*100 -> 0.44425403 | F150: =('Serie x Rama SIPA'!F151/'Serie x Rama SIPA'!F150-1)*100 -> 0.036420536 | G150: =('Serie x Rama SIPA'!G151/'Serie x Rama SIPA'!G150-1)*100 -> 1.6788768 | H150: =('Serie x Rama SIPA'!H151/'Serie x Rama SIPA'!H150-1)*100 -> 0.43488325 | I150: =('Serie x Rama SIPA'!I151/'Serie x Rama SIPA'!I150-1)*100 -> 0.47750475 | ... Q150: =('Serie x Rama SIPA'!Q151/'Serie x Rama SIPA'!Q150-1)*100 -> 0.41212359
A151: 44287 | B151: =('Serie x Rama SIPA'!B152/'Serie x Rama SIPA'!B151-1)*100 -> 0.72871627 | C151: =('Serie x Rama SIPA'!C152/'Serie x Rama SIPA'!C151-1)*100 -> -1.3499633 | D151: =('Serie x Rama SIPA'!D152/'Serie x Rama SIPA'!D151-1)*100 -> 0.17933422 | E151: =('Serie x Rama SIPA'!E152/'Serie x Rama SIPA'!E151-1)*100 -> 0.49454157 | F151: =('Serie x Rama SIPA'!F152/'Serie x Rama SIPA'!F151-1)*100 -> 0.11326708 | G151: =('Serie x Rama SIPA'!G152/'Serie x Rama SIPA'!G151-1)*100 -> 1.5854007 | H151: =('Serie x Rama SIPA'!H152/'Serie x Rama SIPA'!H151-1)*100 -> 0.4074921 | I151: =('Serie x Rama SIPA'!I152/'Serie x Rama SIPA'!I151-1)*100 -> 0.40299969 | ... Q151: =('Serie x Rama SIPA'!Q152/'Serie x Rama SIPA'!Q151-1)*100 -> 0.58398196
A152: 44317 | B152: =('Serie x Rama SIPA'!B153/'Serie x Rama SIPA'!B152-1)*100 -> 0.1236578 | C152: =('Serie x Rama SIPA'!C153/'Serie x Rama SIPA'!C152-1)*100 -> 2.6476275 | D152: =('Serie x Rama SIPA'!D153/'Serie x Rama SIPA'!D152-1)*100 -> 0.66384058 | E152: =('Serie x Rama SIPA'!E153/'Serie x Rama SIPA'!E152-1)*100 -> 0.12183297 | F152: =('Serie x Rama SIPA'!F153/'Serie x Rama SIPA'!F152-1)*100 -> -0.030978517 | G152: =('Serie x Rama SIPA'!G153/'Serie x Rama SIPA'!G152-1)*100 -> 0.36854225 | H152: =('Serie x Rama SIPA'!H153/'Serie x Rama SIPA'!H152-1)*100 -> 0.041191729 | I152: =('Serie x Rama SIPA'!I153/'Serie x Rama SIPA'!I152-1)*100 -> -1.5066029 | ... Q152: =('Serie x Rama SIPA'!Q153/'Serie x Rama SIPA'!Q152-1)*100 -> 0.026122203
A153: 44348 | B153: =('Serie x Rama SIPA'!B154/'Serie x Rama SIPA'!B153-1)*100 -> -0.074226245 | C153: =('Serie x Rama SIPA'!C154/'Serie x Rama SIPA'!C153-1)*100 -> 0.88392987 | D153: =('Serie x Rama SIPA'!D154/'Serie x Rama SIPA'!D153-1)*100 -> 0.59895029 | E153: =('Serie x Rama SIPA'!E154/'Serie x Rama SIPA'!E153-1)*100 -> 0.1056641 | F153: =('Serie x Rama SIPA'!F154/'Serie x Rama SIPA'!F153-1)*100 -> 0.02425157 | G153: =('Serie x Rama SIPA'!G154/'Serie x Rama SIPA'!G153-1)*100 -> 1.3880732 | H153: =('Serie x Rama SIPA'!H154/'Serie x Rama SIPA'!H153-1)*100 -> -0.067203753 | I153: =('Serie x Rama SIPA'!I154/'Serie x Rama SIPA'!I153-1)*100 -> -1.042833 | ... Q153: =('Serie x Rama SIPA'!Q154/'Serie x Rama SIPA'!Q153-1)*100 -> 0.077142123
A154: 44378 | B154: =('Serie x Rama SIPA'!B155/'Serie x Rama SIPA'!B154-1)*100 -> 0.086918463 | C154: =('Serie x Rama SIPA'!C155/'Serie x Rama SIPA'!C154-1)*100 -> -0.34472853 | D154: =('Serie x Rama SIPA'!D155/'Serie x Rama SIPA'!D154-1)*100 -> 0.19396023 | E154: =('Serie x Rama SIPA'!E155/'Serie x Rama SIPA'!E154-1)*100 -> -0.016992705 | F154: =('Serie x Rama SIPA'!F155/'Serie x Rama SIPA'!F154-1)*100 -> 0.0067349138 | G154: =('Serie x Rama SIPA'!G155/'Serie x Rama SIPA'!G154-1)*100 -> 1.1847405 | H154: =('Serie x Rama SIPA'!H155/'Serie x Rama SIPA'!H154-1)*100 -> -0.030947221 | I154: =('Serie x Rama SIPA'!I155/'Serie x Rama SIPA'!I154-1)*100 -> 0.42832792 | ... Q154: =('Serie x Rama SIPA'!Q155/'Serie x Rama SIPA'!Q154-1)*100 -> 0.019723943
A155: 44409 | B155: =('Serie x Rama SIPA'!B156/'Serie x Rama SIPA'!B155-1)*100 -> -0.14165876 | C155: =('Serie x Rama SIPA'!C156/'Serie x Rama SIPA'!C155-1)*100 -> 1.4629576 | D155: =('Serie x Rama SIPA'!D156/'Serie x Rama SIPA'!D155-1)*100 -> 0.31488152 | E155: =('Serie x Rama SIPA'!E156/'Serie x Rama SIPA'!E155-1)*100 -> 0.13983146 | F155: =('Serie x Rama SIPA'!F156/'Serie x Rama SIPA'!F155-1)*100 -> -0.030978517 | G155: =('Serie x Rama SIPA'!G156/'Serie x Rama SIPA'!G155-1)*100 -> 1.1425132 | H155: =('Serie x Rama SIPA'!H156/'Serie x Rama SIPA'!H155-1)*100 -> 0.18728411 | I155: =('Serie x Rama SIPA'!I156/'Serie x Rama SIPA'!I155-1)*100 -> 1.5483634 | ... Q155: =('Serie x Rama SIPA'!Q156/'Serie x Rama SIPA'!Q155-1)*100 -> 0.23162592
A156: 44440 | B156: =('Serie x Rama SIPA'!B157/'Serie x Rama SIPA'!B156-1)*100 -> 0.11688007 | C156: =('Serie x Rama SIPA'!C157/'Serie x Rama SIPA'!C156-1)*100 -> 4.4392357 | D156: =('Serie x Rama SIPA'!D157/'Serie x Rama SIPA'!D156-1)*100 -> 0.37862595 | E156: =('Serie x Rama SIPA'!E157/'Serie x Rama SIPA'!E156-1)*100 -> 0.29902802 | F156: =('Serie x Rama SIPA'!F157/'Serie x Rama SIPA'!F156-1)*100 -> 0.14955135 | G156: =('Serie x Rama SIPA'!G157/'Serie x Rama SIPA'!G156-1)*100 -> 1.1761563 | H156: =('Serie x Rama SIPA'!H157/'Serie x Rama SIPA'!H156-1)*100 -> 0.37894233 | I156: =('Serie x Rama SIPA'!I157/'Serie x Rama SIPA'!I156-1)*100 -> 1.8347532 | ... Q156: =('Serie x Rama SIPA'!Q157/'Serie x Rama SIPA'!Q156-1)*100 -> 0.34090604
A157: 44470 | B157: =('Serie x Rama SIPA'!B158/'Serie x Rama SIPA'!B157-1)*100 -> -0.67674338 | C157: =('Serie x Rama SIPA'!C158/'Serie x Rama SIPA'!C157-1)*100 -> -7.1273123 | D157: =('Serie x Rama SIPA'!D158/'Serie x Rama SIPA'!D157-1)*100 -> 0.46602178 | E157: =('Serie x Rama SIPA'!E158/'Serie x Rama SIPA'!E157-1)*100 -> 0.10099039 | F157: =('Serie x Rama SIPA'!F158/'Serie x Rama SIPA'!F157-1)*100 -> -0.0067264876 | G157: =('Serie x Rama SIPA'!G158/'Serie x Rama SIPA'!G157-1)*100 -> 1.4082077 | H157: =('Serie x Rama SIPA'!H158/'Serie x Rama SIPA'!H157-1)*100 -> 0.3043023 | I157: =('Serie x Rama SIPA'!I158/'Serie x Rama SIPA'!I157-1)*100 -> 2.01025 | ... Q157: =('Serie x Rama SIPA'!Q158/'Serie x Rama SIPA'!Q157-1)*100 -> 0.24379841
A158: 44501 | B158: =('Serie x Rama SIPA'!B159/'Serie x Rama SIPA'!B158-1)*100 -> -0.82680511 | C158: =('Serie x Rama SIPA'!C159/'Serie x Rama SIPA'!C158-1)*100 -> -0.32952548 | D158: =('Serie x Rama SIPA'!D159/'Serie x Rama SIPA'!D158-1)*100 -> 0.20952427 | E158: =('Serie x Rama SIPA'!E159/'Serie x Rama SIPA'!E158-1)*100 -> 0.38146228 | F158: =('Serie x Rama SIPA'!F159/'Serie x Rama SIPA'!F158-1)*100 -> 0.06054246 | G158: =('Serie x Rama SIPA'!G159/'Serie x Rama SIPA'!G158-1)*100 -> 1.1301008 | H158: =('Serie x Rama SIPA'!H159/'Serie x Rama SIPA'!H158-1)*100 -> 0.49444225 | I158: =('Serie x Rama SIPA'!I159/'Serie x Rama SIPA'!I158-1)*100 -> 2.4285708 | ... Q158: =('Serie x Rama SIPA'!Q159/'Serie x Rama SIPA'!Q158-1)*100 -> 0.39918097
A159: 44531 | B159: =('Serie x Rama SIPA'!B160/'Serie x Rama SIPA'!B159-1)*100 -> 0.46907249 | C159: =('Serie x Rama SIPA'!C160/'Serie x Rama SIPA'!C159-1)*100 -> 0.35265594 | D159: =('Serie x Rama SIPA'!D160/'Serie x Rama SIPA'!D159-1)*100 -> 0.38916619 | E159: =('Serie x Rama SIPA'!E160/'Serie x Rama SIPA'!E159-1)*100 -> 0.47739927 | F159: =('Serie x Rama SIPA'!F160/'Serie x Rama SIPA'!F159-1)*100 -> 0.13176825 | G159: =('Serie x Rama SIPA'!G160/'Serie x Rama SIPA'!G159-1)*100 -> 1.3015085 | H159: =('Serie x Rama SIPA'!H160/'Serie x Rama SIPA'!H159-1)*100 -> 0.38866426 | I159: =('Serie x Rama SIPA'!I160/'Serie x Rama SIPA'!I159-1)*100 -> 2.2689538 | ... Q159: =('Serie x Rama SIPA'!Q160/'Serie x Rama SIPA'!Q159-1)*100 -> 0.5441956
... A213: 46174 | B213: =('Serie x Rama SIPA'!B214/'Serie x Rama SIPA'!B213-1)*100 -> -0.15326218 | C213: =('Serie x Rama SIPA'!C214/'Serie x Rama SIPA'!C213-1)*100 -> 2.391351 | D213: =('Serie x Rama SIPA'!D214/'Serie x Rama SIPA'!D213-1)*100 -> 0.22820262 | E213: =('Serie x Rama SIPA'!E214/'Serie x Rama SIPA'!E213-1)*100 -> -0.23114156 | F213: =('Serie x Rama SIPA'!F214/'Serie x Rama SIPA'!F213-1)*100 -> 0.086483653 | G213: =('Serie x Rama SIPA'!G214/'Serie x Rama SIPA'!G213-1)*100 -> 0.0066118325 | H213: =('Serie x Rama SIPA'!H214/'Serie x Rama SIPA'!H213-1)*100 -> -0.17023251 | I213: =('Serie x Rama SIPA'!I214/'Serie x Rama SIPA'!I213-1)*100 -> -0.30217596 | ... Q213: =('Serie x Rama SIPA'!Q214/'Serie x Rama SIPA'!Q213-1)*100 -> -0.10209305
A215: Notas:
A216: * Los datos tienen carácter provisorio, ya que se encuentran sujetos a leves ajustes en los próximos meses
A217: El empleo perteneciente a las empresas con participación accionaria privada y estatal se incluye dentro del sector privado.
A218: Fuente: Observatorio de Empleo y Dinámica Empresarial, Dirección Nacional de Estudios y Estadísticas Laborales, Secretaría de Trabajo, Empleo y Seguridad Social, Ministerio de Capital Humano, sobre la base del SIPA (ARCA).

Sheet Var. Interanual
A1: Variación interanual de los Asalariados registrados del sector privado según rama de actividad de la ocupación principal. Total país.
A2: Desde Enero de 2010 en adelante (en %)
A4: Período | B4: Agricultura, ganaderia, caza y silvicultura | C4: Pesca | D4: Explotacion de minas y canteras | E4: Industrias manufactureras | F4: Suministro de Electricidad, gas y agua | G4: Construcción | H4: Comercio y reparaciones | I4: Hoteles y restaurantes | J4: Transporte, almacen. y comunicación | K4: Intermediacion financiera | L4: Actividades inmobiliarias, empresariales y de alquiler | M4: Enseñanza | N4: Servicios sociales y de salud | O4: Servicios comunitarios, sociales y personales | P4: Sin Especificar | Q4: Total
A5: 40179 | B5: =('Serie x Rama SIPA'!B17/'Serie x Rama SIPA'!B5-1)*100 -> -2.8855491 | C5: =('Serie x Rama SIPA'!C17/'Serie x Rama SIPA'!C5-1)*100 -> -4.0465086 | D5: =('Serie x Rama SIPA'!D17/'Serie x Rama SIPA'!D5-1)*100 -> -2.5563581 | E5: =('Serie x Rama SIPA'!E17/'Serie x Rama SIPA'!E5-1)*100 -> -1.2267377 | F5: =('Serie x Rama SIPA'!F17/'Serie x Rama SIPA'!F5-1)*100 -> 3.2781761 | G5: =('Serie x Rama SIPA'!G17/'Serie x Rama SIPA'!G5-1)*100 -> -3.8785793 | H5: =('Serie x Rama SIPA'!H17/'Serie x Rama SIPA'!H5-1)*100 -> 1.1555857 | I5: =('Serie x Rama SIPA'!I17/'Serie x Rama SIPA'!I5-1)*100 -> 2.0074581 | ... Q5: =('Serie x Rama SIPA'!Q17/'Serie x Rama SIPA'!Q5-1)*100 -> -0.19053475
A6: 40210 | B6: =('Serie x Rama SIPA'!B18/'Serie x Rama SIPA'!B6-1)*100 -> -1.5317479 | C6: =('Serie x Rama SIPA'!C18/'Serie x Rama SIPA'!C6-1)*100 -> -3.7931948 | D6: =('Serie x Rama SIPA'!D18/'Serie x Rama SIPA'!D6-1)*100 -> -1.5994019 | E6: =('Serie x Rama SIPA'!E18/'Serie x Rama SIPA'!E6-1)*100 -> -0.34790873 | F6: =('Serie x Rama SIPA'!F18/'Serie x Rama SIPA'!F6-1)*100 -> 2.9692062 | G6: =('Serie x Rama SIPA'!G18/'Serie x Rama SIPA'!G6-1)*100 -> -2.8322581 | H6: =('Serie x Rama SIPA'!H18/'Serie x Rama SIPA'!H6-1)*100 -> 1.5353375 | I6: =('Serie x Rama SIPA'!I18/'Serie x Rama SIPA'!I6-1)*100 -> 1.9866643 | ... Q6: =('Serie x Rama SIPA'!Q18/'Serie x Rama SIPA'!Q6-1)*100 -> 0.56814586
A7: 40238 | B7: =('Serie x Rama SIPA'!B19/'Serie x Rama SIPA'!B7-1)*100 -> -1.0661007 | C7: =('Serie x Rama SIPA'!C19/'Serie x Rama SIPA'!C7-1)*100 -> -4.8312984 | D7: =('Serie x Rama SIPA'!D19/'Serie x Rama SIPA'!D7-1)*100 -> 0.38355187 | E7: =('Serie x Rama SIPA'!E19/'Serie x Rama SIPA'!E7-1)*100 -> 0.76221494 | F7: =('Serie x Rama SIPA'!F19/'Serie x Rama SIPA'!F7-1)*100 -> 3.0205656 | G7: =('Serie x Rama SIPA'!G19/'Serie x Rama SIPA'!G7-1)*100 -> -1.955093 | H7: =('Serie x Rama SIPA'!H19/'Serie x Rama SIPA'!H7-1)*100 -> 1.9922168 | I7: =('Serie x Rama SIPA'!I19/'Serie x Rama SIPA'!I7-1)*100 -> 2.1524182 | ... Q7: =('Serie x Rama SIPA'!Q19/'Serie x Rama SIPA'!Q7-1)*100 -> 1.2119144
A8: 40269 | B8: =('Serie x Rama SIPA'!B20/'Serie x Rama SIPA'!B8-1)*100 -> 0.153256 | C8: =('Serie x Rama SIPA'!C20/'Serie x Rama SIPA'!C8-1)*100 -> -5.2135185 | D8: =('Serie x Rama SIPA'!D20/'Serie x Rama SIPA'!D8-1)*100 -> 1.1578397 | E8: =('Serie x Rama SIPA'!E20/'Serie x Rama SIPA'!E8-1)*100 -> 1.8297789 | F8: =('Serie x Rama SIPA'!F20/'Serie x Rama SIPA'!F8-1)*100 -> 2.7815418 | G8: =('Serie x Rama SIPA'!G20/'Serie x Rama SIPA'!G8-1)*100 -> -1.2766751 | H8: =('Serie x Rama SIPA'!H20/'Serie x Rama SIPA'!H8-1)*100 -> 2.479624 | I8: =('Serie x Rama SIPA'!I20/'Serie x Rama SIPA'!I8-1)*100 -> 2.3845014 | ... Q8: =('Serie x Rama SIPA'!Q20/'Serie x Rama SIPA'!Q8-1)*100 -> 1.8756594
A9: 40299 | B9: =('Serie x Rama SIPA'!B21/'Serie x Rama SIPA'!B9-1)*100 -> -0.043067514 | C9: =('Serie x Rama SIPA'!C21/'Serie x Rama SIPA'!C9-1)*100 -> -7.0885088 | D9: =('Serie x Rama SIPA'!D21/'Serie x Rama SIPA'!D9-1)*100 -> 1.4990668 | E9: =('Serie x Rama SIPA'!E21/'Serie x Rama SIPA'!E9-1)*100 -> 2.4174527 | F9: =('Serie x Rama SIPA'!F21/'Serie x Rama SIPA'!F9-1)*100 -> 2.7512705 | G9: =('Serie x Rama SIPA'!G21/'Serie x Rama SIPA'!G9-1)*100 -> -1.1029542 | H9: =('Serie x Rama SIPA'!H21/'Serie x Rama SIPA'!H9-1)*100 -> 2.7945557 | I9: =('Serie x Rama SIPA'!I21/'Serie x Rama SIPA'!I9-1)*100 -> 2.9141397 | ... Q9: =('Serie x Rama SIPA'!Q21/'Serie x Rama SIPA'!Q9-1)*100 -> 2.1907043
A10: 40330 | B10: =('Serie x Rama SIPA'!B22/'Serie x Rama SIPA'!B10-1)*100 -> -0.60418148 | C10: =('Serie x Rama SIPA'!C22/'Serie x Rama SIPA'!C10-1)*100 -> -5.579628 | D10: =('Serie x Rama SIPA'!D22/'Serie x Rama SIPA'!D10-1)*100 -> 1.8626118 | E10: =('Serie x Rama SIPA'!E22/'Serie x Rama SIPA'!E10-1)*100 -> 2.5477433 | F10: =('Serie x Rama SIPA'!F22/'Serie x Rama SIPA'!F10-1)*100 -> 1.555824 | G10: =('Serie x Rama SIPA'!G22/'Serie x Rama SIPA'!G10-1)*100 -> -1.1265848 | H10: =('Serie x Rama SIPA'!H22/'Serie x Rama SIPA'!H10-1)*100 -> 3.0779563 | I10: =('Serie x Rama SIPA'!I22/'Serie x Rama SIPA'!I10-1)*100 -> 3.6154422 | ... Q10: =('Serie x Rama SIPA'!Q22/'Serie x Rama SIPA'!Q10-1)*100 -> 2.3807496
A11: 40360 | B11: =('Serie x Rama SIPA'!B23/'Serie x Rama SIPA'!B11-1)*100 -> -1.0492756 | C11: =('Serie x Rama SIPA'!C23/'Serie x Rama SIPA'!C11-1)*100 -> 3.3158576 | D11: =('Serie x Rama SIPA'!D23/'Serie x Rama SIPA'!D11-1)*100 -> 2.732633 | E11: =('Serie x Rama SIPA'!E23/'Serie x Rama SIPA'!E11-1)*100 -> 2.7827335 | F11: =('Serie x Rama SIPA'!F23/'Serie x Rama SIPA'!F11-1)*100 -> 1.6267339 | G11: =('Serie x Rama SIPA'!G23/'Serie x Rama SIPA'!G11-1)*100 -> -0.29157777 | H11: =('Serie x Rama SIPA'!H23/'Serie x Rama SIPA'!H11-1)*100 -> 3.5427523 | I11: =('Serie x Rama SIPA'!I23/'Serie x Rama SIPA'!I11-1)*100 -> 5.2814909 | ... Q11: =('Serie x Rama SIPA'!Q23/'Serie x Rama SIPA'!Q11-1)*100 -> 2.5697433
A12: 40391 | B12: =('Serie x Rama SIPA'!B24/'Serie x Rama SIPA'!B12-1)*100 -> -1.1462033 | C12: =('Serie x Rama SIPA'!C24/'Serie x Rama SIPA'!C12-1)*100 -> 3.6582037 | D12: =('Serie x Rama SIPA'!D24/'Serie x Rama SIPA'!D12-1)*100 -> 3.8737253 | E12: =('Serie x Rama SIPA'!E24/'Serie x Rama SIPA'!E12-1)*100 -> 2.9650287 | F12: =('Serie x Rama SIPA'!F24/'Serie x Rama SIPA'!F12-1)*100 -> 1.4104499 | G12: =('Serie x Rama SIPA'!G24/'Serie x Rama SIPA'!G12-1)*100 -> 1.2389728 | H12: =('Serie x Rama SIPA'!H24/'Serie x Rama SIPA'!H12-1)*100 -> 3.7129155 | I12: =('Serie x Rama SIPA'!I24/'Serie x Rama SIPA'!I12-1)*100 -> 5.5343345 | ... Q12: =('Serie x Rama SIPA'!Q24/'Serie x Rama SIPA'!Q12-1)*100 -> 3.100803
A13: 40422 | B13: =('Serie x Rama SIPA'!B25/'Serie x Rama SIPA'!B13-1)*100 -> -0.37115329 | C13: =('Serie x Rama SIPA'!C25/'Serie x Rama SIPA'!C13-1)*100 -> 3.0456853 | D13: =('Serie x Rama SIPA'!D25/'Serie x Rama SIPA'!D13-1)*100 -> 4.1858091 | E13: =('Serie x Rama SIPA'!E25/'Serie x Rama SIPA'!E13-1)*100 -> 2.8827558 | F13: =('Serie x Rama SIPA'!F25/'Serie x Rama SIPA'!F13-1)*100 -> 1.3471391 | G13: =('Serie x Rama SIPA'!G25/'Serie x Rama SIPA'!G13-1)*100 -> 3.0831625 | H13: =('Serie x Rama SIPA'!H25/'Serie x Rama SIPA'!H13-1)*100 -> 3.9460788 | I13: =('Serie x Rama SIPA'!I25/'Serie x Rama SIPA'!I13-1)*100 -> 4.6797929 | ... Q13: =('Serie x Rama SIPA'!Q25/'Serie x Rama SIPA'!Q13-1)*100 -> 3.2912698
A14: 40452 | B14: =('Serie x Rama SIPA'!B26/'Serie x Rama SIPA'!B14-1)*100 -> -0.52260988 | C14: =('Serie x Rama SIPA'!C26/'Serie x Rama SIPA'!C14-1)*100 -> -1.0009598 | D14: =('Serie x Rama SIPA'!D26/'Serie x Rama SIPA'!D14-1)*100 -> 4.4396765 | E14: =('Serie x Rama SIPA'!E26/'Serie x Rama SIPA'!E14-1)*100 -> 2.7053186 | F14: =('Serie x Rama SIPA'!F26/'Serie x Rama SIPA'!F14-1)*100 -> 1.5045117 | G14: =('Serie x Rama SIPA'!G26/'Serie x Rama SIPA'!G14-1)*100 -> 4.2023928 | H14: =('Serie x Rama SIPA'!H26/'Serie x Rama SIPA'!H14-1)*100 -> 4.144858 | I14: =('Serie x Rama SIPA'!I26/'Serie x Rama SIPA'!I14-1)*100 -> 4.1820912 | ... Q14: =('Serie x Rama SIPA'!Q26/'Serie x Rama SIPA'!Q14-1)*100 -> 3.2856242
A15: 40483 | B15: =('Serie x Rama SIPA'!B27/'Serie x Rama SIPA'!B15-1)*100 -> -0.092465858 | C15: =('Serie x Rama SIPA'!C27/'Serie x Rama SIPA'!C15-1)*100 -> 0.12976369 | D15: =('Serie x Rama SIPA'!D27/'Serie x Rama SIPA'!D15-1)*100 -> 5.6679736 | E15: =('Serie x Rama SIPA'!E27/'Serie x Rama SIPA'!E15-1)*100 -> 2.920336 | F15: =('Serie x Rama SIPA'!F27/'Serie x Rama SIPA'!F15-1)*100 -> 1.8319658 | G15: =('Serie x Rama SIPA'!G27/'Serie x Rama SIPA'!G15-1)*100 -> 5.8908105 | H15: =('Serie x Rama SIPA'!H27/'Serie x Rama SIPA'!H15-1)*100 -> 4.1528966 | I15: =('Serie x Rama SIPA'!I27/'Serie x Rama SIPA'!I15-1)*100 -> 4.2861911 | ... Q15: =('Serie x Rama SIPA'!Q27/'Serie x Rama SIPA'!Q15-1)*100 -> 3.616833
A16: 40513 | B16: =('Serie x Rama SIPA'!B28/'Serie x Rama SIPA'!B16-1)*100 -> 1.0893025 | C16: =('Serie x Rama SIPA'!C28/'Serie x Rama SIPA'!C16-1)*100 -> 0.60523631 | D16: =('Serie x Rama SIPA'!D28/'Serie x Rama SIPA'!D16-1)*100 -> 5.283115 | E16: =('Serie x Rama SIPA'!E28/'Serie x Rama SIPA'!E16-1)*100 -> 3.4518979 | F16: =('Serie x Rama SIPA'!F28/'Serie x Rama SIPA'!F16-1)*100 -> 2.0370337 | G16: =('Serie x Rama SIPA'!G28/'Serie x Rama SIPA'!G16-1)*100 -> 7.7095258 | H16: =('Serie x Rama SIPA'!H28/'Serie x Rama SIPA'!H16-1)*100 -> 4.6991686 | I16: =('Serie x Rama SIPA'!I28/'Serie x Rama SIPA'!I16-1)*100 -> 3.8774026 | ... Q16: =('Serie x Rama SIPA'!Q28/'Serie x Rama SIPA'!Q16-1)*100 -> 4.1152511
... A102: 43132 | B102: =('Serie x Rama SIPA'!B114/'Serie x Rama SIPA'!B102-1)*100 -> 0.066827134 | C102: =('Serie x Rama SIPA'!C114/'Serie x Rama SIPA'!C102-1)*100 -> -0.24040326 | D102: =('Serie x Rama SIPA'!D114/'Serie x Rama SIPA'!D102-1)*100 -> -1.0721926 | E102: =('Serie x Rama SIPA'!E114/'Serie x Rama SIPA'!E102-1)*100 -> -1.2054992 | F102: =('Serie x Rama SIPA'!F114/'Serie x Rama SIPA'!F102-1)*100 -> 2.5404157 | G102: =('Serie x Rama SIPA'!G114/'Serie x Rama SIPA'!G102-1)*100 -> 9.1243829 | H102: =('Serie x Rama SIPA'!H114/'Serie x Rama SIPA'!H102-1)*100 -> 1.3152638 | I102: =('Serie x Rama SIPA'!I114/'Serie x Rama SIPA'!I102-1)*100 -> 2.2957269 | ... Q102: =('Serie x Rama SIPA'!Q114/'Serie x Rama SIPA'!Q102-1)*100 -> 1.3092235
A103: mar-18 | B103: =('Serie x Rama SIPA'!B115/'Serie x Rama SIPA'!B103-1)*100 -> 0.25407876 | C103: =('Serie x Rama SIPA'!C115/'Serie x Rama SIPA'!C103-1)*100 -> -0.70422535 | D103: =('Serie x Rama SIPA'!D115/'Serie x Rama SIPA'!D103-1)*100 -> -0.19524521 | E103: =('Serie x Rama SIPA'!E115/'Serie x Rama SIPA'!E103-1)*100 -> -1.341955 | F103: =('Serie x Rama SIPA'!F115/'Serie x Rama SIPA'!F103-1)*100 -> 2.4289877 | G103: =('Serie x Rama SIPA'!G115/'Serie x Rama SIPA'!G103-1)*100 -> 8.3969785 | H103: =('Serie x Rama SIPA'!H115/'Serie x Rama SIPA'!H103-1)*100 -> 1.355572 | I103: =('Serie x Rama SIPA'!I115/'Serie x Rama SIPA'!I103-1)*100 -> 2.3107582 | ... Q103: =('Serie x Rama SIPA'!Q115/'Serie x Rama SIPA'!Q103-1)*100 -> 1.2468807
A104: 43191 | B104: =('Serie x Rama SIPA'!B116/'Serie x Rama SIPA'!B104-1)*100 -> 0.79344213 | C104: =('Serie x Rama SIPA'!C116/'Serie x Rama SIPA'!C104-1)*100 -> -0.31531185 | D104: =('Serie x Rama SIPA'!D116/'Serie x Rama SIPA'!D104-1)*100 -> 3.749264 | E104: =('Serie x Rama SIPA'!E116/'Serie x Rama SIPA'!E104-1)*100 -> -1.4065831 | F104: =('Serie x Rama SIPA'!F116/'Serie x Rama SIPA'!F104-1)*100 -> 2.5547496 | G104: =('Serie x Rama SIPA'!G116/'Serie x Rama SIPA'!G104-1)*100 -> 7.6811339 | H104: =('Serie x Rama SIPA'!H116/'Serie x Rama SIPA'!H104-1)*100 -> 1.3492343 | I104: =('Serie x Rama SIPA'!I116/'Serie x Rama SIPA'!I104-1)*100 -> 2.2822437 | ... Q104: =('Serie x Rama SIPA'!Q116/'Serie x Rama SIPA'!Q104-1)*100 -> 1.3430767
A105: 43221 | B105: =('Serie x Rama SIPA'!B117/'Serie x Rama SIPA'!B105-1)*100 -> 0.50564007 | C105: =('Serie x Rama SIPA'!C117/'Serie x Rama SIPA'!C105-1)*100 -> -1.1814672 | D105: =('Serie x Rama SIPA'!D117/'Serie x Rama SIPA'!D105-1)*100 -> 4.5549503 | E105: =('Serie x Rama SIPA'!E117/'Serie x Rama SIPA'!E105-1)*100 -> -1.5850706 | F105: =('Serie x Rama SIPA'!F117/'Serie x Rama SIPA'!F105-1)*100 -> 2.2591088 | G105: =('Serie x Rama SIPA'!G117/'Serie x Rama SIPA'!G105-1)*100 -> 6.3418697 | H105: =('Serie x Rama SIPA'!H117/'Serie x Rama SIPA'!H105-1)*100 -> 0.93722329 | I105: =('Serie x Rama SIPA'!I117/'Serie x Rama SIPA'!I105-1)*100 -> 1.6328499 | ... Q105: =('Serie x Rama SIPA'!Q117/'Serie x Rama SIPA'!Q105-1)*100 -> 1.0059742
A106: 43252 | B106: =('Serie x Rama SIPA'!B118/'Serie x Rama SIPA'!B106-1)*100 -> -0.30126182 | C106: =('Serie x Rama SIPA'!C118/'Serie x Rama SIPA'!C106-1)*100 -> -0.25716958 | D106: =('Serie x Rama SIPA'!D118/'Serie x Rama SIPA'!D106-1)*100 -> 4.6802655 | E106: =('Serie x Rama SIPA'!E118/'Serie x Rama SIPA'!E106-1)*100 -> -2.0608362 | F106: =('Serie x Rama SIPA'!F118/'Serie x Rama SIPA'!F106-1)*100 -> 1.9040156 | G106: =('Serie x Rama SIPA'!G118/'Serie x Rama SIPA'!G106-1)*100 -> 3.8432948 | H106: =('Serie x Rama SIPA'!H118/'Serie x Rama SIPA'!H106-1)*100 -> 0.55560937 | I106: =('Serie x Rama SIPA'!I118/'Serie x Rama SIPA'!I106-1)*100 -> 0.90393602 | ... Q106: =('Serie x Rama SIPA'!Q118/'Serie x Rama SIPA'!Q106-1)*100 -> 0.43260166
A107: 43282 | B107: =('Serie x Rama SIPA'!B119/'Serie x Rama SIPA'!B107-1)*100 -> 0.2280003 | C107: =('Serie x Rama SIPA'!C119/'Serie x Rama SIPA'!C107-1)*100 -> 1.5338393 | D107: =('Serie x Rama SIPA'!D119/'Serie x Rama SIPA'!D107-1)*100 -> 4.6178732 | E107: =('Serie x Rama SIPA'!E119/'Serie x Rama SIPA'!E107-1)*100 -> -2.4200736 | F107: =('Serie x Rama SIPA'!F119/'Serie x Rama SIPA'!F107-1)*100 -> 1.8037528 | G107: =('Serie x Rama SIPA'!G119/'Serie x Rama SIPA'!G107-1)*100 -> 2.3156181 | H107: =('Serie x Rama SIPA'!H119/'Serie x Rama SIPA'!H107-1)*100 -> 0.17491259 | I107: =('Serie x Rama SIPA'!I119/'Serie x Rama SIPA'!I107-1)*100 -> 0.56613636 | ... Q107: =('Serie x Rama SIPA'!Q119/'Serie x Rama SIPA'!Q107-1)*100 -> 0.13430839
A108: ago-18 | B108: =('Serie x Rama SIPA'!B120/'Serie x Rama SIPA'!B108-1)*100 -> 1.8540554 | C108: =('Serie x Rama SIPA'!C120/'Serie x Rama SIPA'!C108-1)*100 -> 1.5500887 | D108: =('Serie x Rama SIPA'!D120/'Serie x Rama SIPA'!D108-1)*100 -> 4.7629429 | E108: =('Serie x Rama SIPA'!E120/'Serie x Rama SIPA'!E108-1)*100 -> -2.7121415 | F108: =('Serie x Rama SIPA'!F120/'Serie x Rama SIPA'!F108-1)*100 -> 1.0992312 | G108: =('Serie x Rama SIPA'!G120/'Serie x Rama SIPA'!G108-1)*100 -> 1.3204839 | H108: =('Serie x Rama SIPA'!H120/'Serie x Rama SIPA'!H108-1)*100 -> -0.11055463 | I108: =('Serie x Rama SIPA'!I120/'Serie x Rama SIPA'!I108-1)*100 -> 0.31105172 | ... Q108: =('Serie x Rama SIPA'!Q120/'Serie x Rama SIPA'!Q108-1)*100 -> -0.0019566901
A109: sep-18 | B109: =('Serie x Rama SIPA'!B121/'Serie x Rama SIPA'!B109-1)*100 -> 0.99825593 | C109: =('Serie x Rama SIPA'!C121/'Serie x Rama SIPA'!C109-1)*100 -> 3.5341119 | D109: =('Serie x Rama SIPA'!D121/'Serie x Rama SIPA'!D109-1)*100 -> 4.9900686 | E109: =('Serie x Rama SIPA'!E121/'Serie x Rama SIPA'!E109-1)*100 -> -3.2690176 | F109: =('Serie x Rama SIPA'!F121/'Serie x Rama SIPA'!F109-1)*100 -> 0.66890999 | G109: =('Serie x Rama SIPA'!G121/'Serie x Rama SIPA'!G109-1)*100 -> -1.0060433 | H109: =('Serie x Rama SIPA'!H121/'Serie x Rama SIPA'!H109-1)*100 -> -0.6780481 | I109: =('Serie x Rama SIPA'!I121/'Serie x Rama SIPA'!I109-1)*100 -> -0.36162581 | ... Q109: =('Serie x Rama SIPA'!Q121/'Serie x Rama SIPA'!Q109-1)*100 -> -0.57248929
A110: 43374 | B110: =('Serie x Rama SIPA'!B122/'Serie x Rama SIPA'!B110-1)*100 -> 2.3890499 | C110: =('Serie x Rama SIPA'!C122/'Serie x Rama SIPA'!C110-1)*100 -> 7.211838 | D110: =('Serie x Rama SIPA'!D122/'Serie x Rama SIPA'!D110-1)*100 -> 6.1684262 | E110: =('Serie x Rama SIPA'!E122/'Serie x Rama SIPA'!E110-1)*100 -> -3.9633379 | F110: =('Serie x Rama SIPA'!F122/'Serie x Rama SIPA'!F110-1)*100 -> 0.73027443 | G110: =('Serie x Rama SIPA'!G122/'Serie x Rama SIPA'!G110-1)*100 -> -2.3374259 | H110: =('Serie x Rama SIPA'!H122/'Serie x Rama SIPA'!H110-1)*100 -> -1.4577906 | I110: =('Serie x Rama SIPA'!I122/'Serie x Rama SIPA'!I110-1)*100 -> -0.77081869 | ... Q110: =('Serie x Rama SIPA'!Q122/'Serie x Rama SIPA'!Q110-1)*100 -> -0.98537354
A111: 43405 | B111: =('Serie x Rama SIPA'!B123/'Serie x Rama SIPA'!B111-1)*100 -> 3.3922382 | C111: =('Serie x Rama SIPA'!C123/'Serie x Rama SIPA'!C111-1)*100 -> 8.4227006 | D111: =('Serie x Rama SIPA'!D123/'Serie x Rama SIPA'!D111-1)*100 -> 5.8689619 | E111: =('Serie x Rama SIPA'!E123/'Serie x Rama SIPA'!E111-1)*100 -> -4.8272267 | F111: =('Serie x Rama SIPA'!F123/'Serie x Rama SIPA'!F111-1)*100 -> 0.56674124 | G111: =('Serie x Rama SIPA'!G123/'Serie x Rama SIPA'!G111-1)*100 -> -3.5197272 | H111: =('Serie x Rama SIPA'!H123/'Serie x Rama SIPA'!H111-1)*100 -> -2.3412836 | I111: =('Serie x Rama SIPA'!I123/'Serie x Rama SIPA'!I111-1)*100 -> -1.6285563 | ... Q111: =('Serie x Rama SIPA'!Q123/'Serie x Rama SIPA'!Q111-1)*100 -> -1.597369
A112: 43435 | B112: =('Serie x Rama SIPA'!B124/'Serie x Rama SIPA'!B112-1)*100 -> 1.095298 | C112: =('Serie x Rama SIPA'!C124/'Serie x Rama SIPA'!C112-1)*100 -> 3.1242392 | D112: =('Serie x Rama SIPA'!D124/'Serie x Rama SIPA'!D112-1)*100 -> 6.3696877 | E112: =('Serie x Rama SIPA'!E124/'Serie x Rama SIPA'!E112-1)*100 -> -4.9851428 | F112: =('Serie x Rama SIPA'!F124/'Serie x Rama SIPA'!F112-1)*100 -> 0.10935159 | G112: =('Serie x Rama SIPA'!G124/'Serie x Rama SIPA'!G112-1)*100 -> -3.0759337 | H112: =('Serie x Rama SIPA'!H124/'Serie x Rama SIPA'!H112-1)*100 -> -3.1279556 | I112: =('Serie x Rama SIPA'!I124/'Serie x Rama SIPA'!I112-1)*100 -> -2.1693147 | ... Q112: =('Serie x Rama SIPA'!Q124/'Serie x Rama SIPA'!Q112-1)*100 -> -2.0457231
A113: 43466 | B113: =('Serie x Rama SIPA'!B125/'Serie x Rama SIPA'!B113-1)*100 -> 1.2248143 | C113: =('Serie x Rama SIPA'!C125/'Serie x Rama SIPA'!C113-1)*100 -> 4.130335 | D113: =('Serie x Rama SIPA'!D125/'Serie x Rama SIPA'!D113-1)*100 -> 7.3835926 | E113: =('Serie x Rama SIPA'!E125/'Serie x Rama SIPA'!E113-1)*100 -> -5.1172674 | F113: =('Serie x Rama SIPA'!F125/'Serie x Rama SIPA'!F113-1)*100 -> 0.13088122 | G113: =('Serie x Rama SIPA'!G125/'Serie x Rama SIPA'!G113-1)*100 -> -2.4681125 | H113: =('Serie x Rama SIPA'!H125/'Serie x Rama SIPA'!H113-1)*100 -> -3.3031794 | I113: =('Serie x Rama SIPA'!I125/'Serie x Rama SIPA'!I113-1)*100 -> -1.8973132 | ... Q113: =('Serie x Rama SIPA'!Q125/'Serie x Rama SIPA'!Q113-1)*100 -> -2.0559948
A114: 43497 | B114: =('Serie x Rama SIPA'!B126/'Serie x Rama SIPA'!B114-1)*100 -> 1.5276498 | C114: =('Serie x Rama SIPA'!C126/'Serie x Rama SIPA'!C114-1)*100 -> 5.0450871 | D114: =('Serie x Rama SIPA'!D126/'Serie x Rama SIPA'!D114-1)*100 -> 7.4600128 | E114: =('Serie x Rama SIPA'!E126/'Serie x Rama SIPA'!E114-1)*100 -> -5.1157951 | F114: =('Serie x Rama SIPA'!F126/'Serie x Rama SIPA'!F114-1)*100 -> 0.3843664 | G114: =('Serie x Rama SIPA'!G126/'Serie x Rama SIPA'!G114-1)*100 -> -1.1823883 | H114: =('Serie x Rama SIPA'!H126/'Serie x Rama SIPA'!H114-1)*100 -> -3.291318 | I114: =('Serie x Rama SIPA'!I126/'Serie x Rama SIPA'!I114-1)*100 -> -1.8735965 | ... Q114: =('Serie x Rama SIPA'!Q126/'Serie x Rama SIPA'!Q114-1)*100 -> -1.9223571
A115: 43525 | B115: =('Serie x Rama SIPA'!B127/'Serie x Rama SIPA'!B115-1)*100 -> 0.73152618 | C115: =('Serie x Rama SIPA'!C127/'Serie x Rama SIPA'!C115-1)*100 -> 5.9932975 | D115: =('Serie x Rama SIPA'!D127/'Serie x Rama SIPA'!D115-1)*100 -> 7.8481013 | E115: =('Serie x Rama SIPA'!E127/'Serie x Rama SIPA'!E115-1)*100 -> -5.4680057 | F115: =('Serie x Rama SIPA'!F127/'Serie x Rama SIPA'!F115-1)*100 -> 0.28985116 | G115: =('Serie x Rama SIPA'!G127/'Serie x Rama SIPA'!G115-1)*100 -> -1.9464511 | H115: =('Serie x Rama SIPA'!H127/'Serie x Rama SIPA'!H115-1)*100 -> -3.7315099 | I115: =('Serie x Rama SIPA'!I127/'Serie x Rama SIPA'!I115-1)*100 -> -1.8796359 | ... Q115: =('Serie x Rama SIPA'!Q127/'Serie x Rama SIPA'!Q115-1)*100 -> -2.3172776
A116: 43556 | B116: =('Serie x Rama SIPA'!B128/'Serie x Rama SIPA'!B116-1)*100 -> 2.6156029 | C116: =('Serie x Rama SIPA'!C128/'Serie x Rama SIPA'!C116-1)*100 -> 3.6877025 | D116: =('Serie x Rama SIPA'!D128/'Serie x Rama SIPA'!D116-1)*100 -> 4.4971684 | E116: =('Serie x Rama SIPA'!E128/'Serie x Rama SIPA'!E116-1)*100 -> -5.5807344 | F116: =('Serie x Rama SIPA'!F128/'Serie x Rama SIPA'!F116-1)*100 -> 0.13876913 | G116: =('Serie x Rama SIPA'!G128/'Serie x Rama SIPA'!G116-1)*100 -> -2.1785453 | H116: =('Serie x Rama SIPA'!H128/'Serie x Rama SIPA'!H116-1)*100 -> -4.0321855 | I116: =('Serie x Rama SIPA'!I128/'Serie x Rama SIPA'!I116-1)*100 -> -2.4237754 | ... Q116: =('Serie x Rama SIPA'!Q128/'Serie x Rama SIPA'!Q116-1)*100 -> -2.4700961
A117: 43586 | B117: =('Serie x Rama SIPA'!B129/'Serie x Rama SIPA'!B117-1)*100 -> 2.5173444 | C117: =('Serie x Rama SIPA'!C129/'Serie x Rama SIPA'!C117-1)*100 -> -3.8290224 | D117: =('Serie x Rama SIPA'!D129/'Serie x Rama SIPA'!D117-1)*100 -> 3.942191 | E117: =('Serie x Rama SIPA'!E129/'Serie x Rama SIPA'!E117-1)*100 -> -5.4749694 | F117: =('Serie x Rama SIPA'!F129/'Serie x Rama SIPA'!F117-1)*100 -> 0.18454907 | G117: =('Serie x Rama SIPA'!G129/'Serie x Rama SIPA'!G117-1)*100 -> -2.2194824 | H117: =('Serie x Rama SIPA'!H129/'Serie x Rama SIPA'!H117-1)*100 -> -4.0895556 | I117: =('Serie x Rama SIPA'!I129/'Serie x Rama SIPA'!I117-1)*100 -> -2.2365617 | ... Q117: =('Serie x Rama SIPA'!Q129/'Serie x Rama SIPA'!Q117-1)*100 -> -2.4737295
A118: jun-19 | B118: =('Serie x Rama SIPA'!B130/'Serie x Rama SIPA'!B118-1)*100 -> 2.3819008 | C118: =('Serie x Rama SIPA'!C130/'Serie x Rama SIPA'!C118-1)*100 -> 0.26564575 | D118: =('Serie x Rama SIPA'!D130/'Serie x Rama SIPA'!D118-1)*100 -> 4.925606 | E118: =('Serie x Rama SIPA'!E130/'Serie x Rama SIPA'!E118-1)*100 -> -5.142101 | F118: =('Serie x Rama SIPA'!F130/'Serie x Rama SIPA'!F118-1)*100 -> 0.47756523 | G118: =('Serie x Rama SIPA'!G130/'Serie x Rama SIPA'!G118-1)*100 -> -2.4570286 | H118: =('Serie x Rama SIPA'!H130/'Serie x Rama SIPA'!H118-1)*100 -> -3.9467953 | I118: =('Serie x Rama SIPA'!I130/'Serie x Rama SIPA'!I118-1)*100 -> -1.930427 | ... Q118: =('Serie x Rama SIPA'!Q130/'Serie x Rama SIPA'!Q118-1)*100 -> -2.2672918
A119: 43647 | B119: =('Serie x Rama SIPA'!B131/'Serie x Rama SIPA'!B119-1)*100 -> 1.5146873 | C119: =('Serie x Rama SIPA'!C131/'Serie x Rama SIPA'!C119-1)*100 -> 4.4541349 | D119: =('Serie x Rama SIPA'!D131/'Serie x Rama SIPA'!D119-1)*100 -> 5.4215241 | E119: =('Serie x Rama SIPA'!E131/'Serie x Rama SIPA'!E119-1)*100 -> -4.8906568 | F119: =('Serie x Rama SIPA'!F131/'Serie x Rama SIPA'!F119-1)*100 -> 0.31639179 | G119: =('Serie x Rama SIPA'!G131/'Serie x Rama SIPA'!G119-1)*100 -> -2.5588968 | H119: =('Serie x Rama SIPA'!H131/'Serie x Rama SIPA'!H119-1)*100 -> -3.7560627 | I119: =('Serie x Rama SIPA'!I131/'Serie x Rama SIPA'!I119-1)*100 -> -1.8883325 | ... Q119: =('Serie x Rama SIPA'!Q131/'Serie x Rama SIPA'!Q119-1)*100 -> -2.2157987
A120: 43678 | B120: =('Serie x Rama SIPA'!B132/'Serie x Rama SIPA'!B120-1)*100 -> 0.78764123 | C120: =('Serie x Rama SIPA'!C132/'Serie x Rama SIPA'!C120-1)*100 -> 3.0528554 | D120: =('Serie x Rama SIPA'!D132/'Serie x Rama SIPA'!D120-1)*100 -> 5.315151 | E120: =('Serie x Rama SIPA'!E132/'Serie x Rama SIPA'!E120-1)*100 -> -4.7470599 | F120: =('Serie x Rama SIPA'!F132/'Serie x Rama SIPA'!F120-1)*100 -> 0.68343283 | G120: =('Serie x Rama SIPA'!G132/'Serie x Rama SIPA'!G120-1)*100 -> -2.9169358 | H120: =('Serie x Rama SIPA'!H132/'Serie x Rama SIPA'!H120-1)*100 -> -3.6818945 | I120: =('Serie x Rama SIPA'!I132/'Serie x Rama SIPA'!I120-1)*100 -> -1.661994 | ... Q120: =('Serie x Rama SIPA'!Q132/'Serie x Rama SIPA'!Q120-1)*100 -> -2.2420098
A121: 43709 | B121: =('Serie x Rama SIPA'!B133/'Serie x Rama SIPA'!B121-1)*100 -> 0.77815263 | C121: =('Serie x Rama SIPA'!C133/'Serie x Rama SIPA'!C121-1)*100 -> -1.4321757 | D121: =('Serie x Rama SIPA'!D133/'Serie x Rama SIPA'!D121-1)*100 -> 5.1288311 | E121: =('Serie x Rama SIPA'!E133/'Serie x Rama SIPA'!E121-1)*100 -> -4.650862 | F121: =('Serie x Rama SIPA'!F133/'Serie x Rama SIPA'!F121-1)*100 -> 0.7199502 | G121: =('Serie x Rama SIPA'!G133/'Serie x Rama SIPA'!G121-1)*100 -> -4.318469 | H121: =('Serie x Rama SIPA'!H133/'Serie x Rama SIPA'!H121-1)*100 -> -3.5180282 | I121: =('Serie x Rama SIPA'!I133/'Serie x Rama SIPA'!I121-1)*100 -> -1.9863963 | ... Q121: =('Serie x Rama SIPA'!Q133/'Serie x Rama SIPA'!Q121-1)*100 -> -2.3184722
A122: oct-19 | B122: =('Serie x Rama SIPA'!B134/'Serie x Rama SIPA'!B122-1)*100 -> -0.52283057 | C122: =('Serie x Rama SIPA'!C134/'Serie x Rama SIPA'!C122-1)*100 -> -2.7095743 | D122: =('Serie x Rama SIPA'!D134/'Serie x Rama SIPA'!D122-1)*100 -> 4.3578315 | E122: =('Serie x Rama SIPA'!E134/'Serie x Rama SIPA'!E122-1)*100 -> -4.4700086 | F122: =('Serie x Rama SIPA'!F134/'Serie x Rama SIPA'!F122-1)*100 -> 0.53327213 | G122: =('Serie x Rama SIPA'!G134/'Serie x Rama SIPA'!G122-1)*100 -> -6.6480735 | H122: =('Serie x Rama SIPA'!H134/'Serie x Rama SIPA'!H122-1)*100 -> -3.3178061 | I122: =('Serie x Rama SIPA'!I134/'Serie x Rama SIPA'!I122-1)*100 -> -2.3802147 | ... Q122: =('Serie x Rama SIPA'!Q134/'Serie x Rama SIPA'!Q122-1)*100 -> -2.4636821
A123: 43770 | B123: =('Serie x Rama SIPA'!B135/'Serie x Rama SIPA'!B123-1)*100 -> -1.3604195 | C123: =('Serie x Rama SIPA'!C135/'Serie x Rama SIPA'!C123-1)*100 -> -6.6709985 | D123: =('Serie x Rama SIPA'!D135/'Serie x Rama SIPA'!D123-1)*100 -> 3.8584199 | E123: =('Serie x Rama SIPA'!E135/'Serie x Rama SIPA'!E123-1)*100 -> -4.2178138 | F123: =('Serie x Rama SIPA'!F135/'Serie x Rama SIPA'!F123-1)*100 -> 0.21301552 | G123: =('Serie x Rama SIPA'!G135/'Serie x Rama SIPA'!G123-1)*100 -> -7.9020711 | H123: =('Serie x Rama SIPA'!H135/'Serie x Rama SIPA'!H123-1)*100 -> -2.8841926 | I123: =('Serie x Rama SIPA'!I135/'Serie x Rama SIPA'!I123-1)*100 -> -2.023946 | ... Q123: =('Serie x Rama SIPA'!Q135/'Serie x Rama SIPA'!Q123-1)*100 -> -2.3621953
A124: 43800 | B124: =('Serie x Rama SIPA'!B136/'Serie x Rama SIPA'!B124-1)*100 -> -1.2879208 | C124: =('Serie x Rama SIPA'!C136/'Serie x Rama SIPA'!C124-1)*100 -> 0.91281083 | D124: =('Serie x Rama SIPA'!D136/'Serie x Rama SIPA'!D124-1)*100 -> 3.0169924 | E124: =('Serie x Rama SIPA'!E136/'Serie x Rama SIPA'!E124-1)*100 -> -4.2524578 | F124: =('Serie x Rama SIPA'!F136/'Serie x Rama SIPA'!F124-1)*100 -> 0.0080912695 | G124: =('Serie x Rama SIPA'!G136/'Serie x Rama SIPA'!G124-1)*100 -> -10.347493 | H124: =('Serie x Rama SIPA'!H136/'Serie x Rama SIPA'!H124-1)*100 -> -2.5051973 | I124: =('Serie x Rama SIPA'!I136/'Serie x Rama SIPA'!I124-1)*100 -> -1.9997087 | ... Q124: =('Serie x Rama SIPA'!Q136/'Serie x Rama SIPA'!Q124-1)*100 -> -2.447111
A125: 43831 | B125: =('Serie x Rama SIPA'!B137/'Serie x Rama SIPA'!B125-1)*100 -> -1.3235357 | C125: =('Serie x Rama SIPA'!C137/'Serie x Rama SIPA'!C125-1)*100 -> -2.5047745 | D125: =('Serie x Rama SIPA'!D137/'Serie x Rama SIPA'!D125-1)*100 -> 1.3039477 | E125: =('Serie x Rama SIPA'!E137/'Serie x Rama SIPA'!E125-1)*100 -> -3.9405604 | F125: =('Serie x Rama SIPA'!F137/'Serie x Rama SIPA'!F125-1)*100 -> -0.32340655 | G125: =('Serie x Rama SIPA'!G137/'Serie x Rama SIPA'!G125-1)*100 -> -13.138106 | H125: =('Serie x Rama SIPA'!H137/'Serie x Rama SIPA'!H125-1)*100 -> -2.2958342 | I125: =('Serie x Rama SIPA'!I137/'Serie x Rama SIPA'!I125-1)*100 -> -1.5428683 | ... Q125: =('Serie x Rama SIPA'!Q137/'Serie x Rama SIPA'!Q125-1)*100 -> -2.5677109
A126: 43862 | B126: =('Serie x Rama SIPA'!B138/'Serie x Rama SIPA'!B126-1)*100 -> -1.0405659 | C126: =('Serie x Rama SIPA'!C138/'Serie x Rama SIPA'!C126-1)*100 -> -0.17760675 | D126: =('Serie x Rama SIPA'!D138/'Serie x Rama SIPA'!D126-1)*100 -> 1.130031 | E126: =('Serie x Rama SIPA'!E138/'Serie x Rama SIPA'!E126-1)*100 -> -3.6445482 | F126: =('Serie x Rama SIPA'!F138/'Serie x Rama SIPA'!F126-1)*100 -> -0.77385031 | G126: =('Serie x Rama SIPA'!G138/'Serie x Rama SIPA'!G126-1)*100 -> -15.661934 | H126: =('Serie x Rama SIPA'!H138/'Serie x Rama SIPA'!H126-1)*100 -> -2.088816 | I126: =('Serie x Rama SIPA'!I138/'Serie x Rama SIPA'!I126-1)*100 -> -0.76808592 | ... Q126: =('Serie x Rama SIPA'!Q138/'Serie x Rama SIPA'!Q126-1)*100 -> -2.5946493
A127: 43891 | B127: =('Serie x Rama SIPA'!B139/'Serie x Rama SIPA'!B127-1)*100 -> -0.5142478 | C127: =('Serie x Rama SIPA'!C139/'Serie x Rama SIPA'!C127-1)*100 -> -6.8529412 | D127: =('Serie x Rama SIPA'!D139/'Serie x Rama SIPA'!D127-1)*100 -> 0.21695832 | E127: =('Serie x Rama SIPA'!E139/'Serie x Rama SIPA'!E127-1)*100 -> -3.3653473 | F127: =('Serie x Rama SIPA'!F139/'Serie x Rama SIPA'!F127-1)*100 -> -0.75950048 | G127: =('Serie x Rama SIPA'!G139/'Serie x Rama SIPA'!G127-1)*100 -> -18.928875 | H127: =('Serie x Rama SIPA'!H139/'Serie x Rama SIPA'!H127-1)*100 -> -2.004342 | I127: =('Serie x Rama SIPA'!I139/'Serie x Rama SIPA'!I127-1)*100 -> -3.2971917 | ... Q127: =('Serie x Rama SIPA'!Q139/'Serie x Rama SIPA'!Q127-1)*100 -> -3.0361483
A128: 43922 | B128: =('Serie x Rama SIPA'!B140/'Serie x Rama SIPA'!B128-1)*100 -> -2.4760026 | C128: =('Serie x Rama SIPA'!C140/'Serie x Rama SIPA'!C128-1)*100 -> -5.5654762 | D128: =('Serie x Rama SIPA'!D140/'Serie x Rama SIPA'!D128-1)*100 -> -1.139369 | E128: =('Serie x Rama SIPA'!E140/'Serie x Rama SIPA'!E128-1)*100 -> -3.4981912 | F128: =('Serie x Rama SIPA'!F140/'Serie x Rama SIPA'!F128-1)*100 -> -0.95927456 | G128: =('Serie x Rama SIPA'!G140/'Serie x Rama SIPA'!G128-1)*100 -> -26.946539 | H128: =('Serie x Rama SIPA'!H140/'Serie x Rama SIPA'!H128-1)*100 -> -2.6149335 | I128: =('Serie x Rama SIPA'!I140/'Serie x Rama SIPA'!I128-1)*100 -> -9.0683853 | ... Q128: =('Serie x Rama SIPA'!Q140/'Serie x Rama SIPA'!Q128-1)*100 -> -4.6782448
A129: 43952 | B129: =('Serie x Rama SIPA'!B141/'Serie x Rama SIPA'!B129-1)*100 -> -2.5027869 | C129: =('Serie x Rama SIPA'!C141/'Serie x Rama SIPA'!C129-1)*100 -> 4.8427724 | D129: =('Serie x Rama SIPA'!D141/'Serie x Rama SIPA'!D129-1)*100 -> -2.1215874 | E129: =('Serie x Rama SIPA'!E141/'Serie x Rama SIPA'!E129-1)*100 -> -3.3607958 | F129: =('Serie x Rama SIPA'!F141/'Serie x Rama SIPA'!F129-1)*100 -> -1.1079438 | G129: =('Serie x Rama SIPA'!G141/'Serie x Rama SIPA'!G129-1)*100 -> -28.446878 | H129: =('Serie x Rama SIPA'!H141/'Serie x Rama SIPA'!H129-1)*100 -> -2.6598055 | I129: =('Serie x Rama SIPA'!I141/'Serie x Rama SIPA'!I129-1)*100 -> -9.8755339 | ... Q129: =('Serie x Rama SIPA'!Q141/'Serie x Rama SIPA'!Q129-1)*100 -> -4.9870207
A130: 43983 | B130: =('Serie x Rama SIPA'!B142/'Serie x Rama SIPA'!B130-1)*100 -> -2.6064305 | C130: =('Serie x Rama SIPA'!C142/'Serie x Rama SIPA'!C130-1)*100 -> -0.093508922 | D130: =('Serie x Rama SIPA'!D142/'Serie x Rama SIPA'!D130-1)*100 -> -4.2177986 | E130: =('Serie x Rama SIPA'!E142/'Serie x Rama SIPA'!E130-1)*100 -> -2.9765394 | F130: =('Serie x Rama SIPA'!F142/'Serie x Rama SIPA'!F130-1)*100 -> -1.1466165 | G130: =('Serie x Rama SIPA'!G142/'Serie x Rama SIPA'!G130-1)*100 -> -27.937609 | H130: =('Serie x Rama SIPA'!H142/'Serie x Rama SIPA'!H130-1)*100 -> -2.7622672 | I130: =('Serie x Rama SIPA'!I142/'Serie x Rama SIPA'!I130-1)*100 -> -10.929188 | ... Q130: =('Serie x Rama SIPA'!Q142/'Serie x Rama SIPA'!Q130-1)*100 -> -4.9687096
A131: 44013 | B131: =('Serie x Rama SIPA'!B143/'Serie x Rama SIPA'!B131-1)*100 -> -2.4908764 | C131: =('Serie x Rama SIPA'!C143/'Serie x Rama SIPA'!C131-1)*100 -> -2.0724616 | D131: =('Serie x Rama SIPA'!D143/'Serie x Rama SIPA'!D131-1)*100 -> -6.0471667 | E131: =('Serie x Rama SIPA'!E143/'Serie x Rama SIPA'!E131-1)*100 -> -2.5668287 | F131: =('Serie x Rama SIPA'!F143/'Serie x Rama SIPA'!F131-1)*100 -> -1.1461549 | G131: =('Serie x Rama SIPA'!G143/'Serie x Rama SIPA'!G131-1)*100 -> -28.805193 | H131: =('Serie x Rama SIPA'!H143/'Serie x Rama SIPA'!H131-1)*100 -> -2.864115 | I131: =('Serie x Rama SIPA'!I143/'Serie x Rama SIPA'!I131-1)*100 -> -13.381335 | ... Q131: =('Serie x Rama SIPA'!Q143/'Serie x Rama SIPA'!Q131-1)*100 -> -5.1039452
A132: 44044 | B132: =('Serie x Rama SIPA'!B144/'Serie x Rama SIPA'!B132-1)*100 -> -2.3825865 | C132: =('Serie x Rama SIPA'!C144/'Serie x Rama SIPA'!C132-1)*100 -> -4.8047163 | D132: =('Serie x Rama SIPA'!D144/'Serie x Rama SIPA'!D132-1)*100 -> -6.4347402 | E132: =('Serie x Rama SIPA'!E144/'Serie x Rama SIPA'!E132-1)*100 -> -2.0080946 | F132: =('Serie x Rama SIPA'!F144/'Serie x Rama SIPA'!F132-1)*100 -> -1.1697789 | G132: =('Serie x Rama SIPA'!G144/'Serie x Rama SIPA'!G132-1)*100 -> -27.716824 | H132: =('Serie x Rama SIPA'!H144/'Serie x Rama SIPA'!H132-1)*100 -> -2.7552073 | I132: =('Serie x Rama SIPA'!I144/'Serie x Rama SIPA'!I132-1)*100 -> -14.951022 | ... Q132: =('Serie x Rama SIPA'!Q144/'Serie x Rama SIPA'!Q132-1)*100 -> -4.9008139
A133: 44075 | B133: =('Serie x Rama SIPA'!B145/'Serie x Rama SIPA'!B133-1)*100 -> -2.644777 | C133: =('Serie x Rama SIPA'!C145/'Serie x Rama SIPA'!C133-1)*100 -> -1.7465934 | D133: =('Serie x Rama SIPA'!D145/'Serie x Rama SIPA'!D133-1)*100 -> -7.0659809 | E133: =('Serie x Rama SIPA'!E145/'Serie x Rama SIPA'!E133-1)*100 -> -1.027415 | F133: =('Serie x Rama SIPA'!F145/'Serie x Rama SIPA'!F133-1)*100 -> -0.9217209 | G133: =('Serie x Rama SIPA'!G145/'Serie x Rama SIPA'!G133-1)*100 -> -24.998082 | H133: =('Serie x Rama SIPA'!H145/'Serie x Rama SIPA'!H133-1)*100 -> -2.438809 | I133: =('Serie x Rama SIPA'!I145/'Serie x Rama SIPA'!I133-1)*100 -> -15.803838 | ... Q133: =('Serie x Rama SIPA'!Q145/'Serie x Rama SIPA'!Q133-1)*100 -> -4.3725635
A134: 44105 | B134: =('Serie x Rama SIPA'!B146/'Serie x Rama SIPA'!B134-1)*100 -> -3.1513342 | C134: =('Serie x Rama SIPA'!C146/'Serie x Rama SIPA'!C134-1)*100 -> 0.73172553 | D134: =('Serie x Rama SIPA'!D146/'Serie x Rama SIPA'!D134-1)*100 -> -7.9257677 | E134: =('Serie x Rama SIPA'!E146/'Serie x Rama SIPA'!E134-1)*100 -> -0.21048666 | F134: =('Serie x Rama SIPA'!F146/'Serie x Rama SIPA'!F134-1)*100 -> -0.9964279 | G134: =('Serie x Rama SIPA'!G146/'Serie x Rama SIPA'!G134-1)*100 -> -21.163699 | H134: =('Serie x Rama SIPA'!H146/'Serie x Rama SIPA'!H134-1)*100 -> -2.2423615 | I134: =('Serie x Rama SIPA'!I146/'Serie x Rama SIPA'!I134-1)*100 -> -17.070019 | ... Q134: =('Serie x Rama SIPA'!Q146/'Serie x Rama SIPA'!Q134-1)*100 -> -3.9838323
A135: 44136 | B135: =('Serie x Rama SIPA'!B147/'Serie x Rama SIPA'!B135-1)*100 -> -2.9147224 | C135: =('Serie x Rama SIPA'!C147/'Serie x Rama SIPA'!C135-1)*100 -> 5.6006807 | D135: =('Serie x Rama SIPA'!D147/'Serie x Rama SIPA'!D135-1)*100 -> -7.9803196 | E135: =('Serie x Rama SIPA'!E147/'Serie x Rama SIPA'!E135-1)*100 -> 0.58443672 | F135: =('Serie x Rama SIPA'!F147/'Serie x Rama SIPA'!F135-1)*100 -> -0.75338688 | G135: =('Serie x Rama SIPA'!G147/'Serie x Rama SIPA'!G135-1)*100 -> -18.218817 | H135: =('Serie x Rama SIPA'!H147/'Serie x Rama SIPA'!H135-1)*100 -> -2.0660831 | I135: =('Serie x Rama SIPA'!I147/'Serie x Rama SIPA'!I135-1)*100 -> -18.423664 | ... Q135: =('Serie x Rama SIPA'!Q147/'Serie x Rama SIPA'!Q135-1)*100 -> -3.5737942
A136: dic-20 | B136: =('Serie x Rama SIPA'!B148/'Serie x Rama SIPA'!B136-1)*100 -> -1.8748694 | C136: =('Serie x Rama SIPA'!C148/'Serie x Rama SIPA'!C136-1)*100 -> 2.1210231 | D136: =('Serie x Rama SIPA'!D148/'Serie x Rama SIPA'!D136-1)*100 -> -7.6597783 | E136: =('Serie x Rama SIPA'!E148/'Serie x Rama SIPA'!E136-1)*100 -> 0.91333291 | F136: =('Serie x Rama SIPA'!F148/'Serie x Rama SIPA'!F136-1)*100 -> -0.30609493 | G136: =('Serie x Rama SIPA'!G148/'Serie x Rama SIPA'!G136-1)*100 -> -15.636074 | H136: =('Serie x Rama SIPA'!H148/'Serie x Rama SIPA'!H136-1)*100 -> -2.1214415 | I136: =('Serie x Rama SIPA'!I148/'Serie x Rama SIPA'!I136-1)*100 -> -18.83102 | ... Q136: =('Serie x Rama SIPA'!Q148/'Serie x Rama SIPA'!Q136-1)*100 -> -3.2557989
A137: 44197 | B137: =('Serie x Rama SIPA'!B149/'Serie x Rama SIPA'!B137-1)*100 -> -1.3172264 | C137: =('Serie x Rama SIPA'!C149/'Serie x Rama SIPA'!C137-1)*100 -> 0.40684096 | D137: =('Serie x Rama SIPA'!D149/'Serie x Rama SIPA'!D137-1)*100 -> -5.6500708 | E137: =('Serie x Rama SIPA'!E149/'Serie x Rama SIPA'!E137-1)*100 -> 1.1409676 | F137: =('Serie x Rama SIPA'!F149/'Serie x Rama SIPA'!F137-1)*100 -> 0.13924564 | G137: =('Serie x Rama SIPA'!G149/'Serie x Rama SIPA'!G137-1)*100 -> -11.595317 | H137: =('Serie x Rama SIPA'!H149/'Serie x Rama SIPA'!H137-1)*100 -> -2.1146953 | I137: =('Serie x Rama SIPA'!I149/'Serie x Rama SIPA'!I137-1)*100 -> -20.442237 | ... Q137: =('Serie x Rama SIPA'!Q149/'Serie x Rama SIPA'!Q137-1)*100 -> -2.7287955
A138: 44228 | B138: =('Serie x Rama SIPA'!B150/'Serie x Rama SIPA'!B138-1)*100 -> -1.5226396 | C138: =('Serie x Rama SIPA'!C150/'Serie x Rama SIPA'!C138-1)*100 -> 1.7199199 | D138: =('Serie x Rama SIPA'!D150/'Serie x Rama SIPA'!D138-1)*100 -> -5.5952619 | E138: =('Serie x Rama SIPA'!E150/'Serie x Rama SIPA'!E138-1)*100 -> 1.3023883 | F138: =('Serie x Rama SIPA'!F150/'Serie x Rama SIPA'!F138-1)*100 -> 0.37504908 | G138: =('Serie x Rama SIPA'!G150/'Serie x Rama SIPA'!G138-1)*100 -> -8.8363757 | H138: =('Serie x Rama SIPA'!H150/'Serie x Rama SIPA'!H138-1)*100 -> -1.9161995 | I138: =('Serie x Rama SIPA'!I150/'Serie x Rama SIPA'!I138-1)*100 -> -21.081232 | ... Q138: =('Serie x Rama SIPA'!Q150/'Serie x Rama SIPA'!Q138-1)*100 -> -2.5580441
A139: 44256 | B139: =('Serie x Rama SIPA'!B151/'Serie x Rama SIPA'!B139-1)*100 -> -0.59101436 | C139: =('Serie x Rama SIPA'!C151/'Serie x Rama SIPA'!C139-1)*100 -> 7.5939375 | D139: =('Serie x Rama SIPA'!D151/'Serie x Rama SIPA'!D139-1)*100 -> -5.0088133 | E139: =('Serie x Rama SIPA'!E151/'Serie x Rama SIPA'!E139-1)*100 -> 2.0058363 | F139: =('Serie x Rama SIPA'!F151/'Serie x Rama SIPA'!F139-1)*100 -> 0.45376967 | G139: =('Serie x Rama SIPA'!G151/'Serie x Rama SIPA'!G139-1)*100 -> -3.4545916 | H139: =('Serie x Rama SIPA'!H151/'Serie x Rama SIPA'!H139-1)*100 -> -1.2254029 | I139: =('Serie x Rama SIPA'!I151/'Serie x Rama SIPA'!I139-1)*100 -> -18.729313 | ... Q139: =('Serie x Rama SIPA'!Q151/'Serie x Rama SIPA'!Q139-1)*100 -> -1.4477469
A140: 44287 | B140: =('Serie x Rama SIPA'!B152/'Serie x Rama SIPA'!B140-1)*100 -> 0.62432122 | C140: =('Serie x Rama SIPA'!C152/'Serie x Rama SIPA'!C140-1)*100 -> 5.9407501 | D140: =('Serie x Rama SIPA'!D152/'Serie x Rama SIPA'!D140-1)*100 -> -3.9292496 | E140: =('Serie x Rama SIPA'!E152/'Serie x Rama SIPA'!E140-1)*100 -> 3.0199056 | F140: =('Serie x Rama SIPA'!F152/'Serie x Rama SIPA'!F140-1)*100 -> 0.85717391 | G140: =('Serie x Rama SIPA'!G152/'Serie x Rama SIPA'!G140-1)*100 -> 9.1281817 | H140: =('Serie x Rama SIPA'!H152/'Serie x Rama SIPA'!H140-1)*100 -> 0.10726788 | I140: =('Serie x Rama SIPA'!I152/'Serie x Rama SIPA'!I140-1)*100 -> -13.044015 | ... Q140: =('Serie x Rama SIPA'!Q152/'Serie x Rama SIPA'!Q140-1)*100 -> 0.94815133
A141: 44317 | B141: =('Serie x Rama SIPA'!B153/'Serie x Rama SIPA'!B141-1)*100 -> 0.88022371 | C141: =('Serie x Rama SIPA'!C153/'Serie x Rama SIPA'!C141-1)*100 -> 6.9673719 | D141: =('Serie x Rama SIPA'!D153/'Serie x Rama SIPA'!D141-1)*100 -> -2.4350571 | E141: =('Serie x Rama SIPA'!E153/'Serie x Rama SIPA'!E141-1)*100 -> 3.2722568 | F141: =('Serie x Rama SIPA'!F153/'Serie x Rama SIPA'!F141-1)*100 -> 0.91640833 | G141: =('Serie x Rama SIPA'!G153/'Serie x Rama SIPA'!G141-1)*100 -> 12.064485 | H141: =('Serie x Rama SIPA'!H153/'Serie x Rama SIPA'!H141-1)*100 -> 0.39598714 | I141: =('Serie x Rama SIPA'!I153/'Serie x Rama SIPA'!I141-1)*100 -> -13.803845 | ... Q141: =('Serie x Rama SIPA'!Q153/'Serie x Rama SIPA'!Q141-1)*100 -> 1.4097151
A142: 44348 | B142: =('Serie x Rama SIPA'!B154/'Serie x Rama SIPA'!B142-1)*100 -> 1.2555435 | C142: =('Serie x Rama SIPA'!C154/'Serie x Rama SIPA'!C142-1)*100 -> 8.6030731 | D142: =('Serie x Rama SIPA'!D154/'Serie x Rama SIPA'!D142-1)*100 -> -0.41321304 | E142: =('Serie x Rama SIPA'!E154/'Serie x Rama SIPA'!E142-1)*100 -> 3.2372501 | F142: =('Serie x Rama SIPA'!F154/'Serie x Rama SIPA'!F142-1)*100 -> 0.83394453 | G142: =('Serie x Rama SIPA'!G154/'Serie x Rama SIPA'!G142-1)*100 -> 14.01027 | H142: =('Serie x Rama SIPA'!H154/'Serie x Rama SIPA'!H142-1)*100 -> 0.56347438 | I142: =('Serie x Rama SIPA'!I154/'Serie x Rama SIPA'!I142-1)*100 -> -13.698544 | ... Q142: =('Serie x Rama SIPA'!Q154/'Serie x Rama SIPA'!Q142-1)*100 -> 1.5941174
A143: 44378 | B143: =('Serie x Rama SIPA'!B155/'Serie x Rama SIPA'!B143-1)*100 -> 1.5311403 | C143: =('Serie x Rama SIPA'!C155/'Serie x Rama SIPA'!C143-1)*100 -> 5.6333739 | D143: =('Serie x Rama SIPA'!D155/'Serie x Rama SIPA'!D143-1)*100 -> 1.1212568 | E143: =('Serie x Rama SIPA'!E155/'Serie x Rama SIPA'!E143-1)*100 -> 3.0115549 | F143: =('Serie x Rama SIPA'!F155/'Serie x Rama SIPA'!F143-1)*100 -> 0.7996633 | G143: =('Serie x Rama SIPA'!G155/'Serie x Rama SIPA'!G143-1)*100 -> 17.763525 | H143: =('Serie x Rama SIPA'!H155/'Serie x Rama SIPA'!H143-1)*100 -> 0.70219609 | I143: =('Serie x Rama SIPA'!I155/'Serie x Rama SIPA'!I143-1)*100 -> -10.930454 | ... Q143: =('Serie x Rama SIPA'!Q155/'Serie x Rama SIPA'!Q143-1)*100 -> 1.8740295
A144: 44409 | B144: =('Serie x Rama SIPA'!B156/'Serie x Rama SIPA'!B144-1)*100 -> 1.3242674 | C144: =('Serie x Rama SIPA'!C156/'Serie x Rama SIPA'!C144-1)*100 -> 8.9874594 | D144: =('Serie x Rama SIPA'!D156/'Serie x Rama SIPA'!D144-1)*100 -> 1.711865 | E144: =('Serie x Rama SIPA'!E156/'Serie x Rama SIPA'!E144-1)*100 -> 2.8277426 | F144: =('Serie x Rama SIPA'!F156/'Serie x Rama SIPA'!F144-1)*100 -> 0.74655229 | G144: =('Serie x Rama SIPA'!G156/'Serie x Rama SIPA'!G144-1)*100 -> 18.353983 | H144: =('Serie x Rama SIPA'!H156/'Serie x Rama SIPA'!H144-1)*100 -> 0.93259472 | I144: =('Serie x Rama SIPA'!I156/'Serie x Rama SIPA'!I144-1)*100 -> -7.8579264 | ... Q144: =('Serie x Rama SIPA'!Q156/'Serie x Rama SIPA'!Q144-1)*100 -> 2.0684045
A145: 44440 | B145: =('Serie x Rama SIPA'!B157/'Serie x Rama SIPA'!B145-1)*100 -> 1.8516601 | C145: =('Serie x Rama SIPA'!C157/'Serie x Rama SIPA'!C145-1)*100 -> 12.665696 | D145: =('Serie x Rama SIPA'!D157/'Serie x Rama SIPA'!D145-1)*100 -> 2.6734962 | E145: =('Serie x Rama SIPA'!E157/'Serie x Rama SIPA'!E145-1)*100 -> 2.7353778 | F145: =('Serie x Rama SIPA'!F157/'Serie x Rama SIPA'!F145-1)*100 -> 0.80417684 | G145: =('Serie x Rama SIPA'!G157/'Serie x Rama SIPA'!G145-1)*100 -> 18.593714 | H145: =('Serie x Rama SIPA'!H157/'Serie x Rama SIPA'!H145-1)*100 -> 1.2763538 | I145: =('Serie x Rama SIPA'!I157/'Serie x Rama SIPA'!I145-1)*100 -> -4.514971 | ... Q145: =('Serie x Rama SIPA'!Q157/'Serie x Rama SIPA'!Q145-1)*100 -> 2.3369485
A146: 44470 | B146: =('Serie x Rama SIPA'!B158/'Serie x Rama SIPA'!B146-1)*100 -> 1.6173254 | C146: =('Serie x Rama SIPA'!C158/'Serie x Rama SIPA'!C146-1)*100 -> 1.2230376 | D146: =('Serie x Rama SIPA'!D158/'Serie x Rama SIPA'!D146-1)*100 -> 4.0777482 | E146: =('Serie x Rama SIPA'!E158/'Serie x Rama SIPA'!E146-1)*100 -> 2.4476018 | F146: =('Serie x Rama SIPA'!F158/'Serie x Rama SIPA'!F146-1)*100 -> 0.81927188 | G146: =('Serie x Rama SIPA'!G158/'Serie x Rama SIPA'!G146-1)*100 -> 18.0809 | H146: =('Serie x Rama SIPA'!H158/'Serie x Rama SIPA'!H146-1)*100 -> 1.6776825 | I146: =('Serie x Rama SIPA'!I158/'Serie x Rama SIPA'!I146-1)*100 -> -0.6046109 | ... Q146: =('Serie x Rama SIPA'!Q158/'Serie x Rama SIPA'!Q146-1)*100 -> 2.5636894
A147: 44501 | B147: =('Serie x Rama SIPA'!B159/'Serie x Rama SIPA'!B147-1)*100 -> 0.39242771 | C147: =('Serie x Rama SIPA'!C159/'Serie x Rama SIPA'!C147-1)*100 -> -0.29301883 | D147: =('Serie x Rama SIPA'!D159/'Serie x Rama SIPA'!D147-1)*100 -> 4.5858456 | E147: =('Serie x Rama SIPA'!E159/'Serie x Rama SIPA'!E147-1)*100 -> 2.5830134 | F147: =('Serie x Rama SIPA'!F159/'Serie x Rama SIPA'!F147-1)*100 -> 0.81603882 | G147: =('Serie x Rama SIPA'!G159/'Serie x Rama SIPA'!G147-1)*100 -> 17.26057 | H147: =('Serie x Rama SIPA'!H159/'Serie x Rama SIPA'!H147-1)*100 -> 2.2196123 | I147: =('Serie x Rama SIPA'!I159/'Serie x Rama SIPA'!I147-1)*100 -> 3.7295107 | ... Q147: =('Serie x Rama SIPA'!Q159/'Serie x Rama SIPA'!Q147-1)*100 -> 2.8618247
A148: 44531 | B148: =('Serie x Rama SIPA'!B160/'Serie x Rama SIPA'!B148-1)*100 -> 0.63397399 | C148: =('Serie x Rama SIPA'!C160/'Serie x Rama SIPA'!C148-1)*100 -> 4.2990226 | D148: =('Serie x Rama SIPA'!D160/'Serie x Rama SIPA'!D148-1)*100 -> 5.0818511 | E148: =('Serie x Rama SIPA'!E160/'Serie x Rama SIPA'!E148-1)*100 -> 2.9902817 | F148: =('Serie x Rama SIPA'!F160/'Serie x Rama SIPA'!F148-1)*100 -> 0.72768588 | G148: =('Serie x Rama SIPA'!G160/'Serie x Rama SIPA'!G148-1)*100 -> 17.390945 | H148: =('Serie x Rama SIPA'!H160/'Serie x Rama SIPA'!H148-1)*100 -> 2.9555338 | I148: =('Serie x Rama SIPA'!I160/'Serie x Rama SIPA'!I148-1)*100 -> 7.2792996 | ... Q148: =('Serie x Rama SIPA'!Q160/'Serie x Rama SIPA'!Q148-1)*100 -> 3.4597829
... A202: 46174 | B202: =('Serie x Rama SIPA'!B214/'Serie x Rama SIPA'!B202-1)*100 -> 0.68970274 | C202: =('Serie x Rama SIPA'!C214/'Serie x Rama SIPA'!C202-1)*100 -> 1.3608335 | D202: =('Serie x Rama SIPA'!D214/'Serie x Rama SIPA'!D202-1)*100 -> -2.5493624 | E202: =('Serie x Rama SIPA'!E214/'Serie x Rama SIPA'!E202-1)*100 -> -4.5383693 | F202: =('Serie x Rama SIPA'!F214/'Serie x Rama SIPA'!F202-1)*100 -> 0.15078803 | G202: =('Serie x Rama SIPA'!G214/'Serie x Rama SIPA'!G202-1)*100 -> -0.32081022 | H202: =('Serie x Rama SIPA'!H214/'Serie x Rama SIPA'!H202-1)*100 -> -3.1608967 | I202: =('Serie x Rama SIPA'!I214/'Serie x Rama SIPA'!I202-1)*100 -> -1.702067 | ... Q202: =('Serie x Rama SIPA'!Q214/'Serie x Rama SIPA'!Q202-1)*100 -> -2.0183825
A204: Notas:
A205: * Los datos tienen carácter provisorio, ya que se encuentran sujetos a leves ajustes en los próximos meses
A206: El empleo perteneciente a las empresas con participación accionaria privada y estatal se incluye dentro del sector privado.
A207: Fuente: Observatorio de Empleo y Dinámica Empresarial, Dirección Nacional de Estudios y Estadísticas Laborales, Secretaría de Trabajo, Empleo y Seguridad Social, Ministerio de Capital Humano, sobre la base del SIPA (ARCA).

Sheet Var. Acumulada
A1: Variación interanual acumulada de los Asalariados registrados del sector privado según rama de actividad de la ocupación principal. Total país.
A2: Desde Enero de 2010 en adelante (en %)
A4: Período | B4: Agricultura, ganaderia, caza y silvicultura | C4: Pesca | D4: Explotacion de minas y canteras | E4: Industrias manufactureras | F4: Suministro de Electricidad, gas y agua | G4: Construcción | H4: Comercio y reparaciones | I4: Hoteles y restaurantes | J4: Transporte, almacen. y comunicación | K4: Intermediacion financiera | L4: Actividades inmobiliarias, empresariales y de alquiler | M4: Enseñanza | N4: Servicios sociales y de salud | O4: Servicios comunitarios, sociales y personales | P4: Sin Especificar | Q4: Total
A5: 40179 | B5: =(SUM('Serie x Rama SIPA'!B17:B17)/SUM('Serie x Rama SIPA'!B5:B5)-1)*100 -> -2.8855491 | C5: =(SUM('Serie x Rama SIPA'!C17:C17)/SUM('Serie x Rama SIPA'!C5:C5)-1)*100 -> -4.0465086 | D5: =(SUM('Serie x Rama SIPA'!D17:D17)/SUM('Serie x Rama SIPA'!D5:D5)-1)*100 -> -2.5563581 | E5: =(SUM('Serie x Rama SIPA'!E17:E17)/SUM('Serie x Rama SIPA'!E5:E5)-1)*100 -> -1.2267377 | F5: =(SUM('Serie x Rama SIPA'!F17:F17)/SUM('Serie x Rama SIPA'!F5:F5)-1)*100 -> 3.2781761 | G5: =(SUM('Serie x Rama SIPA'!G17:G17)/SUM('Serie x Rama SIPA'!G5:G5)-1)*100 -> -3.8785793 | H5: =(SUM('Serie x Rama SIPA'!H17:H17)/SUM('Serie x Rama SIPA'!H5:H5)-1)*100 -> 1.1555857 | I5: =(SUM('Serie x Rama SIPA'!I17:I17)/SUM('Serie x Rama SIPA'!I5:I5)-1)*100 -> 2.0074581 | ... Q5: =(SUM('Serie x Rama SIPA'!Q17:Q17)/SUM('Serie x Rama SIPA'!Q5:Q5)-1)*100 -> -0.19053475
A6: 40210 | B6: =(SUM('Serie x Rama SIPA'!B17:B18)/SUM('Serie x Rama SIPA'!B5:B6)-1)*100 -> -2.2115804 | C6: =(SUM('Serie x Rama SIPA'!C17:C18)/SUM('Serie x Rama SIPA'!C5:C6)-1)*100 -> -3.9203403 | D6: =(SUM('Serie x Rama SIPA'!D17:D18)/SUM('Serie x Rama SIPA'!D5:D6)-1)*100 -> -2.0790066 | E6: =(SUM('Serie x Rama SIPA'!E17:E18)/SUM('Serie x Rama SIPA'!E5:E6)-1)*100 -> -0.78816149 | F6: =(SUM('Serie x Rama SIPA'!F17:F18)/SUM('Serie x Rama SIPA'!F5:F6)-1)*100 -> 3.1235932 | G6: =(SUM('Serie x Rama SIPA'!G17:G18)/SUM('Serie x Rama SIPA'!G5:G6)-1)*100 -> -3.356589 | H6: =(SUM('Serie x Rama SIPA'!H17:H18)/SUM('Serie x Rama SIPA'!H5:H6)-1)*100 -> 1.3456768 | I6: =(SUM('Serie x Rama SIPA'!I17:I18)/SUM('Serie x Rama SIPA'!I5:I6)-1)*100 -> 1.9970416 | ... Q6: =(SUM('Serie x Rama SIPA'!Q17:Q18)/SUM('Serie x Rama SIPA'!Q5:Q6)-1)*100 -> 0.18828549
A7: 40238 | B7: =(SUM('Serie x Rama SIPA'!B17:B19)/SUM('Serie x Rama SIPA'!B5:B7)-1)*100 -> -1.8315462 | C7: =(SUM('Serie x Rama SIPA'!C17:C19)/SUM('Serie x Rama SIPA'!C5:C7)-1)*100 -> -4.2249193 | D7: =(SUM('Serie x Rama SIPA'!D17:D19)/SUM('Serie x Rama SIPA'!D5:D7)-1)*100 -> -1.2670699 | E7: =(SUM('Serie x Rama SIPA'!E17:E19)/SUM('Serie x Rama SIPA'!E5:E7)-1)*100 -> -0.27473547 | F7: =(SUM('Serie x Rama SIPA'!F17:F19)/SUM('Serie x Rama SIPA'!F5:F7)-1)*100 -> 3.0892357 | G7: =(SUM('Serie x Rama SIPA'!G17:G19)/SUM('Serie x Rama SIPA'!G5:G7)-1)*100 -> -2.8925452 | H7: =(SUM('Serie x Rama SIPA'!H17:H19)/SUM('Serie x Rama SIPA'!H5:H7)-1)*100 -> 1.5613411 | I7: =(SUM('Serie x Rama SIPA'!I17:I19)/SUM('Serie x Rama SIPA'!I5:I7)-1)*100 -> 2.0489707 | ... Q7: =(SUM('Serie x Rama SIPA'!Q17:Q19)/SUM('Serie x Rama SIPA'!Q5:Q7)-1)*100 -> 0.52850174
A8: 40269 | B8: =(SUM('Serie x Rama SIPA'!B17:B20)/SUM('Serie x Rama SIPA'!B5:B8)-1)*100 -> -1.3393084 | C8: =(SUM('Serie x Rama SIPA'!C17:C20)/SUM('Serie x Rama SIPA'!C5:C8)-1)*100 -> -4.4730483 | D8: =(SUM('Serie x Rama SIPA'!D17:D20)/SUM('Serie x Rama SIPA'!D5:D8)-1)*100 -> -0.6680224 | E8: =(SUM('Serie x Rama SIPA'!E17:E20)/SUM('Serie x Rama SIPA'!E5:E8)-1)*100 -> 0.24592325 | F8: =(SUM('Serie x Rama SIPA'!F17:F20)/SUM('Serie x Rama SIPA'!F5:F8)-1)*100 -> 3.0121284 | G8: =(SUM('Serie x Rama SIPA'!G17:G20)/SUM('Serie x Rama SIPA'!G5:G8)-1)*100 -> -2.4922319 | H8: =(SUM('Serie x Rama SIPA'!H17:H20)/SUM('Serie x Rama SIPA'!H5:H8)-1)*100 -> 1.791002 | I8: =(SUM('Serie x Rama SIPA'!I17:I20)/SUM('Serie x Rama SIPA'!I5:I8)-1)*100 -> 2.133157 | ... Q8: =(SUM('Serie x Rama SIPA'!Q17:Q20)/SUM('Serie x Rama SIPA'!Q5:Q8)-1)*100 -> 0.86374062
A9: 40299 | B9: =(SUM('Serie x Rama SIPA'!B17:B21)/SUM('Serie x Rama SIPA'!B5:B9)-1)*100 -> -1.0828778 | C9: =(SUM('Serie x Rama SIPA'!C17:C21)/SUM('Serie x Rama SIPA'!C5:C9)-1)*100 -> -5.0007873 | D9: =(SUM('Serie x Rama SIPA'!D17:D21)/SUM('Serie x Rama SIPA'!D5:D9)-1)*100 -> -0.23851517 | E9: =(SUM('Serie x Rama SIPA'!E17:E21)/SUM('Serie x Rama SIPA'!E5:E9)-1)*100 -> 0.6756647 | F9: =(SUM('Serie x Rama SIPA'!F17:F21)/SUM('Serie x Rama SIPA'!F5:F9)-1)*100 -> 2.9597867 | G9: =(SUM('Serie x Rama SIPA'!G17:G21)/SUM('Serie x Rama SIPA'!G5:G9)-1)*100 -> -2.2170809 | H9: =(SUM('Serie x Rama SIPA'!H17:H21)/SUM('Serie x Rama SIPA'!H5:H9)-1)*100 -> 1.9917147 | I9: =(SUM('Serie x Rama SIPA'!I17:I21)/SUM('Serie x Rama SIPA'!I5:I9)-1)*100 -> 2.2897576 | ... Q9: =(SUM('Serie x Rama SIPA'!Q17:Q21)/SUM('Serie x Rama SIPA'!Q5:Q9)-1)*100 -> 1.1279288
A10: 40330 | B10: =(SUM('Serie x Rama SIPA'!B17:B22)/SUM('Serie x Rama SIPA'!B5:B10)-1)*100 -> -1.003551 | C10: =(SUM('Serie x Rama SIPA'!C17:C22)/SUM('Serie x Rama SIPA'!C5:C10)-1)*100 -> -5.0959883 | D10: =(SUM('Serie x Rama SIPA'!D17:D22)/SUM('Serie x Rama SIPA'!D5:D10)-1)*100 -> 0.10892305 | E10: =(SUM('Serie x Rama SIPA'!E17:E22)/SUM('Serie x Rama SIPA'!E5:E10)-1)*100 -> 0.98557871 | F10: =(SUM('Serie x Rama SIPA'!F17:F22)/SUM('Serie x Rama SIPA'!F5:F10)-1)*100 -> 2.7224237 | G10: =(SUM('Serie x Rama SIPA'!G17:G22)/SUM('Serie x Rama SIPA'!G5:G10)-1)*100 -> -2.0367229 | H10: =(SUM('Serie x Rama SIPA'!H17:H22)/SUM('Serie x Rama SIPA'!H5:H10)-1)*100 -> 2.172915 | I10: =(SUM('Serie x Rama SIPA'!I17:I22)/SUM('Serie x Rama SIPA'!I5:I10)-1)*100 -> 2.5114687 | ... Q10: =(SUM('Serie x Rama SIPA'!Q17:Q22)/SUM('Serie x Rama SIPA'!Q5:Q10)-1)*100 -> 1.3361962
A11: 40360 | B11: =(SUM('Serie x Rama SIPA'!B17:B23)/SUM('Serie x Rama SIPA'!B5:B11)-1)*100 -> -1.0100693 | C11: =(SUM('Serie x Rama SIPA'!C17:C23)/SUM('Serie x Rama SIPA'!C5:C11)-1)*100 -> -3.9293269 | D11: =(SUM('Serie x Rama SIPA'!D17:D23)/SUM('Serie x Rama SIPA'!D5:D11)-1)*100 -> 0.48060717 | E11: =(SUM('Serie x Rama SIPA'!E17:E23)/SUM('Serie x Rama SIPA'!E5:E11)-1)*100 -> 1.2407203 | F11: =(SUM('Serie x Rama SIPA'!F17:F23)/SUM('Serie x Rama SIPA'!F5:F11)-1)*100 -> 2.5638686 | G11: =(SUM('Serie x Rama SIPA'!G17:G23)/SUM('Serie x Rama SIPA'!G5:G11)-1)*100 -> -1.7901708 | H11: =(SUM('Serie x Rama SIPA'!H17:H23)/SUM('Serie x Rama SIPA'!H5:H11)-1)*100 -> 2.3687203 | I11: =(SUM('Serie x Rama SIPA'!I17:I23)/SUM('Serie x Rama SIPA'!I5:I11)-1)*100 -> 2.9037496 | ... Q11: =(SUM('Serie x Rama SIPA'!Q17:Q23)/SUM('Serie x Rama SIPA'!Q5:Q11)-1)*100 -> 1.5122138
A12: 40391 | B12: =(SUM('Serie x Rama SIPA'!B17:B24)/SUM('Serie x Rama SIPA'!B5:B12)-1)*100 -> -1.0271047 | C12: =(SUM('Serie x Rama SIPA'!C17:C24)/SUM('Serie x Rama SIPA'!C5:C12)-1)*100 -> -3.0071009 | D12: =(SUM('Serie x Rama SIPA'!D17:D24)/SUM('Serie x Rama SIPA'!D5:D12)-1)*100 -> 0.90085907 | E12: =(SUM('Serie x Rama SIPA'!E17:E24)/SUM('Serie x Rama SIPA'!E5:E12)-1)*100 -> 1.4553642 | F12: =(SUM('Serie x Rama SIPA'!F17:F24)/SUM('Serie x Rama SIPA'!F5:F12)-1)*100 -> 2.4177245 | G12: =(SUM('Serie x Rama SIPA'!G17:G24)/SUM('Serie x Rama SIPA'!G5:G12)-1)*100 -> -1.4160748 | H12: =(SUM('Serie x Rama SIPA'!H17:H24)/SUM('Serie x Rama SIPA'!H5:H12)-1)*100 -> 2.5370731 | I12: =(SUM('Serie x Rama SIPA'!I17:I24)/SUM('Serie x Rama SIPA'!I5:I12)-1)*100 -> 3.2310574 | ... Q12: =(SUM('Serie x Rama SIPA'!Q17:Q24)/SUM('Serie x Rama SIPA'!Q5:Q12)-1)*100 -> 1.7102691
A13: 40422 | B13: =(SUM('Serie x Rama SIPA'!B17:B25)/SUM('Serie x Rama SIPA'!B5:B13)-1)*100 -> -0.95438828 | C13: =(SUM('Serie x Rama SIPA'!C17:C25)/SUM('Serie x Rama SIPA'!C5:C13)-1)*100 -> -2.3462383 | D13: =(SUM('Serie x Rama SIPA'!D17:D25)/SUM('Serie x Rama SIPA'!D5:D13)-1)*100 -> 1.262519 | E13: =(SUM('Serie x Rama SIPA'!E17:E25)/SUM('Serie x Rama SIPA'!E5:E13)-1)*100 -> 1.613678 | F13: =(SUM('Serie x Rama SIPA'!F17:F25)/SUM('Serie x Rama SIPA'!F5:F13)-1)*100 -> 2.2970118 | G13: =(SUM('Serie x Rama SIPA'!G17:G25)/SUM('Serie x Rama SIPA'!G5:G13)-1)*100 -> -0.92468593 | H13: =(SUM('Serie x Rama SIPA'!H17:H25)/SUM('Serie x Rama SIPA'!H5:H13)-1)*100 -> 2.6941913 | I13: =(SUM('Serie x Rama SIPA'!I17:I25)/SUM('Serie x Rama SIPA'!I5:I13)-1)*100 -> 3.392604 | ... Q13: =(SUM('Serie x Rama SIPA'!Q17:Q25)/SUM('Serie x Rama SIPA'!Q5:Q13)-1)*100 -> 1.8858718
A14: 40452 | B14: =(SUM('Serie x Rama SIPA'!B17:B26)/SUM('Serie x Rama SIPA'!B5:B14)-1)*100 -> -0.91118179 | C14: =(SUM('Serie x Rama SIPA'!C17:C26)/SUM('Serie x Rama SIPA'!C5:C14)-1)*100 -> -2.215344 | D14: =(SUM('Serie x Rama SIPA'!D17:D26)/SUM('Serie x Rama SIPA'!D5:D14)-1)*100 -> 1.5778033 | E14: =(SUM('Serie x Rama SIPA'!E17:E26)/SUM('Serie x Rama SIPA'!E5:E14)-1)*100 -> 1.7229651 | F14: =(SUM('Serie x Rama SIPA'!F17:F26)/SUM('Serie x Rama SIPA'!F5:F14)-1)*100 -> 2.2165239 | G14: =(SUM('Serie x Rama SIPA'!G17:G26)/SUM('Serie x Rama SIPA'!G5:G14)-1)*100 -> -0.42169763 | H14: =(SUM('Serie x Rama SIPA'!H17:H26)/SUM('Serie x Rama SIPA'!H5:H14)-1)*100 -> 2.8399303 | I14: =(SUM('Serie x Rama SIPA'!I17:I26)/SUM('Serie x Rama SIPA'!I5:I14)-1)*100 -> 3.4723934 | ... Q14: =(SUM('Serie x Rama SIPA'!Q17:Q26)/SUM('Serie x Rama SIPA'!Q5:Q14)-1)*100 -> 2.0261205
A15: 40483 | B15: =(SUM('Serie x Rama SIPA'!B17:B27)/SUM('Serie x Rama SIPA'!B5:B15)-1)*100 -> -0.83662201 | C15: =(SUM('Serie x Rama SIPA'!C17:C27)/SUM('Serie x Rama SIPA'!C5:C15)-1)*100 -> -2.0066727 | D15: =(SUM('Serie x Rama SIPA'!D17:D27)/SUM('Serie x Rama SIPA'!D5:D15)-1)*100 -> 1.9466348 | E15: =(SUM('Serie x Rama SIPA'!E17:E27)/SUM('Serie x Rama SIPA'!E5:E15)-1)*100 -> 1.831887 | F15: =(SUM('Serie x Rama SIPA'!F17:F27)/SUM('Serie x Rama SIPA'!F5:F15)-1)*100 -> 2.1810138 | G15: =(SUM('Serie x Rama SIPA'!G17:G27)/SUM('Serie x Rama SIPA'!G5:G15)-1)*100 -> 0.14112855 | H15: =(SUM('Serie x Rama SIPA'!H17:H27)/SUM('Serie x Rama SIPA'!H5:H15)-1)*100 -> 2.9601426 | I15: =(SUM('Serie x Rama SIPA'!I17:I27)/SUM('Serie x Rama SIPA'!I5:I15)-1)*100 -> 3.54707 | ... Q15: =(SUM('Serie x Rama SIPA'!Q17:Q27)/SUM('Serie x Rama SIPA'!Q5:Q15)-1)*100 -> 2.1710686
A16: 40513 | B16: =(SUM('Serie x Rama SIPA'!B17:B28)/SUM('Serie x Rama SIPA'!B5:B16)-1)*100 -> -0.67765244 | C16: =(SUM('Serie x Rama SIPA'!C17:C28)/SUM('Serie x Rama SIPA'!C5:C16)-1)*100 -> -1.7924086 | D16: =(SUM('Serie x Rama SIPA'!D17:D28)/SUM('Serie x Rama SIPA'!D5:D16)-1)*100 -> 2.2232051 | E16: =(SUM('Serie x Rama SIPA'!E17:E28)/SUM('Serie x Rama SIPA'!E5:E16)-1)*100 -> 1.9669881 | F16: =(SUM('Serie x Rama SIPA'!F17:F28)/SUM('Serie x Rama SIPA'!F5:F16)-1)*100 -> 2.1688324 | G16: =(SUM('Serie x Rama SIPA'!G17:G28)/SUM('Serie x Rama SIPA'!G5:G16)-1)*100 -> 0.76060042 | H16: =(SUM('Serie x Rama SIPA'!H17:H28)/SUM('Serie x Rama SIPA'!H5:H16)-1)*100 -> 3.1059023 | I16: =(SUM('Serie x Rama SIPA'!I17:I28)/SUM('Serie x Rama SIPA'!I5:I16)-1)*100 -> 3.5749568 | ... Q16: =(SUM('Serie x Rama SIPA'!Q17:Q28)/SUM('Serie x Rama SIPA'!Q5:Q16)-1)*100 -> 2.333602
A17: 40544 | B17: =(SUM('Serie x Rama SIPA'!B29:B29)/SUM('Serie x Rama SIPA'!B17:B17)-1)*100 -> 1.8004798 | C17: =(SUM('Serie x Rama SIPA'!C29:C29)/SUM('Serie x Rama SIPA'!C17:C17)-1)*100 -> 0.93106045 | D17: =(SUM('Serie x Rama SIPA'!D29:D29)/SUM('Serie x Rama SIPA'!D17:D17)-1)*100 -> 5.6960604 | E17: =(SUM('Serie x Rama SIPA'!E29:E29)/SUM('Serie x Rama SIPA'!E17:E17)-1)*100 -> 3.8089353 | F17: =(SUM('Serie x Rama SIPA'!F29:F29)/SUM('Serie x Rama SIPA'!F17:F17)-1)*100 -> 2.5065423 | G17: =(SUM('Serie x Rama SIPA'!G29:G29)/SUM('Serie x Rama SIPA'!G17:G17)-1)*100 -> 8.9487919 | H17: =(SUM('Serie x Rama SIPA'!H29:H29)/SUM('Serie x Rama SIPA'!H17:H17)-1)*100 -> 5.0427409 | I17: =(SUM('Serie x Rama SIPA'!I29:I29)/SUM('Serie x Rama SIPA'!I17:I17)-1)*100 -> 4.7079059 | ... Q17: =(SUM('Serie x Rama SIPA'!Q29:Q29)/SUM('Serie x Rama SIPA'!Q17:Q17)-1)*100 -> 4.4759956
A18: 40575 | B18: =(SUM('Serie x Rama SIPA'!B29:B30)/SUM('Serie x Rama SIPA'!B17:B18)-1)*100 -> 2.3367833 | C18: =(SUM('Serie x Rama SIPA'!C29:C30)/SUM('Serie x Rama SIPA'!C17:C18)-1)*100 -> 2.1173644 | D18: =(SUM('Serie x Rama SIPA'!D29:D30)/SUM('Serie x Rama SIPA'!D17:D18)-1)*100 -> 5.6144281 | E18: =(SUM('Serie x Rama SIPA'!E29:E30)/SUM('Serie x Rama SIPA'!E17:E18)-1)*100 -> 3.7982221 | F18: =(SUM('Serie x Rama SIPA'!F29:F30)/SUM('Serie x Rama SIPA'!F17:F18)-1)*100 -> 2.6851019 | G18: =(SUM('Serie x Rama SIPA'!G29:G30)/SUM('Serie x Rama SIPA'!G17:G18)-1)*100 -> 9.1794473 | H18: =(SUM('Serie x Rama SIPA'!H29:H30)/SUM('Serie x Rama SIPA'!H17:H18)-1)*100 -> 4.9065153 | I18: =(SUM('Serie x Rama SIPA'!I29:I30)/SUM('Serie x Rama SIPA'!I17:I18)-1)*100 -> 4.6824707 | ... Q18: =(SUM('Serie x Rama SIPA'!Q29:Q30)/SUM('Serie x Rama SIPA'!Q17:Q18)-1)*100 -> 4.4943652
A19: 40603 | B19: =(SUM('Serie x Rama SIPA'!B29:B31)/SUM('Serie x Rama SIPA'!B17:B19)-1)*100 -> 2.8765245 | C19: =(SUM('Serie x Rama SIPA'!C29:C31)/SUM('Serie x Rama SIPA'!C17:C19)-1)*100 -> 2.4359503 | D19: =(SUM('Serie x Rama SIPA'!D29:D31)/SUM('Serie x Rama SIPA'!D17:D19)-1)*100 -> 5.516584 | E19: =(SUM('Serie x Rama SIPA'!E29:E31)/SUM('Serie x Rama SIPA'!E17:E19)-1)*100 -> 3.7895534 | F19: =(SUM('Serie x Rama SIPA'!F29:F31)/SUM('Serie x Rama SIPA'!F17:F19)-1)*100 -> 2.7216461 | G19: =(SUM('Serie x Rama SIPA'!G29:G31)/SUM('Serie x Rama SIPA'!G17:G19)-1)*100 -> 9.2531058 | H19: =(SUM('Serie x Rama SIPA'!H29:H31)/SUM('Serie x Rama SIPA'!H17:H19)-1)*100 -> 4.7506352 | I19: =(SUM('Serie x Rama SIPA'!I29:I31)/SUM('Serie x Rama SIPA'!I17:I19)-1)*100 -> 4.7184995 | ... Q19: =(SUM('Serie x Rama SIPA'!Q29:Q31)/SUM('Serie x Rama SIPA'!Q17:Q19)-1)*100 -> 4.4651655
A20: 40634 | B20: =(SUM('Serie x Rama SIPA'!B29:B32)/SUM('Serie x Rama SIPA'!B17:B20)-1)*100 -> 3.2947607 | C20: =(SUM('Serie x Rama SIPA'!C29:C32)/SUM('Serie x Rama SIPA'!C17:C20)-1)*100 -> 2.5744278 | D20: =(SUM('Serie x Rama SIPA'!D29:D32)/SUM('Serie x Rama SIPA'!D17:D20)-1)*100 -> 5.5246545 | E20: =(SUM('Serie x Rama SIPA'!E29:E32)/SUM('Serie x Rama SIPA'!E17:E20)-1)*100 -> 3.8445721 | F20: =(SUM('Serie x Rama SIPA'!F29:F32)/SUM('Serie x Rama SIPA'!F17:F20)-1)*100 -> 2.8256037 | G20: =(SUM('Serie x Rama SIPA'!G29:G32)/SUM('Serie x Rama SIPA'!G17:G20)-1)*100 -> 9.6492037 | H20: =(SUM('Serie x Rama SIPA'!H29:H32)/SUM('Serie x Rama SIPA'!H17:H20)-1)*100 -> 4.688308 | I20: =(SUM('Serie x Rama SIPA'!I29:I32)/SUM('Serie x Rama SIPA'!I17:I20)-1)*100 -> 4.6754671 | ... Q20: =(SUM('Serie x Rama SIPA'!Q29:Q32)/SUM('Serie x Rama SIPA'!Q17:Q20)-1)*100 -> 4.5232934
A21: 40664 | B21: =(SUM('Serie x Rama SIPA'!B29:B33)/SUM('Serie x Rama SIPA'!B17:B21)-1)*100 -> 3.5227818 | C21: =(SUM('Serie x Rama SIPA'!C29:C33)/SUM('Serie x Rama SIPA'!C17:C21)-1)*100 -> 2.5346354 | D21: =(SUM('Serie x Rama SIPA'!D29:D33)/SUM('Serie x Rama SIPA'!D17:D21)-1)*100 -> 5.5487989 | E21: =(SUM('Serie x Rama SIPA'!E29:E33)/SUM('Serie x Rama SIPA'!E17:E21)-1)*100 -> 3.9021432 | F21: =(SUM('Serie x Rama SIPA'!F29:F33)/SUM('Serie x Rama SIPA'!F17:F21)-1)*100 -> 2.954505 | G21: =(SUM('Serie x Rama SIPA'!G29:G33)/SUM('Serie x Rama SIPA'!G17:G21)-1)*100 -> 10.145932 | H21: =(SUM('Serie x Rama SIPA'!H29:H33)/SUM('Serie x Rama SIPA'!H17:H21)-1)*100 -> 4.6750234 | I21: =(SUM('Serie x Rama SIPA'!I29:I33)/SUM('Serie x Rama SIPA'!I17:I21)-1)*100 -> 4.6260104 | ... Q21: =(SUM('Serie x Rama SIPA'!Q29:Q33)/SUM('Serie x Rama SIPA'!Q17:Q21)-1)*100 -> 4.5953012
A22: 40695 | B22: =(SUM('Serie x Rama SIPA'!B29:B34)/SUM('Serie x Rama SIPA'!B17:B22)-1)*100 -> 3.6815841 | C22: =(SUM('Serie x Rama SIPA'!C29:C34)/SUM('Serie x Rama SIPA'!C17:C22)-1)*100 -> 3.1457585 | D22: =(SUM('Serie x Rama SIPA'!D29:D34)/SUM('Serie x Rama SIPA'!D17:D22)-1)*100 -> 5.6348905 | E22: =(SUM('Serie x Rama SIPA'!E29:E34)/SUM('Serie x Rama SIPA'!E17:E22)-1)*100 -> 3.9240989 | F22: =(SUM('Serie x Rama SIPA'!F29:F34)/SUM('Serie x Rama SIPA'!F17:F22)-1)*100 -> 3.0496525 | G22: =(SUM('Serie x Rama SIPA'!G29:G34)/SUM('Serie x Rama SIPA'!G17:G22)-1)*100 -> 10.470796 | H22: =(SUM('Serie x Rama SIPA'!H29:H34)/SUM('Serie x Rama SIPA'!H17:H22)-1)*100 -> 4.6663128 | I22: =(SUM('Serie x Rama SIPA'!I29:I34)/SUM('Serie x Rama SIPA'!I17:I22)-1)*100 -> 4.5567849 | ... Q22: =(SUM('Serie x Rama SIPA'!Q29:Q34)/SUM('Serie x Rama SIPA'!Q17:Q22)-1)*100 -> 4.6374239
A23: 40725 | B23: =(SUM('Serie x Rama SIPA'!B29:B35)/SUM('Serie x Rama SIPA'!B17:B23)-1)*100 -> 3.8146014 | C23: =(SUM('Serie x Rama SIPA'!C29:C35)/SUM('Serie x Rama SIPA'!C17:C23)-1)*100 -> 2.707033 | D23: =(SUM('Serie x Rama SIPA'!D29:D35)/SUM('Serie x Rama SIPA'!D17:D23)-1)*100 -> 5.6825231 | E23: =(SUM('Serie x Rama SIPA'!E29:E35)/SUM('Serie x Rama SIPA'!E17:E23)-1)*100 -> 3.9631301 | F23: =(SUM('Serie x Rama SIPA'!F29:F35)/SUM('Serie x Rama SIPA'!F17:F23)-1)*100 -> 3.1166521 | G23: =(SUM('Serie x Rama SIPA'!G29:G35)/SUM('Serie x Rama SIPA'!G17:G23)-1)*100 -> 10.694133 | H23: =(SUM('Serie x Rama SIPA'!H29:H35)/SUM('Serie x Rama SIPA'!H17:H23)-1)*100 -> 4.6513261 | I23: =(SUM('Serie x Rama SIPA'!I29:I35)/SUM('Serie x Rama SIPA'!I17:I23)-1)*100 -> 4.5688127 | ... Q23: =(SUM('Serie x Rama SIPA'!Q29:Q35)/SUM('Serie x Rama SIPA'!Q17:Q23)-1)*100 -> 4.6675208
A24: 40756 | B24: =(SUM('Serie x Rama SIPA'!B29:B36)/SUM('Serie x Rama SIPA'!B17:B24)-1)*100 -> 3.8414724 | C24: =(SUM('Serie x Rama SIPA'!C29:C36)/SUM('Serie x Rama SIPA'!C17:C24)-1)*100 -> 2.33487 | D24: =(SUM('Serie x Rama SIPA'!D29:D36)/SUM('Serie x Rama SIPA'!D17:D24)-1)*100 -> 5.667449 | E24: =(SUM('Serie x Rama SIPA'!E29:E36)/SUM('Serie x Rama SIPA'!E17:E24)-1)*100 -> 3.9851338 | F24: =(SUM('Serie x Rama SIPA'!F29:F36)/SUM('Serie x Rama SIPA'!F17:F24)-1)*100 -> 3.1786537 | G24: =(SUM('Serie x Rama SIPA'!G29:G36)/SUM('Serie x Rama SIPA'!G17:G24)-1)*100 -> 10.720636 | H24: =(SUM('Serie x Rama SIPA'!H29:H36)/SUM('Serie x Rama SIPA'!H17:H24)-1)*100 -> 4.639782 | I24: =(SUM('Serie x Rama SIPA'!I29:I36)/SUM('Serie x Rama SIPA'!I17:I24)-1)*100 -> 4.5505821 | ... Q24: =(SUM('Serie x Rama SIPA'!Q29:Q36)/SUM('Serie x Rama SIPA'!Q17:Q24)-1)*100 -> 4.6870317
A25: 40787 | B25: =(SUM('Serie x Rama SIPA'!B29:B37)/SUM('Serie x Rama SIPA'!B17:B25)-1)*100 -> 3.8050361 | C25: =(SUM('Serie x Rama SIPA'!C29:C37)/SUM('Serie x Rama SIPA'!C17:C25)-1)*100 -> 1.7889034 | D25: =(SUM('Serie x Rama SIPA'!D29:D37)/SUM('Serie x Rama SIPA'!D17:D25)-1)*100 -> 5.6989744 | E25: =(SUM('Serie x Rama SIPA'!E29:E37)/SUM('Serie x Rama SIPA'!E17:E25)-1)*100 -> 4.0256276 | F25: =(SUM('Serie x Rama SIPA'!F29:F37)/SUM('Serie x Rama SIPA'!F17:F25)-1)*100 -> 3.2390167 | G25: =(SUM('Serie x Rama SIPA'!G29:G37)/SUM('Serie x Rama SIPA'!G17:G25)-1)*100 -> 10.710245 | H25: =(SUM('Serie x Rama SIPA'!H29:H37)/SUM('Serie x Rama SIPA'!H17:H25)-1)*100 -> 4.6105609 | I25: =(SUM('Serie x Rama SIPA'!I29:I37)/SUM('Serie x Rama SIPA'!I17:I25)-1)*100 -> 4.5793521 | ... Q25: =(SUM('Serie x Rama SIPA'!Q29:Q37)/SUM('Serie x Rama SIPA'!Q17:Q25)-1)*100 -> 4.685184
A26: 40817 | B26: =(SUM('Serie x Rama SIPA'!B29:B38)/SUM('Serie x Rama SIPA'!B17:B26)-1)*100 -> 3.8644368 | C26: =(SUM('Serie x Rama SIPA'!C29:C38)/SUM('Serie x Rama SIPA'!C17:C26)-1)*100 -> 1.7989194 | D26: =(SUM('Serie x Rama SIPA'!D29:D38)/SUM('Serie x Rama SIPA'!D17:D26)-1)*100 -> 5.7417839 | E26: =(SUM('Serie x Rama SIPA'!E29:E38)/SUM('Serie x Rama SIPA'!E17:E26)-1)*100 -> 4.0683269 | F26: =(SUM('Serie x Rama SIPA'!F29:F38)/SUM('Serie x Rama SIPA'!F17:F26)-1)*100 -> 3.2594357 | G26: =(SUM('Serie x Rama SIPA'!G29:G38)/SUM('Serie x Rama SIPA'!G17:G26)-1)*100 -> 10.689322 | H26: =(SUM('Serie x Rama SIPA'!H29:H38)/SUM('Serie x Rama SIPA'!H17:H26)-1)*100 -> 4.5769708 | I26: =(SUM('Serie x Rama SIPA'!I29:I38)/SUM('Serie x Rama SIPA'!I17:I26)-1)*100 -> 4.5848671 | ... Q26: =(SUM('Serie x Rama SIPA'!Q29:Q38)/SUM('Serie x Rama SIPA'!Q17:Q26)-1)*100 -> 4.6871702
A27: 40848 | B27: =(SUM('Serie x Rama SIPA'!B29:B39)/SUM('Serie x Rama SIPA'!B17:B27)-1)*100 -> 3.809984 | C27: =(SUM('Serie x Rama SIPA'!C29:C39)/SUM('Serie x Rama SIPA'!C17:C27)-1)*100 -> 1.6496226 | D27: =(SUM('Serie x Rama SIPA'!D29:D39)/SUM('Serie x Rama SIPA'!D17:D27)-1)*100 -> 5.7206867 | E27: =(SUM('Serie x Rama SIPA'!E29:E39)/SUM('Serie x Rama SIPA'!E17:E27)-1)*100 -> 4.1080906 | F27: =(SUM('Serie x Rama SIPA'!F29:F39)/SUM('Serie x Rama SIPA'!F17:F27)-1)*100 -> 3.2643179 | G27: =(SUM('Serie x Rama SIPA'!G29:G39)/SUM('Serie x Rama SIPA'!G17:G27)-1)*100 -> 10.581974 | H27: =(SUM('Serie x Rama SIPA'!H29:H39)/SUM('Serie x Rama SIPA'!H17:H27)-1)*100 -> 4.5540673 | I27: =(SUM('Serie x Rama SIPA'!I29:I39)/SUM('Serie x Rama SIPA'!I17:I27)-1)*100 -> 4.6282791 | ... Q27: =(SUM('Serie x Rama SIPA'!Q29:Q39)/SUM('Serie x Rama SIPA'!Q17:Q27)-1)*100 -> 4.6804567
A28: 40878 | B28: =(SUM('Serie x Rama SIPA'!B29:B40)/SUM('Serie x Rama SIPA'!B17:B28)-1)*100 -> 3.7191904 | C28: =(SUM('Serie x Rama SIPA'!C29:C40)/SUM('Serie x Rama SIPA'!C17:C28)-1)*100 -> 1.4013622 | D28: =(SUM('Serie x Rama SIPA'!D29:D40)/SUM('Serie x Rama SIPA'!D17:D28)-1)*100 -> 5.7592603 | E28: =(SUM('Serie x Rama SIPA'!E29:E40)/SUM('Serie x Rama SIPA'!E17:E28)-1)*100 -> 4.1055461 | F28: =(SUM('Serie x Rama SIPA'!F29:F40)/SUM('Serie x Rama SIPA'!F17:F28)-1)*100 -> 3.257241 | G28: =(SUM('Serie x Rama SIPA'!G29:G40)/SUM('Serie x Rama SIPA'!G17:G28)-1)*100 -> 10.299293 | H28: =(SUM('Serie x Rama SIPA'!H29:H40)/SUM('Serie x Rama SIPA'!H17:H28)-1)*100 -> 4.5132261 | I28: =(SUM('Serie x Rama SIPA'!I29:I40)/SUM('Serie x Rama SIPA'!I17:I28)-1)*100 -> 4.6847474 | ... Q28: =(SUM('Serie x Rama SIPA'!Q29:Q40)/SUM('Serie x Rama SIPA'!Q17:Q28)-1)*100 -> 4.6222196
A29: 40909 | B29: =(SUM('Serie x Rama SIPA'!B41:B41)/SUM('Serie x Rama SIPA'!B29:B29)-1)*100 -> 1.8607777 | C29: =(SUM('Serie x Rama SIPA'!C41:C41)/SUM('Serie x Rama SIPA'!C29:C29)-1)*100 -> -0.59011056 | D29: =(SUM('Serie x Rama SIPA'!D41:D41)/SUM('Serie x Rama SIPA'!D29:D29)-1)*100 -> 6.1002734 | E29: =(SUM('Serie x Rama SIPA'!E41:E41)/SUM('Serie x Rama SIPA'!E29:E29)-1)*100 -> 3.5032223 | F29: =(SUM('Serie x Rama SIPA'!F41:F41)/SUM('Serie x Rama SIPA'!F29:F29)-1)*100 -> 2.9714663 | G29: =(SUM('Serie x Rama SIPA'!G41:G41)/SUM('Serie x Rama SIPA'!G29:G29)-1)*100 -> 4.7756176 | H29: =(SUM('Serie x Rama SIPA'!H41:H41)/SUM('Serie x Rama SIPA'!H29:H29)-1)*100 -> 3.5431384 | I29: =(SUM('Serie x Rama SIPA'!I41:I41)/SUM('Serie x Rama SIPA'!I29:I29)-1)*100 -> 4.6686482 | ... Q29: =(SUM('Serie x Rama SIPA'!Q41:Q41)/SUM('Serie x Rama SIPA'!Q29:Q29)-1)*100 -> 3.4698373
A30: 40940 | B30: =(SUM('Serie x Rama SIPA'!B41:B42)/SUM('Serie x Rama SIPA'!B29:B30)-1)*100 -> 0.61098506 | C30: =(SUM('Serie x Rama SIPA'!C41:C42)/SUM('Serie x Rama SIPA'!C29:C30)-1)*100 -> -2.3557482 | D30: =(SUM('Serie x Rama SIPA'!D41:D42)/SUM('Serie x Rama SIPA'!D29:D30)-1)*100 -> 6.0145804 | E30: =(SUM('Serie x Rama SIPA'!E41:E42)/SUM('Serie x Rama SIPA'!E29:E30)-1)*100 -> 3.1918905 | F30: =(SUM('Serie x Rama SIPA'!F41:F42)/SUM('Serie x Rama SIPA'!F29:F30)-1)*100 -> 2.9454378 | G30: =(SUM('Serie x Rama SIPA'!G41:G42)/SUM('Serie x Rama SIPA'!G29:G30)-1)*100 -> 3.9128001 | H30: =(SUM('Serie x Rama SIPA'!H41:H42)/SUM('Serie x Rama SIPA'!H29:H30)-1)*100 -> 3.3437081 | I30: =(SUM('Serie x Rama SIPA'!I41:I42)/SUM('Serie x Rama SIPA'!I29:I30)-1)*100 -> 4.6059929 | ... Q30: =(SUM('Serie x Rama SIPA'!Q41:Q42)/SUM('Serie x Rama SIPA'!Q29:Q30)-1)*100 -> 3.1486854
A31: 40969 | B31: =(SUM('Serie x Rama SIPA'!B41:B43)/SUM('Serie x Rama SIPA'!B29:B31)-1)*100 -> -0.50525685 | C31: =(SUM('Serie x Rama SIPA'!C41:C43)/SUM('Serie x Rama SIPA'!C29:C31)-1)*100 -> -3.4853806 | D31: =(SUM('Serie x Rama SIPA'!D41:D43)/SUM('Serie x Rama SIPA'!D29:D31)-1)*100 -> 5.919799 | E31: =(SUM('Serie x Rama SIPA'!E41:E43)/SUM('Serie x Rama SIPA'!E29:E31)-1)*100 -> 2.9925586 | F31: =(SUM('Serie x Rama SIPA'!F41:F43)/SUM('Serie x Rama SIPA'!F29:F31)-1)*100 -> 3.0572004 | G31: =(SUM('Serie x Rama SIPA'!G41:G43)/SUM('Serie x Rama SIPA'!G29:G31)-1)*100 -> 3.637217 | H31: =(SUM('Serie x Rama SIPA'!H41:H43)/SUM('Serie x Rama SIPA'!H29:H31)-1)*100 -> 3.2674725 | I31: =(SUM('Serie x Rama SIPA'!I41:I43)/SUM('Serie x Rama SIPA'!I29:I31)-1)*100 -> 4.5151476 | ... Q31: =(SUM('Serie x Rama SIPA'!Q41:Q43)/SUM('Serie x Rama SIPA'!Q29:Q31)-1)*100 -> 3.0192135
A32: 41000 | B32: =(SUM('Serie x Rama SIPA'!B41:B44)/SUM('Serie x Rama SIPA'!B29:B32)-1)*100 -> -1.534909 | C32: =(SUM('Serie x Rama SIPA'!C41:C44)/SUM('Serie x Rama SIPA'!C29:C32)-1)*100 -> -3.9509445 | D32: =(SUM('Serie x Rama SIPA'!D41:D44)/SUM('Serie x Rama SIPA'!D29:D32)-1)*100 -> 5.8452579 | E32: =(SUM('Serie x Rama SIPA'!E41:E44)/SUM('Serie x Rama SIPA'!E29:E32)-1)*100 -> 2.7261417 | F32: =(SUM('Serie x Rama SIPA'!F41:F44)/SUM('Serie x Rama SIPA'!F29:F32)-1)*100 -> 3.0343202 | G32: =(SUM('Serie x Rama SIPA'!G41:G44)/SUM('Serie x Rama SIPA'!G29:G32)-1)*100 -> 2.9006944 | H32: =(SUM('Serie x Rama SIPA'!H41:H44)/SUM('Serie x Rama SIPA'!H29:H32)-1)*100 -> 3.1106012 | I32: =(SUM('Serie x Rama SIPA'!I41:I44)/SUM('Serie x Rama SIPA'!I29:I32)-1)*100 -> 4.5952579 | ... Q32: =(SUM('Serie x Rama SIPA'!Q41:Q44)/SUM('Serie x Rama SIPA'!Q29:Q32)-1)*100 -> 2.725542
A33: 41030 | B33: =(SUM('Serie x Rama SIPA'!B41:B45)/SUM('Serie x Rama SIPA'!B29:B33)-1)*100 -> -1.737407 | C33: =(SUM('Serie x Rama SIPA'!C41:C45)/SUM('Serie x Rama SIPA'!C29:C33)-1)*100 -> -4.1114344 | D33: =(SUM('Serie x Rama SIPA'!D41:D45)/SUM('Serie x Rama SIPA'!D29:D33)-1)*100 -> 5.7860066 | E33: =(SUM('Serie x Rama SIPA'!E41:E45)/SUM('Serie x Rama SIPA'!E29:E33)-1)*100 -> 2.4780788 | F33: =(SUM('Serie x Rama SIPA'!F41:F45)/SUM('Serie x Rama SIPA'!F29:F33)-1)*100 -> 2.9693788 | G33: =(SUM('Serie x Rama SIPA'!G41:G45)/SUM('Serie x Rama SIPA'!G29:G33)-1)*100 -> 2.1615558 | H33: =(SUM('Serie x Rama SIPA'!H41:H45)/SUM('Serie x Rama SIPA'!H29:H33)-1)*100 -> 2.9750372 | I33: =(SUM('Serie x Rama SIPA'!I41:I45)/SUM('Serie x Rama SIPA'!I29:I33)-1)*100 -> 4.6416604 | ... Q33: =(SUM('Serie x Rama SIPA'!Q41:Q45)/SUM('Serie x Rama SIPA'!Q29:Q33)-1)*100 -> 2.5069149
A34: 41061 | B34: =(SUM('Serie x Rama SIPA'!B41:B46)/SUM('Serie x Rama SIPA'!B29:B34)-1)*100 -> -1.7513139 | C34: =(SUM('Serie x Rama SIPA'!C41:C46)/SUM('Serie x Rama SIPA'!C29:C34)-1)*100 -> -5.0120962 | D34: =(SUM('Serie x Rama SIPA'!D41:D46)/SUM('Serie x Rama SIPA'!D29:D34)-1)*100 -> 5.6472803 | E34: =(SUM('Serie x Rama SIPA'!E41:E46)/SUM('Serie x Rama SIPA'!E29:E34)-1)*100 -> 2.2603989 | F34: =(SUM('Serie x Rama SIPA'!F41:F46)/SUM('Serie x Rama SIPA'!F29:F34)-1)*100 -> 2.9360783 | G34: =(SUM('Serie x Rama SIPA'!G41:G46)/SUM('Serie x Rama SIPA'!G29:G34)-1)*100 -> 1.5536469 | H34: =(SUM('Serie x Rama SIPA'!H41:H46)/SUM('Serie x Rama SIPA'!H29:H34)-1)*100 -> 2.8083924 | I34: =(SUM('Serie x Rama SIPA'!I41:I46)/SUM('Serie x Rama SIPA'!I29:I34)-1)*100 -> 4.516702 | ... Q34: =(SUM('Serie x Rama SIPA'!Q41:Q46)/SUM('Serie x Rama SIPA'!Q29:Q34)-1)*100 -> 2.3091225
A35: 41091 | B35: =(SUM('Serie x Rama SIPA'!B41:B47)/SUM('Serie x Rama SIPA'!B29:B35)-1)*100 -> -1.8398234 | C35: =(SUM('Serie x Rama SIPA'!C41:C47)/SUM('Serie x Rama SIPA'!C29:C35)-1)*100 -> -5.9910613 | D35: =(SUM('Serie x Rama SIPA'!D41:D47)/SUM('Serie x Rama SIPA'!D29:D35)-1)*100 -> 5.4194991 | E35: =(SUM('Serie x Rama SIPA'!E41:E47)/SUM('Serie x Rama SIPA'!E29:E35)-1)*100 -> 2.0712703 | F35: =(SUM('Serie x Rama SIPA'!F41:F47)/SUM('Serie x Rama SIPA'!F29:F35)-1)*100 -> 2.9208991 | G35: =(SUM('Serie x Rama SIPA'!G41:G47)/SUM('Serie x Rama SIPA'!G29:G35)-1)*100 -> 0.98404691 | H35: =(SUM('Serie x Rama SIPA'!H41:H47)/SUM('Serie x Rama SIPA'!H29:H35)-1)*100 -> 2.6307684 | I35: =(SUM('Serie x Rama SIPA'!I41:I47)/SUM('Serie x Rama SIPA'!I29:I35)-1)*100 -> 4.3468466 | ... Q35: =(SUM('Serie x Rama SIPA'!Q41:Q47)/SUM('Serie x Rama SIPA'!Q29:Q35)-1)*100 -> 2.117913
A36: 41122 | B36: =(SUM('Serie x Rama SIPA'!B41:B48)/SUM('Serie x Rama SIPA'!B29:B36)-1)*100 -> -1.858853 | C36: =(SUM('Serie x Rama SIPA'!C41:C48)/SUM('Serie x Rama SIPA'!C29:C36)-1)*100 -> -6.6684496 | D36: =(SUM('Serie x Rama SIPA'!D41:D48)/SUM('Serie x Rama SIPA'!D29:D36)-1)*100 -> 5.2404828 | E36: =(SUM('Serie x Rama SIPA'!E41:E48)/SUM('Serie x Rama SIPA'!E29:E36)-1)*100 -> 1.9058107 | F36: =(SUM('Serie x Rama SIPA'!F41:F48)/SUM('Serie x Rama SIPA'!F29:F36)-1)*100 -> 2.9249681 | G36: =(SUM('Serie x Rama SIPA'!G41:G48)/SUM('Serie x Rama SIPA'!G29:G36)-1)*100 -> 0.3918451 | H36: =(SUM('Serie x Rama SIPA'!H41:H48)/SUM('Serie x Rama SIPA'!H29:H36)-1)*100 -> 2.4652227 | I36: =(SUM('Serie x Rama SIPA'!I41:I48)/SUM('Serie x Rama SIPA'!I29:I36)-1)*100 -> 4.2279693 | ... Q36: =(SUM('Serie x Rama SIPA'!Q41:Q48)/SUM('Serie x Rama SIPA'!Q29:Q36)-1)*100 -> 1.9283318
A37: 41153 | B37: =(SUM('Serie x Rama SIPA'!B41:B49)/SUM('Serie x Rama SIPA'!B29:B37)-1)*100 -> -1.8318579 | C37: =(SUM('Serie x Rama SIPA'!C41:C49)/SUM('Serie x Rama SIPA'!C29:C37)-1)*100 -> -6.979303 | D37: =(SUM('Serie x Rama SIPA'!D41:D49)/SUM('Serie x Rama SIPA'!D29:D37)-1)*100 -> 5.0488625 | E37: =(SUM('Serie x Rama SIPA'!E41:E49)/SUM('Serie x Rama SIPA'!E29:E37)-1)*100 -> 1.7367967 | F37: =(SUM('Serie x Rama SIPA'!F41:F49)/SUM('Serie x Rama SIPA'!F29:F37)-1)*100 -> 2.9520669 | G37: =(SUM('Serie x Rama SIPA'!G41:G49)/SUM('Serie x Rama SIPA'!G29:G37)-1)*100 -> -0.25831002 | H37: =(SUM('Serie x Rama SIPA'!H41:H49)/SUM('Serie x Rama SIPA'!H29:H37)-1)*100 -> 2.3120949 | I37: =(SUM('Serie x Rama SIPA'!I41:I49)/SUM('Serie x Rama SIPA'!I29:I37)-1)*100 -> 4.1210202 | ... Q37: =(SUM('Serie x Rama SIPA'!Q41:Q49)/SUM('Serie x Rama SIPA'!Q29:Q37)-1)*100 -> 1.7490676
A38: 41183 | B38: =(SUM('Serie x Rama SIPA'!B41:B50)/SUM('Serie x Rama SIPA'!B29:B38)-1)*100 -> -1.9581628 | C38: =(SUM('Serie x Rama SIPA'!C41:C50)/SUM('Serie x Rama SIPA'!C29:C38)-1)*100 -> -7.1047077 | D38: =(SUM('Serie x Rama SIPA'!D41:D50)/SUM('Serie x Rama SIPA'!D29:D38)-1)*100 -> 4.8694273 | E38: =(SUM('Serie x Rama SIPA'!E41:E50)/SUM('Serie x Rama SIPA'!E29:E38)-1)*100 -> 1.5842303 | F38: =(SUM('Serie x Rama SIPA'!F41:F50)/SUM('Serie x Rama SIPA'!F29:F38)-1)*100 -> 2.9856469 | G38: =(SUM('Serie x Rama SIPA'!G41:G50)/SUM('Serie x Rama SIPA'!G29:G38)-1)*100 -> -0.83532395 | H38: =(SUM('Serie x Rama SIPA'!H41:H50)/SUM('Serie x Rama SIPA'!H29:H38)-1)*100 -> 2.1815348 | I38: =(SUM('Serie x Rama SIPA'!I41:I50)/SUM('Serie x Rama SIPA'!I29:I38)-1)*100 -> 4.0450123 | ... Q38: =(SUM('Serie x Rama SIPA'!Q41:Q50)/SUM('Serie x Rama SIPA'!Q29:Q38)-1)*100 -> 1.5851832
A39: 41214 | B39: =(SUM('Serie x Rama SIPA'!B41:B51)/SUM('Serie x Rama SIPA'!B29:B39)-1)*100 -> -1.9875661 | C39: =(SUM('Serie x Rama SIPA'!C41:C51)/SUM('Serie x Rama SIPA'!C29:C39)-1)*100 -> -7.3430989 | D39: =(SUM('Serie x Rama SIPA'!D41:D51)/SUM('Serie x Rama SIPA'!D29:D39)-1)*100 -> 4.6857855 | E39: =(SUM('Serie x Rama SIPA'!E41:E51)/SUM('Serie x Rama SIPA'!E29:E39)-1)*100 -> 1.4567618 | F39: =(SUM('Serie x Rama SIPA'!F41:F51)/SUM('Serie x Rama SIPA'!F29:F39)-1)*100 -> 3.0282831 | G39: =(SUM('Serie x Rama SIPA'!G41:G51)/SUM('Serie x Rama SIPA'!G29:G39)-1)*100 -> -1.3464296 | H39: =(SUM('Serie x Rama SIPA'!H41:H51)/SUM('Serie x Rama SIPA'!H29:H39)-1)*100 -> 2.0495096 | I39: =(SUM('Serie x Rama SIPA'!I41:I51)/SUM('Serie x Rama SIPA'!I29:I39)-1)*100 -> 3.968515 | ... Q39: =(SUM('Serie x Rama SIPA'!Q41:Q51)/SUM('Serie x Rama SIPA'!Q29:Q39)-1)*100 -> 1.4324384
A40: 41244 | B40: =(SUM('Serie x Rama SIPA'!B41:B52)/SUM('Serie x Rama SIPA'!B29:B40)-1)*100 -> -1.907836 | C40: =(SUM('Serie x Rama SIPA'!C41:C52)/SUM('Serie x Rama SIPA'!C29:C40)-1)*100 -> -7.4976192 | D40: =(SUM('Serie x Rama SIPA'!D41:D52)/SUM('Serie x Rama SIPA'!D29:D40)-1)*100 -> 4.4991852 | E40: =(SUM('Serie x Rama SIPA'!E41:E52)/SUM('Serie x Rama SIPA'!E29:E40)-1)*100 -> 1.3784261 | F40: =(SUM('Serie x Rama SIPA'!F41:F52)/SUM('Serie x Rama SIPA'!F29:F40)-1)*100 -> 3.0787415 | G40: =(SUM('Serie x Rama SIPA'!G41:G52)/SUM('Serie x Rama SIPA'!G29:G40)-1)*100 -> -1.7530483 | H40: =(SUM('Serie x Rama SIPA'!H41:H52)/SUM('Serie x Rama SIPA'!H29:H40)-1)*100 -> 1.9571546 | I40: =(SUM('Serie x Rama SIPA'!I41:I52)/SUM('Serie x Rama SIPA'!I29:I40)-1)*100 -> 3.8954335 | ... Q40: =(SUM('Serie x Rama SIPA'!Q41:Q52)/SUM('Serie x Rama SIPA'!Q29:Q40)-1)*100 -> 1.3357098
A41: 41275 | B41: =(SUM('Serie x Rama SIPA'!B53:B53)/SUM('Serie x Rama SIPA'!B41:B41)-1)*100 -> 0.011941724 | C41: =(SUM('Serie x Rama SIPA'!C53:C53)/SUM('Serie x Rama SIPA'!C41:C41)-1)*100 -> -9.0679585 | D41: =(SUM('Serie x Rama SIPA'!D53:D53)/SUM('Serie x Rama SIPA'!D41:D41)-1)*100 -> 2.3233146 | E41: =(SUM('Serie x Rama SIPA'!E53:E53)/SUM('Serie x Rama SIPA'!E41:E41)-1)*100 -> 0.60511589 | F41: =(SUM('Serie x Rama SIPA'!F53:F53)/SUM('Serie x Rama SIPA'!F41:F41)-1)*100 -> 3.7762261 | G41: =(SUM('Serie x Rama SIPA'!G53:G53)/SUM('Serie x Rama SIPA'!G41:G41)-1)*100 -> -4.8503926 | H41: =(SUM('Serie x Rama SIPA'!H53:H53)/SUM('Serie x Rama SIPA'!H41:H41)-1)*100 -> 1.0400963 | I41: =(SUM('Serie x Rama SIPA'!I53:I53)/SUM('Serie x Rama SIPA'!I41:I41)-1)*100 -> 3.8424659 | ... Q41: =(SUM('Serie x Rama SIPA'!Q53:Q53)/SUM('Serie x Rama SIPA'!Q41:Q41)-1)*100 -> 0.36567626
A42: 41306 | B42: =(SUM('Serie x Rama SIPA'!B53:B54)/SUM('Serie x Rama SIPA'!B41:B42)-1)*100 -> 0.51071053 | C42: =(SUM('Serie x Rama SIPA'!C53:C54)/SUM('Serie x Rama SIPA'!C41:C42)-1)*100 -> -8.5731002 | D42: =(SUM('Serie x Rama SIPA'!D53:D54)/SUM('Serie x Rama SIPA'!D41:D42)-1)*100 -> 2.4078064 | E42: =(SUM('Serie x Rama SIPA'!E53:E54)/SUM('Serie x Rama SIPA'!E41:E42)-1)*100 -> 0.68660737 | F42: =(SUM('Serie x Rama SIPA'!F53:F54)/SUM('Serie x Rama SIPA'!F41:F42)-1)*100 -> 3.809267 | G42: =(SUM('Serie x Rama SIPA'!G53:G54)/SUM('Serie x Rama SIPA'!G41:G42)-1)*100 -> -4.4056223 | H42: =(SUM('Serie x Rama SIPA'!H53:H54)/SUM('Serie x Rama SIPA'!H41:H42)-1)*100 -> 1.0968768 | I42: =(SUM('Serie x Rama SIPA'!I53:I54)/SUM('Serie x Rama SIPA'!I41:I42)-1)*100 -> 3.5596367 | ... Q42: =(SUM('Serie x Rama SIPA'!Q53:Q54)/SUM('Serie x Rama SIPA'!Q41:Q42)-1)*100 -> 0.48027341
A43: 41334 | B43: =(SUM('Serie x Rama SIPA'!B53:B55)/SUM('Serie x Rama SIPA'!B41:B43)-1)*100 -> 1.0081153 | C43: =(SUM('Serie x Rama SIPA'!C53:C55)/SUM('Serie x Rama SIPA'!C41:C43)-1)*100 -> -8.6271238 | D43: =(SUM('Serie x Rama SIPA'!D53:D55)/SUM('Serie x Rama SIPA'!D41:D43)-1)*100 -> 2.5550477 | E43: =(SUM('Serie x Rama SIPA'!E53:E55)/SUM('Serie x Rama SIPA'!E41:E43)-1)*100 -> 0.74614255 | F43: =(SUM('Serie x Rama SIPA'!F53:F55)/SUM('Serie x Rama SIPA'!F41:F43)-1)*100 -> 3.7733626 | G43: =(SUM('Serie x Rama SIPA'!G53:G55)/SUM('Serie x Rama SIPA'!G41:G43)-1)*100 -> -4.0860152 | H43: =(SUM('Serie x Rama SIPA'!H53:H55)/SUM('Serie x Rama SIPA'!H41:H43)-1)*100 -> 1.129242 | I43: =(SUM('Serie x Rama SIPA'!I53:I55)/SUM('Serie x Rama SIPA'!I41:I43)-1)*100 -> 3.308584 | ... Q43: =(SUM('Serie x Rama SIPA'!Q53:Q55)/SUM('Serie x Rama SIPA'!Q41:Q43)-1)*100 -> 0.5019959
A44: 41365 | B44: =(SUM('Serie x Rama SIPA'!B53:B56)/SUM('Serie x Rama SIPA'!B41:B44)-1)*100 -> 1.705579 | C44: =(SUM('Serie x Rama SIPA'!C53:C56)/SUM('Serie x Rama SIPA'!C41:C44)-1)*100 -> -8.2409041 | D44: =(SUM('Serie x Rama SIPA'!D53:D56)/SUM('Serie x Rama SIPA'!D41:D44)-1)*100 -> 2.6003879 | E44: =(SUM('Serie x Rama SIPA'!E53:E56)/SUM('Serie x Rama SIPA'!E41:E44)-1)*100 -> 0.80390259 | F44: =(SUM('Serie x Rama SIPA'!F53:F56)/SUM('Serie x Rama SIPA'!F41:F44)-1)*100 -> 3.871673 | G44: =(SUM('Serie x Rama SIPA'!G53:G56)/SUM('Serie x Rama SIPA'!G41:G44)-1)*100 -> -3.5884204 | H44: =(SUM('Serie x Rama SIPA'!H53:H56)/SUM('Serie x Rama SIPA'!H41:H44)-1)*100 -> 1.1190432 | I44: =(SUM('Serie x Rama SIPA'!I53:I56)/SUM('Serie x Rama SIPA'!I41:I44)-1)*100 -> 2.9369357 | ... Q44: =(SUM('Serie x Rama SIPA'!Q53:Q56)/SUM('Serie x Rama SIPA'!Q41:Q44)-1)*100 -> 0.62470074
A45: 41395 | B45: =(SUM('Serie x Rama SIPA'!B53:B57)/SUM('Serie x Rama SIPA'!B41:B45)-1)*100 -> 1.511027 | C45: =(SUM('Serie x Rama SIPA'!C53:C57)/SUM('Serie x Rama SIPA'!C41:C45)-1)*100 -> -7.5526833 | D45: =(SUM('Serie x Rama SIPA'!D53:D57)/SUM('Serie x Rama SIPA'!D41:D45)-1)*100 -> 2.6763228 | E45: =(SUM('Serie x Rama SIPA'!E53:E57)/SUM('Serie x Rama SIPA'!E41:E45)-1)*100 -> 0.84318821 | F45: =(SUM('Serie x Rama SIPA'!F53:F57)/SUM('Serie x Rama SIPA'!F41:F45)-1)*100 -> 3.9927545 | G45: =(SUM('Serie x Rama SIPA'!G53:G57)/SUM('Serie x Rama SIPA'!G41:G45)-1)*100 -> -3.2251268 | H45: =(SUM('Serie x Rama SIPA'!H53:H57)/SUM('Serie x Rama SIPA'!H41:H45)-1)*100 -> 1.080476 | I45: =(SUM('Serie x Rama SIPA'!I53:I57)/SUM('Serie x Rama SIPA'!I41:I45)-1)*100 -> 2.5751104 | ... Q45: =(SUM('Serie x Rama SIPA'!Q53:Q57)/SUM('Serie x Rama SIPA'!Q41:Q45)-1)*100 -> 0.64350026
A46: 41426 | B46: =(SUM('Serie x Rama SIPA'!B53:B58)/SUM('Serie x Rama SIPA'!B41:B46)-1)*100 -> 1.1051646 | C46: =(SUM('Serie x Rama SIPA'!C53:C58)/SUM('Serie x Rama SIPA'!C41:C46)-1)*100 -> -6.6573123 | D46: =(SUM('Serie x Rama SIPA'!D53:D58)/SUM('Serie x Rama SIPA'!D41:D46)-1)*100 -> 2.6898384 | E46: =(SUM('Serie x Rama SIPA'!E53:E58)/SUM('Serie x Rama SIPA'!E41:E46)-1)*100 -> 0.86161112 | F46: =(SUM('Serie x Rama SIPA'!F53:F58)/SUM('Serie x Rama SIPA'!F41:F46)-1)*100 -> 4.0845098 | G46: =(SUM('Serie x Rama SIPA'!G53:G58)/SUM('Serie x Rama SIPA'!G41:G46)-1)*100 -> -2.9470217 | H46: =(SUM('Serie x Rama SIPA'!H53:H58)/SUM('Serie x Rama SIPA'!H41:H46)-1)*100 -> 1.0728054 | I46: =(SUM('Serie x Rama SIPA'!I53:I58)/SUM('Serie x Rama SIPA'!I41:I46)-1)*100 -> 2.4549626 | ... Q46: =(SUM('Serie x Rama SIPA'!Q53:Q58)/SUM('Serie x Rama SIPA'!Q41:Q46)-1)*100 -> 0.64078525
A47: 41456 | B47: =(SUM('Serie x Rama SIPA'!B53:B59)/SUM('Serie x Rama SIPA'!B41:B47)-1)*100 -> 0.83040736 | C47: =(SUM('Serie x Rama SIPA'!C53:C59)/SUM('Serie x Rama SIPA'!C41:C47)-1)*100 -> -5.9025339 | D47: =(SUM('Serie x Rama SIPA'!D53:D59)/SUM('Serie x Rama SIPA'!D41:D47)-1)*100 -> 2.8494 | E47: =(SUM('Serie x Rama SIPA'!E53:E59)/SUM('Serie x Rama SIPA'!E41:E47)-1)*100 -> 0.8693826 | F47: =(SUM('Serie x Rama SIPA'!F53:F59)/SUM('Serie x Rama SIPA'!F41:F47)-1)*100 -> 4.2297035 | G47: =(SUM('Serie x Rama SIPA'!G53:G59)/SUM('Serie x Rama SIPA'!G41:G47)-1)*100 -> -2.608545 | H47: =(SUM('Serie x Rama SIPA'!H53:H59)/SUM('Serie x Rama SIPA'!H41:H47)-1)*100 -> 1.0803017 | I47: =(SUM('Serie x Rama SIPA'!I53:I59)/SUM('Serie x Rama SIPA'!I41:I47)-1)*100 -> 2.4453715 | ... Q47: =(SUM('Serie x Rama SIPA'!Q53:Q59)/SUM('Serie x Rama SIPA'!Q41:Q47)-1)*100 -> 0.66044408
A48: 41487 | B48: =(SUM('Serie x Rama SIPA'!B53:B60)/SUM('Serie x Rama SIPA'!B41:B48)-1)*100 -> 0.58006344 | C48: =(SUM('Serie x Rama SIPA'!C53:C60)/SUM('Serie x Rama SIPA'!C41:C48)-1)*100 -> -5.3548722 | D48: =(SUM('Serie x Rama SIPA'!D53:D60)/SUM('Serie x Rama SIPA'!D41:D48)-1)*100 -> 2.9720589 | E48: =(SUM('Serie x Rama SIPA'!E53:E60)/SUM('Serie x Rama SIPA'!E41:E48)-1)*100 -> 0.86421312 | F48: =(SUM('Serie x Rama SIPA'!F53:F60)/SUM('Serie x Rama SIPA'!F41:F48)-1)*100 -> 4.3568539 | G48: =(SUM('Serie x Rama SIPA'!G53:G60)/SUM('Serie x Rama SIPA'!G41:G48)-1)*100 -> -2.2019441 | H48: =(SUM('Serie x Rama SIPA'!H53:H60)/SUM('Serie x Rama SIPA'!H41:H48)-1)*100 -> 1.0922636 | I48: =(SUM('Serie x Rama SIPA'!I53:I60)/SUM('Serie x Rama SIPA'!I41:I48)-1)*100 -> 2.374901 | ... Q48: =(SUM('Serie x Rama SIPA'!Q53:Q60)/SUM('Serie x Rama SIPA'!Q41:Q48)-1)*100 -> 0.71142058
A49: 41518 | B49: =(SUM('Serie x Rama SIPA'!B53:B61)/SUM('Serie x Rama SIPA'!B41:B49)-1)*100 -> 0.26660126 | C49: =(SUM('Serie x Rama SIPA'!C53:C61)/SUM('Serie x Rama SIPA'!C41:C49)-1)*100 -> -4.9391004 | D49: =(SUM('Serie x Rama SIPA'!D53:D61)/SUM('Serie x Rama SIPA'!D41:D49)-1)*100 -> 3.1395494 | E49: =(SUM('Serie x Rama SIPA'!E53:E61)/SUM('Serie x Rama SIPA'!E41:E49)-1)*100 -> 0.86561114 | F49: =(SUM('Serie x Rama SIPA'!F53:F61)/SUM('Serie x Rama SIPA'!F41:F49)-1)*100 -> 4.4314485 | G49: =(SUM('Serie x Rama SIPA'!G53:G61)/SUM('Serie x Rama SIPA'!G41:G49)-1)*100 -> -1.7838129 | H49: =(SUM('Serie x Rama SIPA'!H53:H61)/SUM('Serie x Rama SIPA'!H41:H49)-1)*100 -> 1.1097638 | I49: =(SUM('Serie x Rama SIPA'!I53:I61)/SUM('Serie x Rama SIPA'!I41:I49)-1)*100 -> 2.3157172 | ... Q49: =(SUM('Serie x Rama SIPA'!Q53:Q61)/SUM('Serie x Rama SIPA'!Q41:Q49)-1)*100 -> 0.73674537
A50: 41548 | B50: =(SUM('Serie x Rama SIPA'!B53:B62)/SUM('Serie x Rama SIPA'!B41:B50)-1)*100 -> -0.15774857 | C50: =(SUM('Serie x Rama SIPA'!C53:C62)/SUM('Serie x Rama SIPA'!C41:C50)-1)*100 -> -4.5944757 | D50: =(SUM('Serie x Rama SIPA'!D53:D62)/SUM('Serie x Rama SIPA'!D41:D50)-1)*100 -> 3.2965116 | E50: =(SUM('Serie x Rama SIPA'!E53:E62)/SUM('Serie x Rama SIPA'!E41:E50)-1)*100 -> 0.86379994 | F50: =(SUM('Serie x Rama SIPA'!F53:F62)/SUM('Serie x Rama SIPA'!F41:F50)-1)*100 -> 4.54956 | G50: =(SUM('Serie x Rama SIPA'!G53:G62)/SUM('Serie x Rama SIPA'!G41:G50)-1)*100 -> -1.3696043 | H50: =(SUM('Serie x Rama SIPA'!H53:H62)/SUM('Serie x Rama SIPA'!H41:H50)-1)*100 -> 1.1098488 | I50: =(SUM('Serie x Rama SIPA'!I53:I62)/SUM('Serie x Rama SIPA'!I41:I50)-1)*100 -> 2.2609818 | ... Q50: =(SUM('Serie x Rama SIPA'!Q53:Q62)/SUM('Serie x Rama SIPA'!Q41:Q50)-1)*100 -> 0.75113093
A51: 41579 | B51: =(SUM('Serie x Rama SIPA'!B53:B63)/SUM('Serie x Rama SIPA'!B41:B51)-1)*100 -> -0.46935571 | C51: =(SUM('Serie x Rama SIPA'!C53:C63)/SUM('Serie x Rama SIPA'!C41:C51)-1)*100 -> -4.0757738 | D51: =(SUM('Serie x Rama SIPA'!D53:D63)/SUM('Serie x Rama SIPA'!D41:D51)-1)*100 -> 3.4498739 | E51: =(SUM('Serie x Rama SIPA'!E53:E63)/SUM('Serie x Rama SIPA'!E41:E51)-1)*100 -> 0.84124812 | F51: =(SUM('Serie x Rama SIPA'!F53:F63)/SUM('Serie x Rama SIPA'!F41:F51)-1)*100 -> 4.6145944 | G51: =(SUM('Serie x Rama SIPA'!G53:G63)/SUM('Serie x Rama SIPA'!G41:G51)-1)*100 -> -1.144213 | H51: =(SUM('Serie x Rama SIPA'!H53:H63)/SUM('Serie x Rama SIPA'!H41:H51)-1)*100 -> 1.1107479 | I51: =(SUM('Serie x Rama SIPA'!I53:I63)/SUM('Serie x Rama SIPA'!I41:I51)-1)*100 -> 2.1982649 | ... Q51: =(SUM('Serie x Rama SIPA'!Q53:Q63)/SUM('Serie x Rama SIPA'!Q41:Q51)-1)*100 -> 0.76929472
A52: 41609 | B52: =(SUM('Serie x Rama SIPA'!B53:B64)/SUM('Serie x Rama SIPA'!B41:B52)-1)*100 -> -0.63099464 | C52: =(SUM('Serie x Rama SIPA'!C53:C64)/SUM('Serie x Rama SIPA'!C41:C52)-1)*100 -> -3.6214769 | D52: =(SUM('Serie x Rama SIPA'!D53:D64)/SUM('Serie x Rama SIPA'!D41:D52)-1)*100 -> 3.6487441 | E52: =(SUM('Serie x Rama SIPA'!E53:E64)/SUM('Serie x Rama SIPA'!E41:E52)-1)*100 -> 0.78081585 | F52: =(SUM('Serie x Rama SIPA'!F53:F64)/SUM('Serie x Rama SIPA'!F41:F52)-1)*100 -> 4.6738121 | G52: =(SUM('Serie x Rama SIPA'!G53:G64)/SUM('Serie x Rama SIPA'!G41:G52)-1)*100 -> -0.96233751 | H52: =(SUM('Serie x Rama SIPA'!H53:H64)/SUM('Serie x Rama SIPA'!H41:H52)-1)*100 -> 1.0924416 | I52: =(SUM('Serie x Rama SIPA'!I53:I64)/SUM('Serie x Rama SIPA'!I41:I52)-1)*100 -> 2.1487783 | ... Q52: =(SUM('Serie x Rama SIPA'!Q53:Q64)/SUM('Serie x Rama SIPA'!Q41:Q52)-1)*100 -> 0.74879673
A53: 41640 | B53: =(SUM('Serie x Rama SIPA'!B65:B65)/SUM('Serie x Rama SIPA'!B53:B53)-1)*100 -> -2.919403 | C53: =(SUM('Serie x Rama SIPA'!C65:C65)/SUM('Serie x Rama SIPA'!C53:C53)-1)*100 -> -2.8138366 | D53: =(SUM('Serie x Rama SIPA'!D65:D65)/SUM('Serie x Rama SIPA'!D53:D53)-1)*100 -> 6.2910234 | E53: =(SUM('Serie x Rama SIPA'!E65:E65)/SUM('Serie x Rama SIPA'!E53:E53)-1)*100 -> -0.21202493 | F53: =(SUM('Serie x Rama SIPA'!F65:F65)/SUM('Serie x Rama SIPA'!F53:F53)-1)*100 -> 5.4639125 | G53: =(SUM('Serie x Rama SIPA'!G65:G65)/SUM('Serie x Rama SIPA'!G53:G53)-1)*100 -> 0.23905233 | H53: =(SUM('Serie x Rama SIPA'!H65:H65)/SUM('Serie x Rama SIPA'!H53:H53)-1)*100 -> 0.98117759 | I53: =(SUM('Serie x Rama SIPA'!I65:I65)/SUM('Serie x Rama SIPA'!I53:I53)-1)*100 -> 1.4841385 | ... Q53: =(SUM('Serie x Rama SIPA'!Q65:Q65)/SUM('Serie x Rama SIPA'!Q53:Q53)-1)*100 -> 0.41401228
A54: 41671 | B54: =(SUM('Serie x Rama SIPA'!B65:B66)/SUM('Serie x Rama SIPA'!B53:B54)-1)*100 -> -3.5638203 | C54: =(SUM('Serie x Rama SIPA'!C65:C66)/SUM('Serie x Rama SIPA'!C53:C54)-1)*100 -> -2.5183512 | D54: =(SUM('Serie x Rama SIPA'!D65:D66)/SUM('Serie x Rama SIPA'!D53:D54)-1)*100 -> 6.6152574 | E54: =(SUM('Serie x Rama SIPA'!E65:E66)/SUM('Serie x Rama SIPA'!E53:E54)-1)*100 -> -0.32774363 | F54: =(SUM('Serie x Rama SIPA'!F65:F66)/SUM('Serie x Rama SIPA'!F53:F54)-1)*100 -> 5.4944877 | G54: =(SUM('Serie x Rama SIPA'!G65:G66)/SUM('Serie x Rama SIPA'!G53:G54)-1)*100 -> -0.16478111 | H54: =(SUM('Serie x Rama SIPA'!H65:H66)/SUM('Serie x Rama SIPA'!H53:H54)-1)*100 -> 0.94137555 | I54: =(SUM('Serie x Rama SIPA'!I65:I66)/SUM('Serie x Rama SIPA'!I53:I54)-1)*100 -> 1.4484418 | ... Q54: =(SUM('Serie x Rama SIPA'!Q65:Q66)/SUM('Serie x Rama SIPA'!Q53:Q54)-1)*100 -> 0.30115441
A55: 41699 | B55: =(SUM('Serie x Rama SIPA'!B65:B67)/SUM('Serie x Rama SIPA'!B53:B55)-1)*100 -> -3.8485853 | C55: =(SUM('Serie x Rama SIPA'!C65:C67)/SUM('Serie x Rama SIPA'!C53:C55)-1)*100 -> -2.1993354 | D55: =(SUM('Serie x Rama SIPA'!D65:D67)/SUM('Serie x Rama SIPA'!D53:D55)-1)*100 -> 6.6927991 | E55: =(SUM('Serie x Rama SIPA'!E65:E67)/SUM('Serie x Rama SIPA'!E53:E55)-1)*100 -> -0.5335403 | F55: =(SUM('Serie x Rama SIPA'!F65:F67)/SUM('Serie x Rama SIPA'!F53:F55)-1)*100 -> 5.4739711 | G55: =(SUM('Serie x Rama SIPA'!G65:G67)/SUM('Serie x Rama SIPA'!G53:G55)-1)*100 -> -0.74840462 | H55: =(SUM('Serie x Rama SIPA'!H65:H67)/SUM('Serie x Rama SIPA'!H53:H55)-1)*100 -> 0.72248655 | I55: =(SUM('Serie x Rama SIPA'!I65:I67)/SUM('Serie x Rama SIPA'!I53:I55)-1)*100 -> 1.417085 | ... Q55: =(SUM('Serie x Rama SIPA'!Q65:Q67)/SUM('Serie x Rama SIPA'!Q53:Q55)-1)*100 -> 0.11855308
A56: 41730 | B56: =(SUM('Serie x Rama SIPA'!B65:B68)/SUM('Serie x Rama SIPA'!B53:B56)-1)*100 -> -4.0997474 | C56: =(SUM('Serie x Rama SIPA'!C65:C68)/SUM('Serie x Rama SIPA'!C53:C56)-1)*100 -> -1.8407477 | D56: =(SUM('Serie x Rama SIPA'!D65:D68)/SUM('Serie x Rama SIPA'!D53:D56)-1)*100 -> 6.8732857 | E56: =(SUM('Serie x Rama SIPA'!E65:E68)/SUM('Serie x Rama SIPA'!E53:E56)-1)*100 -> -0.65666002 | F56: =(SUM('Serie x Rama SIPA'!F65:F68)/SUM('Serie x Rama SIPA'!F53:F56)-1)*100 -> 5.4882245 | G56: =(SUM('Serie x Rama SIPA'!G65:G68)/SUM('Serie x Rama SIPA'!G53:G56)-1)*100 -> -1.1891974 | H56: =(SUM('Serie x Rama SIPA'!H65:H68)/SUM('Serie x Rama SIPA'!H53:H56)-1)*100 -> 0.62940669 | I56: =(SUM('Serie x Rama SIPA'!I65:I68)/SUM('Serie x Rama SIPA'!I53:I56)-1)*100 -> 1.4240939 | ... Q56: =(SUM('Serie x Rama SIPA'!Q65:Q68)/SUM('Serie x Rama SIPA'!Q53:Q56)-1)*100 -> 0.0055921093
A57: 41760 | B57: =(SUM('Serie x Rama SIPA'!B65:B69)/SUM('Serie x Rama SIPA'!B53:B57)-1)*100 -> -3.8416877 | C57: =(SUM('Serie x Rama SIPA'!C65:C69)/SUM('Serie x Rama SIPA'!C53:C57)-1)*100 -> -1.5971673 | D57: =(SUM('Serie x Rama SIPA'!D65:D69)/SUM('Serie x Rama SIPA'!D53:D57)-1)*100 -> 6.9629948 | E57: =(SUM('Serie x Rama SIPA'!E65:E69)/SUM('Serie x Rama SIPA'!E53:E57)-1)*100 -> -0.76080412 | F57: =(SUM('Serie x Rama SIPA'!F65:F69)/SUM('Serie x Rama SIPA'!F53:F57)-1)*100 -> 5.5063097 | G57: =(SUM('Serie x Rama SIPA'!G65:G69)/SUM('Serie x Rama SIPA'!G53:G57)-1)*100 -> -1.3146493 | H57: =(SUM('Serie x Rama SIPA'!H65:H69)/SUM('Serie x Rama SIPA'!H53:H57)-1)*100 -> 0.58151462 | I57: =(SUM('Serie x Rama SIPA'!I65:I69)/SUM('Serie x Rama SIPA'!I53:I57)-1)*100 -> 1.5444487 | ... Q57: =(SUM('Serie x Rama SIPA'!Q65:Q69)/SUM('Serie x Rama SIPA'!Q53:Q57)-1)*100 -> -0.012199093
A58: 41791 | B58: =(SUM('Serie x Rama SIPA'!B65:B70)/SUM('Serie x Rama SIPA'!B53:B58)-1)*100 -> -3.3787461 | C58: =(SUM('Serie x Rama SIPA'!C65:C70)/SUM('Serie x Rama SIPA'!C53:C58)-1)*100 -> -1.1722648 | D58: =(SUM('Serie x Rama SIPA'!D65:D70)/SUM('Serie x Rama SIPA'!D53:D58)-1)*100 -> 7.1513609 | E58: =(SUM('Serie x Rama SIPA'!E65:E70)/SUM('Serie x Rama SIPA'!E53:E58)-1)*100 -> -0.8314091 | F58: =(SUM('Serie x Rama SIPA'!F65:F70)/SUM('Serie x Rama SIPA'!F53:F58)-1)*100 -> 5.5052553 | G58: =(SUM('Serie x Rama SIPA'!G65:G70)/SUM('Serie x Rama SIPA'!G53:G58)-1)*100 -> -1.2205738 | H58: =(SUM('Serie x Rama SIPA'!H65:H70)/SUM('Serie x Rama SIPA'!H53:H58)-1)*100 -> 0.55619058 | I58: =(SUM('Serie x Rama SIPA'!I65:I70)/SUM('Serie x Rama SIPA'!I53:I58)-1)*100 -> 1.596676 | ... Q58: =(SUM('Serie x Rama SIPA'!Q65:Q70)/SUM('Serie x Rama SIPA'!Q53:Q58)-1)*100 -> 0.0090492143
A59: 41821 | B59: =(SUM('Serie x Rama SIPA'!B65:B71)/SUM('Serie x Rama SIPA'!B53:B59)-1)*100 -> -2.8935747 | C59: =(SUM('Serie x Rama SIPA'!C65:C71)/SUM('Serie x Rama SIPA'!C53:C59)-1)*100 -> -0.77787755 | D59: =(SUM('Serie x Rama SIPA'!D65:D71)/SUM('Serie x Rama SIPA'!D53:D59)-1)*100 -> 7.2108152 | E59: =(SUM('Serie x Rama SIPA'!E65:E71)/SUM('Serie x Rama SIPA'!E53:E59)-1)*100 -> -0.91448602 | F59: =(SUM('Serie x Rama SIPA'!F65:F71)/SUM('Serie x Rama SIPA'!F53:F59)-1)*100 -> 5.4652028 | G59: =(SUM('Serie x Rama SIPA'!G65:G71)/SUM('Serie x Rama SIPA'!G53:G59)-1)*100 -> -1.181855 | H59: =(SUM('Serie x Rama SIPA'!H65:H71)/SUM('Serie x Rama SIPA'!H53:H59)-1)*100 -> 0.53589893 | I59: =(SUM('Serie x Rama SIPA'!I65:I71)/SUM('Serie x Rama SIPA'!I53:I59)-1)*100 -> 1.5209933 | ... Q59: =(SUM('Serie x Rama SIPA'!Q65:Q71)/SUM('Serie x Rama SIPA'!Q53:Q59)-1)*100 -> 0.012098587
A60: 41852 | B60: =(SUM('Serie x Rama SIPA'!B65:B72)/SUM('Serie x Rama SIPA'!B53:B60)-1)*100 -> -2.4912781 | C60: =(SUM('Serie x Rama SIPA'!C65:C72)/SUM('Serie x Rama SIPA'!C53:C60)-1)*100 -> -0.70486499 | D60: =(SUM('Serie x Rama SIPA'!D65:D72)/SUM('Serie x Rama SIPA'!D53:D60)-1)*100 -> 7.2689041 | E60: =(SUM('Serie x Rama SIPA'!E65:E72)/SUM('Serie x Rama SIPA'!E53:E60)-1)*100 -> -0.99288889 | F60: =(SUM('Serie x Rama SIPA'!F65:F72)/SUM('Serie x Rama SIPA'!F53:F60)-1)*100 -> 5.4135043 | G60: =(SUM('Serie x Rama SIPA'!G65:G72)/SUM('Serie x Rama SIPA'!G53:G60)-1)*100 -> -1.134477 | H60: =(SUM('Serie x Rama SIPA'!H65:H72)/SUM('Serie x Rama SIPA'!H53:H60)-1)*100 -> 0.49973174 | I60: =(SUM('Serie x Rama SIPA'!I65:I72)/SUM('Serie x Rama SIPA'!I53:I60)-1)*100 -> 1.4759396 | ... Q60: =(SUM('Serie x Rama SIPA'!Q65:Q72)/SUM('Serie x Rama SIPA'!Q53:Q60)-1)*100 -> -0.018744525
A61: 41883 | B61: =(SUM('Serie x Rama SIPA'!B65:B73)/SUM('Serie x Rama SIPA'!B53:B61)-1)*100 -> -2.0646983 | C61: =(SUM('Serie x Rama SIPA'!C65:C73)/SUM('Serie x Rama SIPA'!C53:C61)-1)*100 -> -0.54731638 | D61: =(SUM('Serie x Rama SIPA'!D65:D73)/SUM('Serie x Rama SIPA'!D53:D61)-1)*100 -> 7.273287 | E61: =(SUM('Serie x Rama SIPA'!E65:E73)/SUM('Serie x Rama SIPA'!E53:E61)-1)*100 -> -1.0643562 | F61: =(SUM('Serie x Rama SIPA'!F65:F73)/SUM('Serie x Rama SIPA'!F53:F61)-1)*100 -> 5.358423 | G61: =(SUM('Serie x Rama SIPA'!G65:G73)/SUM('Serie x Rama SIPA'!G53:G61)-1)*100 -> -1.0511583 | H61: =(SUM('Serie x Rama SIPA'!H65:H73)/SUM('Serie x Rama SIPA'!H53:H61)-1)*100 -> 0.45430975 | I61: =(SUM('Serie x Rama SIPA'!I65:I73)/SUM('Serie x Rama SIPA'!I53:I61)-1)*100 -> 1.396429 | ... Q61: =(SUM('Serie x Rama SIPA'!Q65:Q73)/SUM('Serie x Rama SIPA'!Q53:Q61)-1)*100 -> -0.0084223993
A62: 41913 | B62: =(SUM('Serie x Rama SIPA'!B65:B74)/SUM('Serie x Rama SIPA'!B53:B62)-1)*100 -> -1.4561632 | C62: =(SUM('Serie x Rama SIPA'!C65:C74)/SUM('Serie x Rama SIPA'!C53:C62)-1)*100 -> -0.43930618 | D62: =(SUM('Serie x Rama SIPA'!D65:D74)/SUM('Serie x Rama SIPA'!D53:D62)-1)*100 -> 7.3034527 | E62: =(SUM('Serie x Rama SIPA'!E65:E74)/SUM('Serie x Rama SIPA'!E53:E62)-1)*100 -> -1.1310469 | F62: =(SUM('Serie x Rama SIPA'!F65:F74)/SUM('Serie x Rama SIPA'!F53:F62)-1)*100 -> 5.2723272 | G62: =(SUM('Serie x Rama SIPA'!G65:G74)/SUM('Serie x Rama SIPA'!G53:G62)-1)*100 -> -0.9877751 | H62: =(SUM('Serie x Rama SIPA'!H65:H74)/SUM('Serie x Rama SIPA'!H53:H62)-1)*100 -> 0.41612382 | I62: =(SUM('Serie x Rama SIPA'!I65:I74)/SUM('Serie x Rama SIPA'!I53:I62)-1)*100 -> 1.3333471 | ... Q62: =(SUM('Serie x Rama SIPA'!Q65:Q74)/SUM('Serie x Rama SIPA'!Q53:Q62)-1)*100 -> 0.01119674
A63: 41944 | B63: =(SUM('Serie x Rama SIPA'!B65:B75)/SUM('Serie x Rama SIPA'!B53:B63)-1)*100 -> -1.0164553 | C63: =(SUM('Serie x Rama SIPA'!C65:C75)/SUM('Serie x Rama SIPA'!C53:C63)-1)*100 -> -0.4297001 | D63: =(SUM('Serie x Rama SIPA'!D65:D75)/SUM('Serie x Rama SIPA'!D53:D63)-1)*100 -> 7.3602017 | E63: =(SUM('Serie x Rama SIPA'!E65:E75)/SUM('Serie x Rama SIPA'!E53:E63)-1)*100 -> -1.1878037 | F63: =(SUM('Serie x Rama SIPA'!F65:F75)/SUM('Serie x Rama SIPA'!F53:F63)-1)*100 -> 5.2722214 | G63: =(SUM('Serie x Rama SIPA'!G65:G75)/SUM('Serie x Rama SIPA'!G53:G63)-1)*100 -> -0.77420227 | H63: =(SUM('Serie x Rama SIPA'!H65:H75)/SUM('Serie x Rama SIPA'!H53:H63)-1)*100 -> 0.37824848 | I63: =(SUM('Serie x Rama SIPA'!I65:I75)/SUM('Serie x Rama SIPA'!I53:I63)-1)*100 -> 1.2808952 | ... Q63: =(SUM('Serie x Rama SIPA'!Q65:Q75)/SUM('Serie x Rama SIPA'!Q53:Q63)-1)*100 -> 0.022923139
A64: 41974 | B64: =(SUM('Serie x Rama SIPA'!B65:B76)/SUM('Serie x Rama SIPA'!B53:B64)-1)*100 -> -0.82130062 | C64: =(SUM('Serie x Rama SIPA'!C65:C76)/SUM('Serie x Rama SIPA'!C53:C64)-1)*100 -> -0.57180199 | D64: =(SUM('Serie x Rama SIPA'!D65:D76)/SUM('Serie x Rama SIPA'!D53:D64)-1)*100 -> 7.3884868 | E64: =(SUM('Serie x Rama SIPA'!E65:E76)/SUM('Serie x Rama SIPA'!E53:E64)-1)*100 -> -1.2354297 | F64: =(SUM('Serie x Rama SIPA'!F65:F76)/SUM('Serie x Rama SIPA'!F53:F64)-1)*100 -> 5.2667972 | G64: =(SUM('Serie x Rama SIPA'!G65:G76)/SUM('Serie x Rama SIPA'!G53:G64)-1)*100 -> -0.54282534 | H64: =(SUM('Serie x Rama SIPA'!H65:H76)/SUM('Serie x Rama SIPA'!H53:H64)-1)*100 -> 0.33878997 | I64: =(SUM('Serie x Rama SIPA'!I65:I76)/SUM('Serie x Rama SIPA'!I53:I64)-1)*100 -> 1.2461483 | ... Q64: =(SUM('Serie x Rama SIPA'!Q65:Q76)/SUM('Serie x Rama SIPA'!Q53:Q64)-1)*100 -> 0.047845159
A65: 42005 | B65: =(SUM('Serie x Rama SIPA'!B77:B77)/SUM('Serie x Rama SIPA'!B65:B65)-1)*100 -> 1.5183568 | C65: =(SUM('Serie x Rama SIPA'!C77:C77)/SUM('Serie x Rama SIPA'!C65:C65)-1)*100 -> 0.42464484 | D65: =(SUM('Serie x Rama SIPA'!D77:D77)/SUM('Serie x Rama SIPA'!D65:D65)-1)*100 -> 7.5379969 | E65: =(SUM('Serie x Rama SIPA'!E77:E77)/SUM('Serie x Rama SIPA'!E65:E65)-1)*100 -> -1.3461009 | F65: =(SUM('Serie x Rama SIPA'!F77:F77)/SUM('Serie x Rama SIPA'!F65:F65)-1)*100 -> 4.6923397 | G65: =(SUM('Serie x Rama SIPA'!G77:G77)/SUM('Serie x Rama SIPA'!G65:G65)-1)*100 -> 3.6754181 | H65: =(SUM('Serie x Rama SIPA'!H77:H77)/SUM('Serie x Rama SIPA'!H65:H65)-1)*100 -> 0.021830709 | I65: =(SUM('Serie x Rama SIPA'!I77:I77)/SUM('Serie x Rama SIPA'!I65:I65)-1)*100 -> 1.5973621 | ... Q65: =(SUM('Serie x Rama SIPA'!Q77:Q77)/SUM('Serie x Rama SIPA'!Q65:Q65)-1)*100 -> 0.78409134
A66: 42036 | B66: =(SUM('Serie x Rama SIPA'!B77:B78)/SUM('Serie x Rama SIPA'!B65:B66)-1)*100 -> 2.4069081 | C66: =(SUM('Serie x Rama SIPA'!C77:C78)/SUM('Serie x Rama SIPA'!C65:C66)-1)*100 -> 0.85341365 | D66: =(SUM('Serie x Rama SIPA'!D77:D78)/SUM('Serie x Rama SIPA'!D65:D66)-1)*100 -> 7.2158147 | E66: =(SUM('Serie x Rama SIPA'!E77:E78)/SUM('Serie x Rama SIPA'!E65:E66)-1)*100 -> -1.1317156 | F66: =(SUM('Serie x Rama SIPA'!F77:F78)/SUM('Serie x Rama SIPA'!F65:F66)-1)*100 -> 4.7358133 | G66: =(SUM('Serie x Rama SIPA'!G77:G78)/SUM('Serie x Rama SIPA'!G65:G66)-1)*100 -> 4.2044666 | H66: =(SUM('Serie x Rama SIPA'!H77:H78)/SUM('Serie x Rama SIPA'!H65:H66)-1)*100 -> 0.15765879 | I66: =(SUM('Serie x Rama SIPA'!I77:I78)/SUM('Serie x Rama SIPA'!I65:I66)-1)*100 -> 1.919139 | ... Q66: =(SUM('Serie x Rama SIPA'!Q77:Q78)/SUM('Serie x Rama SIPA'!Q65:Q66)-1)*100 -> 0.95193199
A67: 42064 | B67: =(SUM('Serie x Rama SIPA'!B77:B79)/SUM('Serie x Rama SIPA'!B65:B67)-1)*100 -> 2.4316191 | C67: =(SUM('Serie x Rama SIPA'!C77:C79)/SUM('Serie x Rama SIPA'!C65:C67)-1)*100 -> 2.038699 | D67: =(SUM('Serie x Rama SIPA'!D77:D79)/SUM('Serie x Rama SIPA'!D65:D67)-1)*100 -> 7.0004506 | E67: =(SUM('Serie x Rama SIPA'!E77:E79)/SUM('Serie x Rama SIPA'!E65:E67)-1)*100 -> -0.93554212 | F67: =(SUM('Serie x Rama SIPA'!F77:F79)/SUM('Serie x Rama SIPA'!F65:F67)-1)*100 -> 4.7213337 | G67: =(SUM('Serie x Rama SIPA'!G77:G79)/SUM('Serie x Rama SIPA'!G65:G67)-1)*100 -> 5.0403864 | H67: =(SUM('Serie x Rama SIPA'!H77:H79)/SUM('Serie x Rama SIPA'!H65:H67)-1)*100 -> 0.41961506 | I67: =(SUM('Serie x Rama SIPA'!I77:I79)/SUM('Serie x Rama SIPA'!I65:I67)-1)*100 -> 1.9117377 | ... Q67: =(SUM('Serie x Rama SIPA'!Q77:Q79)/SUM('Serie x Rama SIPA'!Q65:Q67)-1)*100 -> 1.1662734
A68: 42095 | B68: =(SUM('Serie x Rama SIPA'!B77:B80)/SUM('Serie x Rama SIPA'!B65:B68)-1)*100 -> 2.4872784 | C68: =(SUM('Serie x Rama SIPA'!C77:C80)/SUM('Serie x Rama SIPA'!C65:C68)-1)*100 -> 2.0304076 | D68: =(SUM('Serie x Rama SIPA'!D77:D80)/SUM('Serie x Rama SIPA'!D65:D68)-1)*100 -> 6.6615093 | E68: =(SUM('Serie x Rama SIPA'!E77:E80)/SUM('Serie x Rama SIPA'!E65:E68)-1)*100 -> -0.71215604 | F68: =(SUM('Serie x Rama SIPA'!F77:F80)/SUM('Serie x Rama SIPA'!F65:F68)-1)*100 -> 4.6393651 | G68: =(SUM('Serie x Rama SIPA'!G77:G80)/SUM('Serie x Rama SIPA'!G65:G68)-1)*100 -> 5.8846516 | H68: =(SUM('Serie x Rama SIPA'!H77:H80)/SUM('Serie x Rama SIPA'!H65:H68)-1)*100 -> 0.66334284 | I68: =(SUM('Serie x Rama SIPA'!I77:I80)/SUM('Serie x Rama SIPA'!I65:I68)-1)*100 -> 2.1978591 | ... Q68: =(SUM('Serie x Rama SIPA'!Q77:Q80)/SUM('Serie x Rama SIPA'!Q65:Q68)-1)*100 -> 1.404901
A69: 42125 | B69: =(SUM('Serie x Rama SIPA'!B77:B81)/SUM('Serie x Rama SIPA'!B65:B69)-1)*100 -> 2.1708245 | C69: =(SUM('Serie x Rama SIPA'!C77:C81)/SUM('Serie x Rama SIPA'!C65:C69)-1)*100 -> 1.9165135 | D69: =(SUM('Serie x Rama SIPA'!D77:D81)/SUM('Serie x Rama SIPA'!D65:D69)-1)*100 -> 6.3372497 | E69: =(SUM('Serie x Rama SIPA'!E77:E81)/SUM('Serie x Rama SIPA'!E65:E69)-1)*100 -> -0.50194289 | F69: =(SUM('Serie x Rama SIPA'!F77:F81)/SUM('Serie x Rama SIPA'!F65:F69)-1)*100 -> 4.6470884 | G69: =(SUM('Serie x Rama SIPA'!G77:G81)/SUM('Serie x Rama SIPA'!G65:G69)-1)*100 -> 6.4779976 | H69: =(SUM('Serie x Rama SIPA'!H77:H81)/SUM('Serie x Rama SIPA'!H65:H69)-1)*100 -> 0.82884078 | I69: =(SUM('Serie x Rama SIPA'!I77:I81)/SUM('Serie x Rama SIPA'!I65:I69)-1)*100 -> 2.2813593 | ... Q69: =(SUM('Serie x Rama SIPA'!Q77:Q81)/SUM('Serie x Rama SIPA'!Q65:Q69)-1)*100 -> 1.5316432
A70: 42156 | B70: =(SUM('Serie x Rama SIPA'!B77:B82)/SUM('Serie x Rama SIPA'!B65:B70)-1)*100 -> 1.6683331 | C70: =(SUM('Serie x Rama SIPA'!C77:C82)/SUM('Serie x Rama SIPA'!C65:C70)-1)*100 -> 1.1567713 | D70: =(SUM('Serie x Rama SIPA'!D77:D82)/SUM('Serie x Rama SIPA'!D65:D70)-1)*100 -> 5.9529813 | E70: =(SUM('Serie x Rama SIPA'!E77:E82)/SUM('Serie x Rama SIPA'!E65:E70)-1)*100 -> -0.33976969 | F70: =(SUM('Serie x Rama SIPA'!F77:F82)/SUM('Serie x Rama SIPA'!F65:F70)-1)*100 -> 4.6216861 | G70: =(SUM('Serie x Rama SIPA'!G77:G82)/SUM('Serie x Rama SIPA'!G65:G70)-1)*100 -> 7.0219329 | H70: =(SUM('Serie x Rama SIPA'!H77:H82)/SUM('Serie x Rama SIPA'!H65:H70)-1)*100 -> 0.97244396 | I70: =(SUM('Serie x Rama SIPA'!I77:I82)/SUM('Serie x Rama SIPA'!I65:I70)-1)*100 -> 2.3526869 | ... Q70: =(SUM('Serie x Rama SIPA'!Q77:Q82)/SUM('Serie x Rama SIPA'!Q65:Q70)-1)*100 -> 1.6505267
A71: 42186 | B71: =(SUM('Serie x Rama SIPA'!B77:B83)/SUM('Serie x Rama SIPA'!B65:B71)-1)*100 -> 1.2228426 | C71: =(SUM('Serie x Rama SIPA'!C77:C83)/SUM('Serie x Rama SIPA'!C65:C71)-1)*100 -> 0.2278873 | D71: =(SUM('Serie x Rama SIPA'!D77:D83)/SUM('Serie x Rama SIPA'!D65:D71)-1)*100 -> 5.6323079 | E71: =(SUM('Serie x Rama SIPA'!E77:E83)/SUM('Serie x Rama SIPA'!E65:E71)-1)*100 -> -0.18899046 | F71: =(SUM('Serie x Rama SIPA'!F77:F83)/SUM('Serie x Rama SIPA'!F65:F71)-1)*100 -> 4.6480012 | G71: =(SUM('Serie x Rama SIPA'!G77:G83)/SUM('Serie x Rama SIPA'!G65:G71)-1)*100 -> 7.3803254 | H71: =(SUM('Serie x Rama SIPA'!H77:H83)/SUM('Serie x Rama SIPA'!H65:H71)-1)*100 -> 1.0907479 | I71: =(SUM('Serie x Rama SIPA'!I77:I83)/SUM('Serie x Rama SIPA'!I65:I71)-1)*100 -> 2.4633986 | ... Q71: =(SUM('Serie x Rama SIPA'!Q77:Q83)/SUM('Serie x Rama SIPA'!Q65:Q71)-1)*100 -> 1.7445807
A72: 42217 | B72: =(SUM('Serie x Rama SIPA'!B77:B84)/SUM('Serie x Rama SIPA'!B65:B72)-1)*100 -> 0.85787999 | C72: =(SUM('Serie x Rama SIPA'!C77:C84)/SUM('Serie x Rama SIPA'!C65:C72)-1)*100 -> -0.08861447 | D72: =(SUM('Serie x Rama SIPA'!D77:D84)/SUM('Serie x Rama SIPA'!D65:D72)-1)*100 -> 5.3187424 | E72: =(SUM('Serie x Rama SIPA'!E77:E84)/SUM('Serie x Rama SIPA'!E65:E72)-1)*100 -> -0.053368787 | F72: =(SUM('Serie x Rama SIPA'!F77:F84)/SUM('Serie x Rama SIPA'!F65:F72)-1)*100 -> 4.662473 | G72: =(SUM('Serie x Rama SIPA'!G77:G84)/SUM('Serie x Rama SIPA'!G65:G72)-1)*100 -> 7.5131303 | H72: =(SUM('Serie x Rama SIPA'!H77:H84)/SUM('Serie x Rama SIPA'!H65:H72)-1)*100 -> 1.1997822 | I72: =(SUM('Serie x Rama SIPA'!I77:I84)/SUM('Serie x Rama SIPA'!I65:I72)-1)*100 -> 2.5853003 | ... Q72: =(SUM('Serie x Rama SIPA'!Q77:Q84)/SUM('Serie x Rama SIPA'!Q65:Q72)-1)*100 -> 1.8469664
A73: 42248 | B73: =(SUM('Serie x Rama SIPA'!B77:B85)/SUM('Serie x Rama SIPA'!B65:B73)-1)*100 -> 0.50763225 | C73: =(SUM('Serie x Rama SIPA'!C77:C85)/SUM('Serie x Rama SIPA'!C65:C73)-1)*100 -> -0.35335988 | D73: =(SUM('Serie x Rama SIPA'!D77:D85)/SUM('Serie x Rama SIPA'!D65:D73)-1)*100 -> 5.0007374 | E73: =(SUM('Serie x Rama SIPA'!E77:E85)/SUM('Serie x Rama SIPA'!E65:E73)-1)*100 -> 0.071923486 | F73: =(SUM('Serie x Rama SIPA'!F77:F85)/SUM('Serie x Rama SIPA'!F65:F73)-1)*100 -> 4.6675053 | G73: =(SUM('Serie x Rama SIPA'!G77:G85)/SUM('Serie x Rama SIPA'!G65:G73)-1)*100 -> 7.5242333 | H73: =(SUM('Serie x Rama SIPA'!H77:H85)/SUM('Serie x Rama SIPA'!H65:H73)-1)*100 -> 1.3030382 | I73: =(SUM('Serie x Rama SIPA'!I77:I85)/SUM('Serie x Rama SIPA'!I65:I73)-1)*100 -> 2.7177199 | ... Q73: =(SUM('Serie x Rama SIPA'!Q77:Q85)/SUM('Serie x Rama SIPA'!Q65:Q73)-1)*100 -> 1.8969314
A74: 42278 | B74: =(SUM('Serie x Rama SIPA'!B77:B86)/SUM('Serie x Rama SIPA'!B65:B74)-1)*100 -> 0.01900169 | C74: =(SUM('Serie x Rama SIPA'!C77:C86)/SUM('Serie x Rama SIPA'!C65:C74)-1)*100 -> -0.58554145 | D74: =(SUM('Serie x Rama SIPA'!D77:D86)/SUM('Serie x Rama SIPA'!D65:D74)-1)*100 -> 4.6250626 | E74: =(SUM('Serie x Rama SIPA'!E77:E86)/SUM('Serie x Rama SIPA'!E65:E74)-1)*100 -> 0.17161347 | F74: =(SUM('Serie x Rama SIPA'!F77:F86)/SUM('Serie x Rama SIPA'!F65:F74)-1)*100 -> 4.6460442 | G74: =(SUM('Serie x Rama SIPA'!G77:G86)/SUM('Serie x Rama SIPA'!G65:G74)-1)*100 -> 7.3557505 | H74: =(SUM('Serie x Rama SIPA'!H77:H86)/SUM('Serie x Rama SIPA'!H65:H74)-1)*100 -> 1.396127 | I74: =(SUM('Serie x Rama SIPA'!I77:I86)/SUM('Serie x Rama SIPA'!I65:I74)-1)*100 -> 2.8035361 | ... Q74: =(SUM('Serie x Rama SIPA'!Q77:Q86)/SUM('Serie x Rama SIPA'!Q65:Q74)-1)*100 -> 1.9292704
A75: 42309 | B75: =(SUM('Serie x Rama SIPA'!B77:B87)/SUM('Serie x Rama SIPA'!B65:B75)-1)*100 -> -0.40097601 | C75: =(SUM('Serie x Rama SIPA'!C77:C87)/SUM('Serie x Rama SIPA'!C65:C75)-1)*100 -> -0.75280752 | D75: =(SUM('Serie x Rama SIPA'!D77:D87)/SUM('Serie x Rama SIPA'!D65:D75)-1)*100 -> 4.1757653 | E75: =(SUM('Serie x Rama SIPA'!E77:E87)/SUM('Serie x Rama SIPA'!E65:E75)-1)*100 -> 0.2441228 | F75: =(SUM('Serie x Rama SIPA'!F77:F87)/SUM('Serie x Rama SIPA'!F65:F75)-1)*100 -> 4.5589811 | G75: =(SUM('Serie x Rama SIPA'!G77:G87)/SUM('Serie x Rama SIPA'!G65:G75)-1)*100 -> 6.9925693 | H75: =(SUM('Serie x Rama SIPA'!H77:H87)/SUM('Serie x Rama SIPA'!H65:H75)-1)*100 -> 1.4761975 | I75: =(SUM('Serie x Rama SIPA'!I77:I87)/SUM('Serie x Rama SIPA'!I65:I75)-1)*100 -> 2.8267332 | ... Q75: =(SUM('Serie x Rama SIPA'!Q77:Q87)/SUM('Serie x Rama SIPA'!Q65:Q75)-1)*100 -> 1.929279
A76: 42339 | B76: =(SUM('Serie x Rama SIPA'!B77:B88)/SUM('Serie x Rama SIPA'!B65:B76)-1)*100 -> -0.71668792 | C76: =(SUM('Serie x Rama SIPA'!C77:C88)/SUM('Serie x Rama SIPA'!C65:C76)-1)*100 -> -0.90118557 | D76: =(SUM('Serie x Rama SIPA'!D77:D88)/SUM('Serie x Rama SIPA'!D65:D76)-1)*100 -> 3.6805961 | E76: =(SUM('Serie x Rama SIPA'!E77:E88)/SUM('Serie x Rama SIPA'!E65:E76)-1)*100 -> 0.28715537 | F76: =(SUM('Serie x Rama SIPA'!F77:F88)/SUM('Serie x Rama SIPA'!F65:F76)-1)*100 -> 4.4696091 | G76: =(SUM('Serie x Rama SIPA'!G77:G88)/SUM('Serie x Rama SIPA'!G65:G76)-1)*100 -> 6.3752025 | H76: =(SUM('Serie x Rama SIPA'!H77:H88)/SUM('Serie x Rama SIPA'!H65:H76)-1)*100 -> 1.5360055 | I76: =(SUM('Serie x Rama SIPA'!I77:I88)/SUM('Serie x Rama SIPA'!I65:I76)-1)*100 -> 2.8254878 | ... Q76: =(SUM('Serie x Rama SIPA'!Q77:Q88)/SUM('Serie x Rama SIPA'!Q65:Q76)-1)*100 -> 1.8769396
A77: 42370 | B77: =(SUM('Serie x Rama SIPA'!B89:B89)/SUM('Serie x Rama SIPA'!B77:B77)-1)*100 -> -4.4630147 | C77: =(SUM('Serie x Rama SIPA'!C89:C89)/SUM('Serie x Rama SIPA'!C77:C77)-1)*100 -> -1.5683863 | D77: =(SUM('Serie x Rama SIPA'!D89:D89)/SUM('Serie x Rama SIPA'!D77:D77)-1)*100 -> -2.8415188 | E77: =(SUM('Serie x Rama SIPA'!E89:E89)/SUM('Serie x Rama SIPA'!E77:E77)-1)*100 -> 0.25486262 | F77: =(SUM('Serie x Rama SIPA'!F89:F89)/SUM('Serie x Rama SIPA'!F77:F77)-1)*100 -> 3.5605994 | G77: =(SUM('Serie x Rama SIPA'!G89:G89)/SUM('Serie x Rama SIPA'!G77:G77)-1)*100 -> -3.7822221 | H77: =(SUM('Serie x Rama SIPA'!H89:H89)/SUM('Serie x Rama SIPA'!H77:H77)-1)*100 -> 2.0866845 | I77: =(SUM('Serie x Rama SIPA'!I89:I89)/SUM('Serie x Rama SIPA'!I77:I77)-1)*100 -> 1.2155449 | ... Q77: =(SUM('Serie x Rama SIPA'!Q89:Q89)/SUM('Serie x Rama SIPA'!Q77:Q77)-1)*100 -> 0.72780919
A78: 42401 | B78: =(SUM('Serie x Rama SIPA'!B89:B90)/SUM('Serie x Rama SIPA'!B77:B78)-1)*100 -> -4.9411623 | C78: =(SUM('Serie x Rama SIPA'!C89:C90)/SUM('Serie x Rama SIPA'!C77:C78)-1)*100 -> -1.3937282 | D78: =(SUM('Serie x Rama SIPA'!D89:D90)/SUM('Serie x Rama SIPA'!D77:D78)-1)*100 -> -3.1764934 | E78: =(SUM('Serie x Rama SIPA'!E89:E90)/SUM('Serie x Rama SIPA'!E77:E78)-1)*100 -> 0.025141693 | F78: =(SUM('Serie x Rama SIPA'!F89:F90)/SUM('Serie x Rama SIPA'!F77:F78)-1)*100 -> 3.4599559 | G78: =(SUM('Serie x Rama SIPA'!G89:G90)/SUM('Serie x Rama SIPA'!G77:G78)-1)*100 -> -4.786055 | H78: =(SUM('Serie x Rama SIPA'!H89:H90)/SUM('Serie x Rama SIPA'!H77:H78)-1)*100 -> 2.0613126 | I78: =(SUM('Serie x Rama SIPA'!I89:I90)/SUM('Serie x Rama SIPA'!I77:I78)-1)*100 -> 1.0829649 | ... Q78: =(SUM('Serie x Rama SIPA'!Q89:Q90)/SUM('Serie x Rama SIPA'!Q77:Q78)-1)*100 -> 0.59342805
A79: 42430 | B79: =(SUM('Serie x Rama SIPA'!B89:B91)/SUM('Serie x Rama SIPA'!B77:B79)-1)*100 -> -4.5469546 | C79: =(SUM('Serie x Rama SIPA'!C89:C91)/SUM('Serie x Rama SIPA'!C77:C79)-1)*100 -> -1.8149466 | D79: =(SUM('Serie x Rama SIPA'!D89:D91)/SUM('Serie x Rama SIPA'!D77:D79)-1)*100 -> -3.5610898 | E79: =(SUM('Serie x Rama SIPA'!E89:E91)/SUM('Serie x Rama SIPA'!E77:E79)-1)*100 -> -0.18395081 | F79: =(SUM('Serie x Rama SIPA'!F89:F91)/SUM('Serie x Rama SIPA'!F77:F79)-1)*100 -> 3.3845371 | G79: =(SUM('Serie x Rama SIPA'!G89:G91)/SUM('Serie x Rama SIPA'!G77:G79)-1)*100 -> -5.9448414 | H79: =(SUM('Serie x Rama SIPA'!H89:H91)/SUM('Serie x Rama SIPA'!H77:H79)-1)*100 -> 2.0416563 | I79: =(SUM('Serie x Rama SIPA'!I89:I91)/SUM('Serie x Rama SIPA'!I77:I79)-1)*100 -> 1.2648792 | ... Q79: =(SUM('Serie x Rama SIPA'!Q89:Q91)/SUM('Serie x Rama SIPA'!Q77:Q79)-1)*100 -> 0.45585854
A80: 42461 | B80: =(SUM('Serie x Rama SIPA'!B89:B92)/SUM('Serie x Rama SIPA'!B77:B80)-1)*100 -> -4.6798778 | C80: =(SUM('Serie x Rama SIPA'!C89:C92)/SUM('Serie x Rama SIPA'!C77:C80)-1)*100 -> -2.2846065 | D80: =(SUM('Serie x Rama SIPA'!D89:D92)/SUM('Serie x Rama SIPA'!D77:D80)-1)*100 -> -4.1370032 | E80: =(SUM('Serie x Rama SIPA'!E89:E92)/SUM('Serie x Rama SIPA'!E77:E80)-1)*100 -> -0.4430526 | F80: =(SUM('Serie x Rama SIPA'!F89:F92)/SUM('Serie x Rama SIPA'!F77:F80)-1)*100 -> 3.2513587 | G80: =(SUM('Serie x Rama SIPA'!G89:G92)/SUM('Serie x Rama SIPA'!G77:G80)-1)*100 -> -7.0393678 | H80: =(SUM('Serie x Rama SIPA'!H89:H92)/SUM('Serie x Rama SIPA'!H77:H80)-1)*100 -> 1.9197176 | I80: =(SUM('Serie x Rama SIPA'!I89:I92)/SUM('Serie x Rama SIPA'!I77:I80)-1)*100 -> 1.1298182 | ... Q80: =(SUM('Serie x Rama SIPA'!Q89:Q92)/SUM('Serie x Rama SIPA'!Q77:Q80)-1)*100 -> 0.19651199
A81: 42491 | B81: =(SUM('Serie x Rama SIPA'!B89:B93)/SUM('Serie x Rama SIPA'!B77:B81)-1)*100 -> -4.3936725 | C81: =(SUM('Serie x Rama SIPA'!C89:C93)/SUM('Serie x Rama SIPA'!C77:C81)-1)*100 -> -2.8881413 | D81: =(SUM('Serie x Rama SIPA'!D89:D93)/SUM('Serie x Rama SIPA'!D77:D81)-1)*100 -> -4.5455476 | E81: =(SUM('Serie x Rama SIPA'!E89:E93)/SUM('Serie x Rama SIPA'!E77:E81)-1)*100 -> -0.75235567 | F81: =(SUM('Serie x Rama SIPA'!F89:F93)/SUM('Serie x Rama SIPA'!F77:F81)-1)*100 -> 3.0173625 | G81: =(SUM('Serie x Rama SIPA'!G89:G93)/SUM('Serie x Rama SIPA'!G77:G81)-1)*100 -> -7.9112012 | H81: =(SUM('Serie x Rama SIPA'!H89:H93)/SUM('Serie x Rama SIPA'!H77:H81)-1)*100 -> 1.7980042 | I81: =(SUM('Serie x Rama SIPA'!I89:I93)/SUM('Serie x Rama SIPA'!I77:I81)-1)*100 -> 1.1011018 | ... Q81: =(SUM('Serie x Rama SIPA'!Q89:Q93)/SUM('Serie x Rama SIPA'!Q77:Q81)-1)*100 -> -0.001326563
A82: 42522 | B82: =(SUM('Serie x Rama SIPA'!B89:B94)/SUM('Serie x Rama SIPA'!B77:B82)-1)*100 -> -3.939948 | C82: =(SUM('Serie x Rama SIPA'!C89:C94)/SUM('Serie x Rama SIPA'!C77:C82)-1)*100 -> -3.070508 | D82: =(SUM('Serie x Rama SIPA'!D89:D94)/SUM('Serie x Rama SIPA'!D77:D82)-1)*100 -> -4.8103143 | E82: =(SUM('Serie x Rama SIPA'!E89:E94)/SUM('Serie x Rama SIPA'!E77:E82)-1)*100 -> -1.006754 | F82: =(SUM('Serie x Rama SIPA'!F89:F94)/SUM('Serie x Rama SIPA'!F77:F82)-1)*100 -> 2.881469 | G82: =(SUM('Serie x Rama SIPA'!G89:G94)/SUM('Serie x Rama SIPA'!G77:G82)-1)*100 -> -8.735778 | H82: =(SUM('Serie x Rama SIPA'!H89:H94)/SUM('Serie x Rama SIPA'!H77:H82)-1)*100 -> 1.6668204 | I82: =(SUM('Serie x Rama SIPA'!I89:I94)/SUM('Serie x Rama SIPA'!I77:I82)-1)*100 -> 0.98736205 | ... Q82: =(SUM('Serie x Rama SIPA'!Q89:Q94)/SUM('Serie x Rama SIPA'!Q77:Q82)-1)*100 -> -0.20466407
A83: 42552 | B83: =(SUM('Serie x Rama SIPA'!B89:B95)/SUM('Serie x Rama SIPA'!B77:B83)-1)*100 -> -3.6341809 | C83: =(SUM('Serie x Rama SIPA'!C89:C95)/SUM('Serie x Rama SIPA'!C77:C83)-1)*100 -> -2.6239923 | D83: =(SUM('Serie x Rama SIPA'!D89:D95)/SUM('Serie x Rama SIPA'!D77:D83)-1)*100 -> -5.0458343 | E83: =(SUM('Serie x Rama SIPA'!E89:E95)/SUM('Serie x Rama SIPA'!E77:E83)-1)*100 -> -1.2390624 | F83: =(SUM('Serie x Rama SIPA'!F89:F95)/SUM('Serie x Rama SIPA'!F77:F83)-1)*100 -> 2.7094042 | G83: =(SUM('Serie x Rama SIPA'!G89:G95)/SUM('Serie x Rama SIPA'!G77:G83)-1)*100 -> -9.3152454 | H83: =(SUM('Serie x Rama SIPA'!H89:H95)/SUM('Serie x Rama SIPA'!H77:H83)-1)*100 -> 1.5603682 | I83: =(SUM('Serie x Rama SIPA'!I89:I95)/SUM('Serie x Rama SIPA'!I77:I83)-1)*100 -> 0.86748723 | ... Q83: =(SUM('Serie x Rama SIPA'!Q89:Q95)/SUM('Serie x Rama SIPA'!Q77:Q83)-1)*100 -> -0.36833457
A84: 42583 | B84: =(SUM('Serie x Rama SIPA'!B89:B96)/SUM('Serie x Rama SIPA'!B77:B84)-1)*100 -> -3.2870479 | C84: =(SUM('Serie x Rama SIPA'!C89:C96)/SUM('Serie x Rama SIPA'!C77:C84)-1)*100 -> -2.6569772 | D84: =(SUM('Serie x Rama SIPA'!D89:D96)/SUM('Serie x Rama SIPA'!D77:D84)-1)*100 -> -5.3094046 | E84: =(SUM('Serie x Rama SIPA'!E89:E96)/SUM('Serie x Rama SIPA'!E77:E84)-1)*100 -> -1.4528137 | F84: =(SUM('Serie x Rama SIPA'!F89:F96)/SUM('Serie x Rama SIPA'!F77:F84)-1)*100 -> 2.5953438 | G84: =(SUM('Serie x Rama SIPA'!G89:G96)/SUM('Serie x Rama SIPA'!G77:G84)-1)*100 -> -9.605652 | H84: =(SUM('Serie x Rama SIPA'!H89:H96)/SUM('Serie x Rama SIPA'!H77:H84)-1)*100 -> 1.4793534 | I84: =(SUM('Serie x Rama SIPA'!I89:I96)/SUM('Serie x Rama SIPA'!I77:I84)-1)*100 -> 0.72863577 | ... Q84: =(SUM('Serie x Rama SIPA'!Q89:Q96)/SUM('Serie x Rama SIPA'!Q77:Q84)-1)*100 -> -0.51733692
A85: 42614 | B85: =(SUM('Serie x Rama SIPA'!B89:B97)/SUM('Serie x Rama SIPA'!B77:B85)-1)*100 -> -2.9528329 | C85: =(SUM('Serie x Rama SIPA'!C89:C97)/SUM('Serie x Rama SIPA'!C77:C85)-1)*100 -> -2.8012725 | D85: =(SUM('Serie x Rama SIPA'!D89:D97)/SUM('Serie x Rama SIPA'!D77:D85)-1)*100 -> -5.54423 | E85: =(SUM('Serie x Rama SIPA'!E89:E97)/SUM('Serie x Rama SIPA'!E77:E85)-1)*100 -> -1.6597682 | F85: =(SUM('Serie x Rama SIPA'!F89:F97)/SUM('Serie x Rama SIPA'!F77:F85)-1)*100 -> 2.4937531 | G85: =(SUM('Serie x Rama SIPA'!G89:G97)/SUM('Serie x Rama SIPA'!G77:G85)-1)*100 -> -9.7607879 | H85: =(SUM('Serie x Rama SIPA'!H89:H97)/SUM('Serie x Rama SIPA'!H77:H85)-1)*100 -> 1.4195949 | I85: =(SUM('Serie x Rama SIPA'!I89:I97)/SUM('Serie x Rama SIPA'!I77:I85)-1)*100 -> 0.64331602 | ... Q85: =(SUM('Serie x Rama SIPA'!Q89:Q97)/SUM('Serie x Rama SIPA'!Q77:Q85)-1)*100 -> -0.6159306
A86: 42644 | B86: =(SUM('Serie x Rama SIPA'!B89:B98)/SUM('Serie x Rama SIPA'!B77:B86)-1)*100 -> -2.3037704 | C86: =(SUM('Serie x Rama SIPA'!C89:C98)/SUM('Serie x Rama SIPA'!C77:C86)-1)*100 -> -2.9892591 | D86: =(SUM('Serie x Rama SIPA'!D89:D98)/SUM('Serie x Rama SIPA'!D77:D86)-1)*100 -> -5.6955078 | E86: =(SUM('Serie x Rama SIPA'!E89:E98)/SUM('Serie x Rama SIPA'!E77:E86)-1)*100 -> -1.8438994 | F86: =(SUM('Serie x Rama SIPA'!F89:F98)/SUM('Serie x Rama SIPA'!F77:F86)-1)*100 -> 2.4069473 | G86: =(SUM('Serie x Rama SIPA'!G89:G98)/SUM('Serie x Rama SIPA'!G77:G86)-1)*100 -> -9.769806 | H86: =(SUM('Serie x Rama SIPA'!H89:H98)/SUM('Serie x Rama SIPA'!H77:H86)-1)*100 -> 1.378273 | I86: =(SUM('Serie x Rama SIPA'!I89:I98)/SUM('Serie x Rama SIPA'!I77:I86)-1)*100 -> 0.58500417 | ... Q86: =(SUM('Serie x Rama SIPA'!Q89:Q98)/SUM('Serie x Rama SIPA'!Q77:Q86)-1)*100 -> -0.68794006
A87: 42675 | B87: =(SUM('Serie x Rama SIPA'!B89:B99)/SUM('Serie x Rama SIPA'!B77:B87)-1)*100 -> -1.8611932 | C87: =(SUM('Serie x Rama SIPA'!C89:C99)/SUM('Serie x Rama SIPA'!C77:C87)-1)*100 -> -2.9534956 | D87: =(SUM('Serie x Rama SIPA'!D89:D99)/SUM('Serie x Rama SIPA'!D77:D87)-1)*100 -> -5.7820023 | E87: =(SUM('Serie x Rama SIPA'!E89:E99)/SUM('Serie x Rama SIPA'!E77:E87)-1)*100 -> -2.0154333 | F87: =(SUM('Serie x Rama SIPA'!F89:F99)/SUM('Serie x Rama SIPA'!F77:F87)-1)*100 -> 2.3428001 | G87: =(SUM('Serie x Rama SIPA'!G89:G99)/SUM('Serie x Rama SIPA'!G77:G87)-1)*100 -> -9.5559424 | H87: =(SUM('Serie x Rama SIPA'!H89:H99)/SUM('Serie x Rama SIPA'!H77:H87)-1)*100 -> 1.3497177 | I87: =(SUM('Serie x Rama SIPA'!I89:I99)/SUM('Serie x Rama SIPA'!I77:I87)-1)*100 -> 0.61620733 | ... Q87: =(SUM('Serie x Rama SIPA'!Q89:Q99)/SUM('Serie x Rama SIPA'!Q77:Q87)-1)*100 -> -0.7257019
A88: 42705 | B88: =(SUM('Serie x Rama SIPA'!B89:B100)/SUM('Serie x Rama SIPA'!B77:B88)-1)*100 -> -1.5488727 | C88: =(SUM('Serie x Rama SIPA'!C89:C100)/SUM('Serie x Rama SIPA'!C77:C88)-1)*100 -> -2.7058223 | D88: =(SUM('Serie x Rama SIPA'!D89:D100)/SUM('Serie x Rama SIPA'!D77:D88)-1)*100 -> -5.8171745 | E88: =(SUM('Serie x Rama SIPA'!E89:E100)/SUM('Serie x Rama SIPA'!E77:E88)-1)*100 -> -2.1511834 | F88: =(SUM('Serie x Rama SIPA'!F89:F100)/SUM('Serie x Rama SIPA'!F77:F88)-1)*100 -> 2.3108973 | G88: =(SUM('Serie x Rama SIPA'!G89:G100)/SUM('Serie x Rama SIPA'!G77:G88)-1)*100 -> -9.0579116 | H88: =(SUM('Serie x Rama SIPA'!H89:H100)/SUM('Serie x Rama SIPA'!H77:H88)-1)*100 -> 1.3289259 | I88: =(SUM('Serie x Rama SIPA'!I89:I100)/SUM('Serie x Rama SIPA'!I77:I88)-1)*100 -> 0.627201 | ... Q88: =(SUM('Serie x Rama SIPA'!Q89:Q100)/SUM('Serie x Rama SIPA'!Q77:Q88)-1)*100 -> -0.71384126
A89: 42736 | B89: =(SUM('Serie x Rama SIPA'!B$101:B101)/SUM('Serie x Rama SIPA'!B$89:B89)-1)*100 -> 2.1954645 | C89: =(SUM('Serie x Rama SIPA'!C$101:C101)/SUM('Serie x Rama SIPA'!C$89:C89)-1)*100 -> -0.29680544 | D89: =(SUM('Serie x Rama SIPA'!D$101:D101)/SUM('Serie x Rama SIPA'!D$89:D89)-1)*100 -> -5.9491217 | E89: =(SUM('Serie x Rama SIPA'!E$101:E101)/SUM('Serie x Rama SIPA'!E$89:E89)-1)*100 -> -3.3528426 | F89: =(SUM('Serie x Rama SIPA'!F$101:F101)/SUM('Serie x Rama SIPA'!F$89:F89)-1)*100 -> 2.4517816 | G89: =(SUM('Serie x Rama SIPA'!G$101:G101)/SUM('Serie x Rama SIPA'!G$89:G89)-1)*100 -> -0.12617578 | H89: =(SUM('Serie x Rama SIPA'!H$101:H101)/SUM('Serie x Rama SIPA'!H$89:H89)-1)*100 -> 1.0529124 | I89: =(SUM('Serie x Rama SIPA'!I$101:I101)/SUM('Serie x Rama SIPA'!I$89:I89)-1)*100 -> 1.0209561 | ... Q89: =(SUM('Serie x Rama SIPA'!Q$101:Q101)/SUM('Serie x Rama SIPA'!Q$89:Q89)-1)*100 -> -0.2524956
A90: 42767 | B90: =(SUM('Serie x Rama SIPA'!B$101:B102)/SUM('Serie x Rama SIPA'!B$89:B90)-1)*100 -> 2.5886728 | C90: =(SUM('Serie x Rama SIPA'!C$101:C102)/SUM('Serie x Rama SIPA'!C$89:C90)-1)*100 -> -0.36112298 | D90: =(SUM('Serie x Rama SIPA'!D$101:D102)/SUM('Serie x Rama SIPA'!D$89:D90)-1)*100 -> -6.4107619 | E90: =(SUM('Serie x Rama SIPA'!E$101:E102)/SUM('Serie x Rama SIPA'!E$89:E90)-1)*100 -> -3.3821131 | F90: =(SUM('Serie x Rama SIPA'!F$101:F102)/SUM('Serie x Rama SIPA'!F$89:F90)-1)*100 -> 2.5452918 | G90: =(SUM('Serie x Rama SIPA'!G$101:G102)/SUM('Serie x Rama SIPA'!G$89:G90)-1)*100 -> 0.9895275 | H90: =(SUM('Serie x Rama SIPA'!H$101:H102)/SUM('Serie x Rama SIPA'!H$89:H90)-1)*100 -> 0.89283195 | I90: =(SUM('Serie x Rama SIPA'!I$101:I102)/SUM('Serie x Rama SIPA'!I$89:I90)-1)*100 -> 0.90777395 | ... Q90: =(SUM('Serie x Rama SIPA'!Q$101:Q102)/SUM('Serie x Rama SIPA'!Q$89:Q90)-1)*100 -> -0.26265529
A91: 42795 | B91: =(SUM('Serie x Rama SIPA'!B$101:B103)/SUM('Serie x Rama SIPA'!B$89:B91)-1)*100 -> 2.3370519 | C91: =(SUM('Serie x Rama SIPA'!C$101:C103)/SUM('Serie x Rama SIPA'!C$89:C91)-1)*100 -> -0.11391291 | D91: =(SUM('Serie x Rama SIPA'!D$101:D103)/SUM('Serie x Rama SIPA'!D$89:D91)-1)*100 -> -6.6026713 | E91: =(SUM('Serie x Rama SIPA'!E$101:E103)/SUM('Serie x Rama SIPA'!E$89:E91)-1)*100 -> -3.2715798 | F91: =(SUM('Serie x Rama SIPA'!F$101:F103)/SUM('Serie x Rama SIPA'!F$89:F91)-1)*100 -> 2.6581943 | G91: =(SUM('Serie x Rama SIPA'!G$101:G103)/SUM('Serie x Rama SIPA'!G$89:G91)-1)*100 -> 2.2978202 | H91: =(SUM('Serie x Rama SIPA'!H$101:H103)/SUM('Serie x Rama SIPA'!H$89:H91)-1)*100 -> 0.81350816 | I91: =(SUM('Serie x Rama SIPA'!I$101:I103)/SUM('Serie x Rama SIPA'!I$89:I91)-1)*100 -> 0.86855797 | ... Q91: =(SUM('Serie x Rama SIPA'!Q$101:Q103)/SUM('Serie x Rama SIPA'!Q$89:Q91)-1)*100 -> -0.16063992
A92: 42826 | B92: =(SUM('Serie x Rama SIPA'!B$101:B104)/SUM('Serie x Rama SIPA'!B$89:B92)-1)*100 -> 2.1477606 | C92: =(SUM('Serie x Rama SIPA'!C$101:C104)/SUM('Serie x Rama SIPA'!C$89:C92)-1)*100 -> 0.33844897 | D92: =(SUM('Serie x Rama SIPA'!D$101:D104)/SUM('Serie x Rama SIPA'!D$89:D92)-1)*100 -> -6.3832565 | E92: =(SUM('Serie x Rama SIPA'!E$101:E104)/SUM('Serie x Rama SIPA'!E$89:E92)-1)*100 -> -3.2119276 | F92: =(SUM('Serie x Rama SIPA'!F$101:F104)/SUM('Serie x Rama SIPA'!F$89:F92)-1)*100 -> 2.7110445 | G92: =(SUM('Serie x Rama SIPA'!G$101:G104)/SUM('Serie x Rama SIPA'!G$89:G92)-1)*100 -> 3.3013438 | H92: =(SUM('Serie x Rama SIPA'!H$101:H104)/SUM('Serie x Rama SIPA'!H$89:H92)-1)*100 -> 0.76972399 | I92: =(SUM('Serie x Rama SIPA'!I$101:I104)/SUM('Serie x Rama SIPA'!I$89:I92)-1)*100 -> 0.92696457 | ... Q92: =(SUM('Serie x Rama SIPA'!Q$101:Q104)/SUM('Serie x Rama SIPA'!Q$89:Q92)-1)*100 -> -0.080806859
A93: 42856 | B93: =(SUM('Serie x Rama SIPA'!B$101:B105)/SUM('Serie x Rama SIPA'!B$89:B93)-1)*100 -> 1.9826404 | C93: =(SUM('Serie x Rama SIPA'!C$101:C105)/SUM('Serie x Rama SIPA'!C$89:C93)-1)*100 -> 0.69747847 | D93: =(SUM('Serie x Rama SIPA'!D$101:D105)/SUM('Serie x Rama SIPA'!D$89:D93)-1)*100 -> -6.2114377 | E93: =(SUM('Serie x Rama SIPA'!E$101:E105)/SUM('Serie x Rama SIPA'!E$89:E93)-1)*100 -> -3.1102706 | F93: =(SUM('Serie x Rama SIPA'!F$101:F105)/SUM('Serie x Rama SIPA'!F$89:F93)-1)*100 -> 2.7886296 | G93: =(SUM('Serie x Rama SIPA'!G$101:G105)/SUM('Serie x Rama SIPA'!G$89:G93)-1)*100 -> 4.1786078 | H93: =(SUM('Serie x Rama SIPA'!H$101:H105)/SUM('Serie x Rama SIPA'!H$89:H93)-1)*100 -> 0.81399321 | I93: =(SUM('Serie x Rama SIPA'!I$101:I105)/SUM('Serie x Rama SIPA'!I$89:I93)-1)*100 -> 1.0877492 | ... Q93: =(SUM('Serie x Rama SIPA'!Q$101:Q105)/SUM('Serie x Rama SIPA'!Q$89:Q93)-1)*100 -> 0.042870179
A94: 42887 | B94: =(SUM('Serie x Rama SIPA'!B$101:B106)/SUM('Serie x Rama SIPA'!B$89:B94)-1)*100 -> 1.8540682 | C94: =(SUM('Serie x Rama SIPA'!C$101:C106)/SUM('Serie x Rama SIPA'!C$89:C94)-1)*100 -> 0.85647243 | D94: =(SUM('Serie x Rama SIPA'!D$101:D106)/SUM('Serie x Rama SIPA'!D$89:D94)-1)*100 -> -6.111411 | E94: =(SUM('Serie x Rama SIPA'!E$101:E106)/SUM('Serie x Rama SIPA'!E$89:E94)-1)*100 -> -3.0227947 | F94: =(SUM('Serie x Rama SIPA'!F$101:F106)/SUM('Serie x Rama SIPA'!F$89:F94)-1)*100 -> 2.8298739 | G94: =(SUM('Serie x Rama SIPA'!G$101:G106)/SUM('Serie x Rama SIPA'!G$89:G94)-1)*100 -> 5.0841869 | H94: =(SUM('Serie x Rama SIPA'!H$101:H106)/SUM('Serie x Rama SIPA'!H$89:H94)-1)*100 -> 0.8631131 | I94: =(SUM('Serie x Rama SIPA'!I$101:I106)/SUM('Serie x Rama SIPA'!I$89:I94)-1)*100 -> 1.2972919 | ... Q94: =(SUM('Serie x Rama SIPA'!Q$101:Q106)/SUM('Serie x Rama SIPA'!Q$89:Q94)-1)*100 -> 0.18581514
A95: 42917 | B95: =(SUM('Serie x Rama SIPA'!B$101:B107)/SUM('Serie x Rama SIPA'!B$89:B95)-1)*100 -> 1.7791825 | C95: =(SUM('Serie x Rama SIPA'!C$101:C107)/SUM('Serie x Rama SIPA'!C$89:C95)-1)*100 -> 0.56530628 | D95: =(SUM('Serie x Rama SIPA'!D$101:D107)/SUM('Serie x Rama SIPA'!D$89:D95)-1)*100 -> -5.9612197 | E95: =(SUM('Serie x Rama SIPA'!E$101:E107)/SUM('Serie x Rama SIPA'!E$89:E95)-1)*100 -> -2.9371217 | F95: =(SUM('Serie x Rama SIPA'!F$101:F107)/SUM('Serie x Rama SIPA'!F$89:F95)-1)*100 -> 2.865969 | G95: =(SUM('Serie x Rama SIPA'!G$101:G107)/SUM('Serie x Rama SIPA'!G$89:G95)-1)*100 -> 5.8579636 | H95: =(SUM('Serie x Rama SIPA'!H$101:H107)/SUM('Serie x Rama SIPA'!H$89:H95)-1)*100 -> 0.90542746 | I95: =(SUM('Serie x Rama SIPA'!I$101:I107)/SUM('Serie x Rama SIPA'!I$89:I95)-1)*100 -> 1.5011187 | ... Q95: =(SUM('Serie x Rama SIPA'!Q$101:Q107)/SUM('Serie x Rama SIPA'!Q$89:Q95)-1)*100 -> 0.31258326
A96: 42948 | B96: =(SUM('Serie x Rama SIPA'!B$101:B108)/SUM('Serie x Rama SIPA'!B$89:B96)-1)*100 -> 1.5124095 | C96: =(SUM('Serie x Rama SIPA'!C$101:C108)/SUM('Serie x Rama SIPA'!C$89:C96)-1)*100 -> 0.89350446 | D96: =(SUM('Serie x Rama SIPA'!D$101:D108)/SUM('Serie x Rama SIPA'!D$89:D96)-1)*100 -> -5.7510733 | E96: =(SUM('Serie x Rama SIPA'!E$101:E108)/SUM('Serie x Rama SIPA'!E$89:E96)-1)*100 -> -2.8516992 | F96: =(SUM('Serie x Rama SIPA'!F$101:F108)/SUM('Serie x Rama SIPA'!F$89:F96)-1)*100 -> 2.9016299 | G96: =(SUM('Serie x Rama SIPA'!G$101:G108)/SUM('Serie x Rama SIPA'!G$89:G96)-1)*100 -> 6.431025 | H96: =(SUM('Serie x Rama SIPA'!H$101:H108)/SUM('Serie x Rama SIPA'!H$89:H96)-1)*100 -> 0.93047575 | I96: =(SUM('Serie x Rama SIPA'!I$101:I108)/SUM('Serie x Rama SIPA'!I$89:I96)-1)*100 -> 1.6592039 | ... Q96: =(SUM('Serie x Rama SIPA'!Q$101:Q108)/SUM('Serie x Rama SIPA'!Q$89:Q96)-1)*100 -> 0.40550505
A97: 42979 | B97: =(SUM('Serie x Rama SIPA'!B$101:B109)/SUM('Serie x Rama SIPA'!B$89:B97)-1)*100 -> 1.3578555 | C97: =(SUM('Serie x Rama SIPA'!C$101:C109)/SUM('Serie x Rama SIPA'!C$89:C97)-1)*100 -> 1.2437485 | D97: =(SUM('Serie x Rama SIPA'!D$101:D109)/SUM('Serie x Rama SIPA'!D$89:D97)-1)*100 -> -5.5230751 | E97: =(SUM('Serie x Rama SIPA'!E$101:E109)/SUM('Serie x Rama SIPA'!E$89:E97)-1)*100 -> -2.7706821 | F97: =(SUM('Serie x Rama SIPA'!F$101:F109)/SUM('Serie x Rama SIPA'!F$89:F97)-1)*100 -> 2.9507309 | G97: =(SUM('Serie x Rama SIPA'!G$101:G109)/SUM('Serie x Rama SIPA'!G$89:G97)-1)*100 -> 6.9604289 | H97: =(SUM('Serie x Rama SIPA'!H$101:H109)/SUM('Serie x Rama SIPA'!H$89:H97)-1)*100 -> 0.94521321 | I97: =(SUM('Serie x Rama SIPA'!I$101:I109)/SUM('Serie x Rama SIPA'!I$89:I97)-1)*100 -> 1.7686111 | ... Q97: =(SUM('Serie x Rama SIPA'!Q$101:Q109)/SUM('Serie x Rama SIPA'!Q$89:Q97)-1)*100 -> 0.49156619
A98: 43009 | B98: =(SUM('Serie x Rama SIPA'!B$101:B110)/SUM('Serie x Rama SIPA'!B$89:B98)-1)*100 -> 1.0052583 | C98: =(SUM('Serie x Rama SIPA'!C$101:C110)/SUM('Serie x Rama SIPA'!C$89:C98)-1)*100 -> 1.4560316 | D98: =(SUM('Serie x Rama SIPA'!D$101:D110)/SUM('Serie x Rama SIPA'!D$89:D98)-1)*100 -> -5.3643237 | E98: =(SUM('Serie x Rama SIPA'!E$101:E110)/SUM('Serie x Rama SIPA'!E$89:E98)-1)*100 -> -2.6712281 | F98: =(SUM('Serie x Rama SIPA'!F$101:F110)/SUM('Serie x Rama SIPA'!F$89:F98)-1)*100 -> 2.9961089 | G98: =(SUM('Serie x Rama SIPA'!G$101:G110)/SUM('Serie x Rama SIPA'!G$89:G98)-1)*100 -> 7.4202238 | H98: =(SUM('Serie x Rama SIPA'!H$101:H110)/SUM('Serie x Rama SIPA'!H$89:H98)-1)*100 -> 0.96790505 | I98: =(SUM('Serie x Rama SIPA'!I$101:I110)/SUM('Serie x Rama SIPA'!I$89:I98)-1)*100 -> 1.8770425 | ... Q98: =(SUM('Serie x Rama SIPA'!Q$101:Q110)/SUM('Serie x Rama SIPA'!Q$89:Q98)-1)*100 -> 0.56600759
A99: 43040 | B99: =(SUM('Serie x Rama SIPA'!B$101:B111)/SUM('Serie x Rama SIPA'!B$89:B99)-1)*100 -> 0.83481964 | C99: =(SUM('Serie x Rama SIPA'!C$101:C111)/SUM('Serie x Rama SIPA'!C$89:C99)-1)*100 -> 1.3599307 | D99: =(SUM('Serie x Rama SIPA'!D$101:D111)/SUM('Serie x Rama SIPA'!D$89:D99)-1)*100 -> -5.1539715 | E99: =(SUM('Serie x Rama SIPA'!E$101:E111)/SUM('Serie x Rama SIPA'!E$89:E99)-1)*100 -> -2.5456257 | F99: =(SUM('Serie x Rama SIPA'!F$101:F111)/SUM('Serie x Rama SIPA'!F$89:F99)-1)*100 -> 3.0357692 | G99: =(SUM('Serie x Rama SIPA'!G$101:G111)/SUM('Serie x Rama SIPA'!G$89:G99)-1)*100 -> 7.77624 | H99: =(SUM('Serie x Rama SIPA'!H$101:H111)/SUM('Serie x Rama SIPA'!H$89:H99)-1)*100 -> 0.99524325 | I99: =(SUM('Serie x Rama SIPA'!I$101:I111)/SUM('Serie x Rama SIPA'!I$89:I99)-1)*100 -> 1.9474417 | ... Q99: =(SUM('Serie x Rama SIPA'!Q$101:Q111)/SUM('Serie x Rama SIPA'!Q$89:Q99)-1)*100 -> 0.63929436
A100: 43070 | B100: =(SUM('Serie x Rama SIPA'!B$101:B112)/SUM('Serie x Rama SIPA'!B$89:B100)-1)*100 -> 0.84902914 | C100: =(SUM('Serie x Rama SIPA'!C$101:C112)/SUM('Serie x Rama SIPA'!C$89:C100)-1)*100 -> 0.89731069 | D100: =(SUM('Serie x Rama SIPA'!D$101:D112)/SUM('Serie x Rama SIPA'!D$89:D100)-1)*100 -> -4.9673203 | E100: =(SUM('Serie x Rama SIPA'!E$101:E112)/SUM('Serie x Rama SIPA'!E$89:E100)-1)*100 -> -2.430737 | F100: =(SUM('Serie x Rama SIPA'!F$101:F112)/SUM('Serie x Rama SIPA'!F$89:F100)-1)*100 -> 3.0723514 | G100: =(SUM('Serie x Rama SIPA'!G$101:G112)/SUM('Serie x Rama SIPA'!G$89:G100)-1)*100 -> 8.0031529 | H100: =(SUM('Serie x Rama SIPA'!H$101:H112)/SUM('Serie x Rama SIPA'!H$89:H100)-1)*100 -> 1.0272274 | I100: =(SUM('Serie x Rama SIPA'!I$101:I112)/SUM('Serie x Rama SIPA'!I$89:I100)-1)*100 -> 2.0039136 | ... Q100: =(SUM('Serie x Rama SIPA'!Q$101:Q112)/SUM('Serie x Rama SIPA'!Q$89:Q100)-1)*100 -> 0.7133819
A101: 43101 | B101: =(SUM('Serie x Rama SIPA'!B$113:B113)/SUM('Serie x Rama SIPA'!B$101:B101)-1)*100 -> 0.6797002 | C101: =(SUM('Serie x Rama SIPA'!C$113:C113)/SUM('Serie x Rama SIPA'!C$101:C101)-1)*100 -> 2.4206816 | D101: =(SUM('Serie x Rama SIPA'!D$113:D113)/SUM('Serie x Rama SIPA'!D$101:D101)-1)*100 -> -2.6561055 | E101: =(SUM('Serie x Rama SIPA'!E$113:E113)/SUM('Serie x Rama SIPA'!E$101:E101)-1)*100 -> -1.2119975 | F101: =(SUM('Serie x Rama SIPA'!F$113:F113)/SUM('Serie x Rama SIPA'!F$101:F101)-1)*100 -> 2.8176244 | G101: =(SUM('Serie x Rama SIPA'!G$113:G113)/SUM('Serie x Rama SIPA'!G$101:G101)-1)*100 -> 9.7344586 | H101: =(SUM('Serie x Rama SIPA'!H$113:H113)/SUM('Serie x Rama SIPA'!H$101:H101)-1)*100 -> 1.3378824 | I101: =(SUM('Serie x Rama SIPA'!I$113:I113)/SUM('Serie x Rama SIPA'!I$101:I101)-1)*100 -> 2.0354996 | ... Q101: =(SUM('Serie x Rama SIPA'!Q$113:Q113)/SUM('Serie x Rama SIPA'!Q$101:Q101)-1)*100 -> 1.3300071
...
