Workbook

Sheet ESRI_MAPINFO_SHEET

Sheet Serie x Rama SIPA
A1: Asalariados registrados del sector privado según rama de actividad de la ocupación principal. Total país.
A2: Desde Enero de 2009 en adelante (en cantidad)
A4: Período | B4: Agricultura, ganaderia, caza y silvicultura | C4: Pesca | D4: Explotacion de minas y canteras | E4: Industrias manufactureras | F4: Suministro de Electricidad, gas y agua | G4: Construcción | H4: Comercio y reparaciones | I4: Hoteles y restaurantes | J4: Transporte, almacen. y comunicación | K4: Intermediacion financiera | L4: Actividades inmobiliarias, empresariales y de alquiler | M4: Enseñanza | N4: Servicios sociales y de salud | O4: Servicios comunitarios, sociales y personales | P4: Sin Especificar | Q4: Total
A5: 39814 | B5: 332623 | C5: 15223 | D5: 68535 | E5: 1182975 | F5: 54390 | G5: 403885 | H5: 1003820 | I5: 218286 | J5: 487714 | K5: 144651 | L5: 814714 | M5: 322844 | N5: 232437 | O5: 340573 | P5: 1501 | Q5: 5624171
A6: 39845 | B6: 329754 | C6: 15106 | D6: 68213 | E6: 1178470 | F6: 54459 | G6: 402082 | H6: 1006098 | I6: 219111 | J6: 486792 | K6: 141611 | L6: 810209 | M6: 321777 | N6: 233859 | O6: 339719 | P6: 1511 | Q6: 5608771
A7: 39873 | B7: 328862 | C7: 15234 | D7: 67266 | E7: 1169224 | F7: 54460 | G7: 398958 | H7: 1006015 | I7: 219567 | J7: 486268 | K7: 140838 | L7: 807780 | M7: 321868 | N7: 234424 | O7: 339802 | P7: 1413 | Q7: 5591979
A8: 39904 | B8: 326904 | C8: 15268 | D8: 66935 | E8: 1160632 | F8: 54610 | G8: 396812 | H8: 1005838 | I8: 220046 | J8: 486028 | K8: 139981 | L8: 802128 | M8: 322341 | N8: 235324 | O8: 339741 | P8: 1345 | Q8: 5573933
A9: 39934 | B9: 325071 | C9: 15377 | D9: 66975 | E9: 1157458 | F9: 54702 | G9: 395574 | H9: 1005455 | I9: 219962 | J9: 485680 | K9: 139637 | L9: 801652 | M9: 322776 | N9: 236098 | O9: 340232 | P9: 1332 | Q9: 5567981
A10: 39965 | B10: 326392 | C10: 15001 | D10: 66949 | E10: 1160321 | F10: 55469 | G10: 395798 | H10: 1006512 | I10: 220305 | J10: 485154 | K10: 139601 | L10: 801952 | M10: 324130 | N10: 237048 | O10: 340208 | P10: 1303 | Q10: 5576143
A11: 39995 | B11: 327464 | C11: 14687 | D11: 66822 | E11: 1159723 | F11: 55510 | G11: 393720 | H11: 1006308 | I11: 217325 | J11: 484732 | K11: 139411 | L11: 815841 | M11: 323038 | N11: 238131 | O11: 338974 | P11: 1284 | Q11: 5582970
A12: 40026 | B12: 328563 | C12: 14652 | D12: 66680 | E12: 1161439 | F12: 55656 | G12: 392664 | H12: 1007968 | I12: 218075 | J12: 484983 | K12: 139508 | L12: 797719 | M12: 324899 | N12: 238644 | O12: 340035 | P12: 1265 | Q12: 5572750
A13: 40057 | B13: 327358 | C13: 14775 | D13: 66606 | E13: 1163921 | F13: 55822 | G13: 389827 | H13: 1010066 | I13: 219967 | J13: 484323 | K13: 139404 | L13: 802806 | M13: 326434 | N13: 239323 | O13: 343200 | P13: 1216 | Q13: 5585048
A14: 40087 | B14: 328352 | C14: 14586 | D14: 66649 | E14: 1167478 | F14: 55965 | G14: 388255 | H14: 1011639 | I14: 221779 | J14: 485831 | K14: 139535 | L14: 805268 | M14: 327221 | N14: 239795 | O14: 345676 | P14: 1181 | Q14: 5599210
A15: 40118 | B15: 328770 | C15: 14642 | D15: 66567 | E15: 1166989 | F15: 56060 | G15: 387400 | H15: 1014882 | I15: 221712 | J15: 486432 | K15: 139941 | L15: 803715 | M15: 328225 | N15: 240533 | O15: 345609 | P15: 1187 | Q15: 5602664
A16: 40148 | B16: 324795 | C16: 14705 | D16: 66722 | E16: 1167184 | F16: 56111 | G16: 387339 | H16: 1014073 | I16: 222778 | J16: 487272 | K16: 140243 | L16: 809514 | M16: 328927 | N16: 241240 | O16: 347013 | P16: 1195 | Q16: 5609111
... A114: 43132 | B114: 323438 | C114: 12864 | D114: 78150 | E114: 1187010 | F114: 74148 | G114: 462623 | H114: 1176793 | I114: 272524 | J114: 560194 | K114: 163346 | L114: 839805 | M114: 407049 | N114: 324686 | O114: 387064 | P114: 733 | Q114: 6270427
A115: mar-18 | B115: 323160 | C115: 12831 | D115: 78210 | E115: 1185039 | F115: 74176 | G115: 465668 | H115: 1177995 | I115: 272872 | J115: 561141 | K115: 163405 | L115: 842404 | M115: 408489 | N115: 325295 | O115: 387553 | P115: 725 | Q115: 6278963
A116: 43191 | B116: 322029 | C116: 12962 | D116: 81051 | E116: 1182210 | F116: 74224 | G116: 465540 | H116: 1178046 | I116: 273829 | J116: 561651 | K116: 163651 | L116: 843394 | M116: 409114 | N116: 325659 | O116: 387725 | P116: 695 | Q116: 6281780
A117: 43221 | B117: 322006 | C117: 12797 | D117: 81579 | E117: 1177760 | F117: 74235 | G117: 464748 | H117: 1176387 | I117: 273992 | J117: 560392 | K117: 163669 | L117: 844029 | M117: 409771 | N117: 326087 | O117: 387262 | P117: 669 | Q117: 6275383
A118: 43252 | B118: 321340 | C118: 12799 | D118: 81391 | E118: 1170611 | F118: 74126 | G118: 461004 | H118: 1173129 | I118: 273152 | J118: 558703 | K118: 163592 | L118: 840562 | M118: 410493 | N118: 326171 | O118: 386660 | P118: 645 | Q118: 6254378
A119: 43282 | B119: 323103 | C119: 12842 | D119: 81490 | E119: 1164956 | F119: 74275 | G119: 457580 | H119: 1170055 | I119: 273204 | J119: 557992 | K119: 163591 | L119: 839711 | M119: 411030 | N119: 325842 | O119: 387674 | P119: 679 | Q119: 6244024
A120: ago-18 | B120: 325275 | C120: 13168 | D120: 81691 | E120: 1160255 | F120: 74038 | G120: 455238 | H120: 1167361 | I120: 272504 | J120: 556400 | K120: 163425 | L120: 837386 | M120: 413929 | N120: 325635 | O120: 387910 | P120: 682 | Q120: 6234897
A121: sep-18 | B121: 324872 | C121: 13476 | D121: 81929 | E121: 1152066 | F121: 73894 | G121: 449488 | H121: 1162043 | I121: 271396 | J121: 553983 | K121: 163113 | L121: 836242 | M121: 413871 | N121: 325784 | O121: 387214 | P121: 753 | Q121: 6210124
A122: 43374 | B122: 329361 | C122: 13766 | D122: 82564 | E122: 1144830 | F122: 74071 | G122: 446400 | H122: 1156246 | I122: 271110 | J122: 552161 | K122: 162957 | L122: 834305 | M122: 414786 | N122: 325540 | O122: 386687 | P122: 780 | Q122: 6195564
A123: 43405 | B123: 332618 | C123: 13851 | D123: 82780 | E123: 1135612 | F123: 74173 | G123: 444200 | H123: 1148571 | I123: 269523 | J123: 549336 | K123: 162603 | L123: 829061 | M123: 414253 | N123: 325491 | O123: 386687 | P123: 714 | Q123: 6169473
A124: 43435 | B124: 329601 | C124: 12708 | D124: 83096 | E124: 1133227 | F124: 74154 | G124: 447606 | H124: 1140988 | I124: 267789 | J124: 547478 | K124: 162349 | L124: 828103 | M124: 413672 | N124: 325485 | O124: 385333 | P124: 686 | Q124: 6152275
A125: 43466 | B125: 328514 | C125: 13614 | D125: 83669 | E125: 1129281 | F125: 74210 | G125: 450689 | H125: 1139368 | I125: 267424 | J125: 545117 | K125: 161997 | L125: 828821 | M125: 413823 | N125: 325394 | O125: 383360 | P125: 816 | Q125: 6146097
A126: 43497 | B126: 328379 | C126: 13513 | D126: 83980 | E126: 1126285 | F126: 74433 | G126: 457153 | H126: 1138061 | I126: 267418 | J126: 544394 | K126: 161763 | L126: 830719 | M126: 413012 | N126: 325545 | O126: 384413 | P126: 819 | Q126: 6149887
A127: 43525 | B127: 325524 | C127: 13600 | D127: 84348 | E127: 1120241 | F127: 74391 | G127: 456604 | H127: 1134038 | I127: 267743 | J127: 543421 | K127: 161288 | L127: 829402 | M127: 412919 | N127: 325245 | O127: 383858 | P127: 840 | Q127: 6133462
A128: 43556 | B128: 330452 | C128: 13440 | D128: 84696 | E128: 1116234 | F128: 74327 | G128: 455398 | H128: 1130545 | I128: 267192 | J128: 542333 | K128: 161043 | L128: 827577 | M128: 414210 | N128: 325111 | O128: 383242 | P128: 814 | Q128: 6126614
A129: 43586 | B129: 330112 | C129: 12307 | D129: 84795 | E129: 1113278 | F129: 74372 | G129: 454433 | H129: 1128278 | I129: 267864 | J129: 541824 | K129: 160864 | L129: 828389 | M129: 414291 | N129: 325177 | O129: 383342 | P129: 821 | Q129: 6120147
A130: jun-19 | B130: 328994 | C130: 12833 | D130: 85400 | E130: 1110417 | F130: 74480 | G130: 449677 | H130: 1126828 | I130: 267879 | J130: 541388 | K130: 160752 | L130: 830418 | M130: 414278 | N130: 324993 | O130: 383343 | P130: 893 | Q130: 6112573
A131: 43647 | B131: 327997 | C131: 13414 | D131: 85908 | E131: 1107982 | F131: 74510 | G131: 445871 | H131: 1126107 | I131: 268045 | J131: 539627 | K131: 160297 | L131: 830715 | M131: 414774 | N131: 325148 | O131: 384401 | P131: 873 | Q131: 6105669
A132: 43678 | B132: 327837 | C132: 13570 | D132: 86033 | E132: 1105177 | F132: 74544 | G132: 441959 | H132: 1124380 | I132: 267975 | J132: 539010 | K132: 160221 | L132: 829856 | M132: 414391 | N132: 325366 | O132: 383968 | P132: 823 | Q132: 6095110
A133: 43709 | B133: 327400 | C133: 13283 | D133: 86131 | E133: 1098485 | F133: 74426 | G133: 430077 | H133: 1121162 | I133: 266005 | J133: 537547 | K133: 160347 | L133: 827467 | M133: 415381 | N133: 325052 | O133: 382532 | P133: 849 | Q133: 6066144
A134: oct-19 | B134: 327639 | C134: 13393 | D134: 86162 | E134: 1093656 | F134: 74466 | G134: 416723 | H134: 1117884 | I134: 264657 | J134: 537331 | K134: 159910 | L134: 826816 | M134: 415699 | N134: 325179 | O134: 382561 | P134: 849 | Q134: 6042925
A135: 43770 | B135: 328093 | C135: 12927 | D135: 85974 | E135: 1087714 | F135: 74331 | G135: 409099 | H135: 1115444 | I135: 264068 | J135: 536434 | K135: 159842 | L135: 827309 | M135: 415023 | N135: 325231 | O135: 381372 | P135: 877 | Q135: 6023738
A136: 43800 | B136: 325356 | C136: 12824 | D136: 85603 | E136: 1085037 | F136: 74160 | G136: 401290 | H136: 1112404 | I136: 262434 | J136: 535106 | K136: 159266 | L136: 826769 | M136: 414031 | N136: 325476 | O136: 381092 | P136: 874 | Q136: 6001722
A137: 43831 | B137: 324166 | C137: 13273 | D137: 84760 | E137: 1084781 | F137: 73970 | G137: 391477 | H137: 1113210 | I137: 263298 | J137: 533977 | K137: 159251 | L137: 824822 | M137: 414247 | N137: 325422 | O137: 380765 | P137: 864 | Q137: 5988283
A138: 43862 | B138: 324962 | C138: 13489 | D138: 84929 | E138: 1085237 | F138: 73857 | G138: 385554 | H138: 1114289 | I138: 265364 | J138: 533933 | K138: 159350 | L138: 827883 | M138: 413042 | N138: 325714 | O138: 381856 | P138: 860 | Q138: 5990319
...

Sheet Var. Mensual
A1: Variación mensual de los Asalariados registrados del sector privado según rama de actividad de la ocupación principal. Total país.
A2: Desde Febrero de 2009 en adelante (en %)
A4: Período | B4: Agricultura, ganaderia, caza y silvicultura | C4: Pesca | D4: Explotacion de minas y canteras | E4: Industrias manufactureras | F4: Suministro de Electricidad, gas y agua | G4: Construcción | H4: Comercio y reparaciones | I4: Hoteles y restaurantes | J4: Transporte, almacen. y comunicación | K4: Intermediacion financiera | L4: Actividades inmobiliarias, empresariales y de alquiler | M4: Enseñanza | N4: Servicios sociales y de salud | O4: Servicios comunitarios, sociales y personales | P4: Sin Especificar | Q4: Total
A5: 39845 | B5: =('Serie x Rama SIPA'!B6/'Serie x Rama SIPA'!B5-1)*100 -> -0.86253807 | C5: =('Serie x Rama SIPA'!C6/'Serie x Rama SIPA'!C5-1)*100 -> -0.76857387 | D5: =('Serie x Rama SIPA'!D6/'Serie x Rama SIPA'!D5-1)*100 -> -0.46983293 | E5: =('Serie x Rama SIPA'!E6/'Serie x Rama SIPA'!E5-1)*100 -> -0.38081954 | F5: =('Serie x Rama SIPA'!F6/'Serie x Rama SIPA'!F5-1)*100 -> 0.12686156 | G5: =('Serie x Rama SIPA'!G6/'Serie x Rama SIPA'!G5-1)*100 -> -0.4464142 | H5: =('Serie x Rama SIPA'!H6/'Serie x Rama SIPA'!H5-1)*100 -> 0.22693312 | I5: =('Serie x Rama SIPA'!I6/'Serie x Rama SIPA'!I5-1)*100 -> 0.37794453 | ... Q5: =('Serie x Rama SIPA'!Q6/'Serie x Rama SIPA'!Q5-1)*100 -> -0.27381813
A6: 39873 | B6: =('Serie x Rama SIPA'!B7/'Serie x Rama SIPA'!B6-1)*100 -> -0.27050468 | C6: =('Serie x Rama SIPA'!C7/'Serie x Rama SIPA'!C6-1)*100 -> 0.84734543 | D6: =('Serie x Rama SIPA'!D7/'Serie x Rama SIPA'!D6-1)*100 -> -1.3882984 | E6: =('Serie x Rama SIPA'!E7/'Serie x Rama SIPA'!E6-1)*100 -> -0.78457661 | F6: =('Serie x Rama SIPA'!F7/'Serie x Rama SIPA'!F6-1)*100 -> 0.0018362438 | G6: =('Serie x Rama SIPA'!G7/'Serie x Rama SIPA'!G6-1)*100 -> -0.77695594 | H6: =('Serie x Rama SIPA'!H7/'Serie x Rama SIPA'!H6-1)*100 -> -0.0082496934 | I6: =('Serie x Rama SIPA'!I7/'Serie x Rama SIPA'!I6-1)*100 -> 0.2081137 | ... Q6: =('Serie x Rama SIPA'!Q7/'Serie x Rama SIPA'!Q6-1)*100 -> -0.29938823
A7: 39904 | B7: =('Serie x Rama SIPA'!B8/'Serie x Rama SIPA'!B7-1)*100 -> -0.59538651 | C7: =('Serie x Rama SIPA'!C8/'Serie x Rama SIPA'!C7-1)*100 -> 0.22318498 | D7: =('Serie x Rama SIPA'!D8/'Serie x Rama SIPA'!D7-1)*100 -> -0.49207623 | E7: =('Serie x Rama SIPA'!E8/'Serie x Rama SIPA'!E7-1)*100 -> -0.73484636 | F7: =('Serie x Rama SIPA'!F8/'Serie x Rama SIPA'!F7-1)*100 -> 0.27543151 | G7: =('Serie x Rama SIPA'!G8/'Serie x Rama SIPA'!G7-1)*100 -> -0.53790123 | H7: =('Serie x Rama SIPA'!H8/'Serie x Rama SIPA'!H7-1)*100 -> -0.017594171 | I7: =('Serie x Rama SIPA'!I8/'Serie x Rama SIPA'!I7-1)*100 -> 0.21815664 | ... Q7: =('Serie x Rama SIPA'!Q8/'Serie x Rama SIPA'!Q7-1)*100 -> -0.32271223
A8: 39934 | B8: =('Serie x Rama SIPA'!B9/'Serie x Rama SIPA'!B8-1)*100 -> -0.56071507 | C8: =('Serie x Rama SIPA'!C9/'Serie x Rama SIPA'!C8-1)*100 -> 0.71391145 | D8: =('Serie x Rama SIPA'!D9/'Serie x Rama SIPA'!D8-1)*100 -> 0.059759468 | E8: =('Serie x Rama SIPA'!E9/'Serie x Rama SIPA'!E8-1)*100 -> -0.27347169 | F8: =('Serie x Rama SIPA'!F9/'Serie x Rama SIPA'!F8-1)*100 -> 0.16846731 | G8: =('Serie x Rama SIPA'!G9/'Serie x Rama SIPA'!G8-1)*100 -> -0.31198653 | H8: =('Serie x Rama SIPA'!H9/'Serie x Rama SIPA'!H8-1)*100 -> -0.038077702 | I8: =('Serie x Rama SIPA'!I9/'Serie x Rama SIPA'!I8-1)*100 -> -0.038173836 | ... Q8: =('Serie x Rama SIPA'!Q9/'Serie x Rama SIPA'!Q8-1)*100 -> -0.10678277
A9: 39965 | B9: =('Serie x Rama SIPA'!B10/'Serie x Rama SIPA'!B9-1)*100 -> 0.40637276 | C9: =('Serie x Rama SIPA'!C10/'Serie x Rama SIPA'!C9-1)*100 -> -2.4452104 | D9: =('Serie x Rama SIPA'!D10/'Serie x Rama SIPA'!D9-1)*100 -> -0.038820455 | E9: =('Serie x Rama SIPA'!E10/'Serie x Rama SIPA'!E9-1)*100 -> 0.24735239 | F9: =('Serie x Rama SIPA'!F10/'Serie x Rama SIPA'!F9-1)*100 -> 1.4021425 | G9: =('Serie x Rama SIPA'!G10/'Serie x Rama SIPA'!G9-1)*100 -> 0.056626573 | H9: =('Serie x Rama SIPA'!H10/'Serie x Rama SIPA'!H9-1)*100 -> 0.10512653 | I9: =('Serie x Rama SIPA'!I10/'Serie x Rama SIPA'!I9-1)*100 -> 0.15593603 | ... Q9: =('Serie x Rama SIPA'!Q10/'Serie x Rama SIPA'!Q9-1)*100 -> 0.14658814
A10: 39995 | B10: =('Serie x Rama SIPA'!B11/'Serie x Rama SIPA'!B10-1)*100 -> 0.32843942 | C10: =('Serie x Rama SIPA'!C11/'Serie x Rama SIPA'!C10-1)*100 -> -2.0931938 | D10: =('Serie x Rama SIPA'!D11/'Serie x Rama SIPA'!D10-1)*100 -> -0.18969663 | E10: =('Serie x Rama SIPA'!E11/'Serie x Rama SIPA'!E10-1)*100 -> -0.051537462 | F10: =('Serie x Rama SIPA'!F11/'Serie x Rama SIPA'!F10-1)*100 -> 0.07391516 | G10: =('Serie x Rama SIPA'!G11/'Serie x Rama SIPA'!G10-1)*100 -> -0.52501529 | H10: =('Serie x Rama SIPA'!H11/'Serie x Rama SIPA'!H10-1)*100 -> -0.020268015 | I10: =('Serie x Rama SIPA'!I11/'Serie x Rama SIPA'!I10-1)*100 -> -1.3526702 | ... Q10: =('Serie x Rama SIPA'!Q11/'Serie x Rama SIPA'!Q10-1)*100 -> 0.1224323
A11: 40026 | B11: =('Serie x Rama SIPA'!B12/'Serie x Rama SIPA'!B11-1)*100 -> 0.33560941 | C11: =('Serie x Rama SIPA'!C12/'Serie x Rama SIPA'!C11-1)*100 -> -0.23830598 | D11: =('Serie x Rama SIPA'!D12/'Serie x Rama SIPA'!D11-1)*100 -> -0.21250486 | E11: =('Serie x Rama SIPA'!E12/'Serie x Rama SIPA'!E11-1)*100 -> 0.14796637 | F11: =('Serie x Rama SIPA'!F12/'Serie x Rama SIPA'!F11-1)*100 -> 0.26301567 | G11: =('Serie x Rama SIPA'!G12/'Serie x Rama SIPA'!G11-1)*100 -> -0.26821091 | H11: =('Serie x Rama SIPA'!H12/'Serie x Rama SIPA'!H11-1)*100 -> 0.16495944 | I11: =('Serie x Rama SIPA'!I12/'Serie x Rama SIPA'!I11-1)*100 -> 0.34510526 | ... Q11: =('Serie x Rama SIPA'!Q12/'Serie x Rama SIPA'!Q11-1)*100 -> -0.18305669
A12: 40057 | B12: =('Serie x Rama SIPA'!B13/'Serie x Rama SIPA'!B12-1)*100 -> -0.36674854 | C12: =('Serie x Rama SIPA'!C13/'Serie x Rama SIPA'!C12-1)*100 -> 0.83947584 | D12: =('Serie x Rama SIPA'!D13/'Serie x Rama SIPA'!D12-1)*100 -> -0.1109778 | E12: =('Serie x Rama SIPA'!E13/'Serie x Rama SIPA'!E12-1)*100 -> 0.21370042 | F12: =('Serie x Rama SIPA'!F13/'Serie x Rama SIPA'!F12-1)*100 -> 0.29826074 | G12: =('Serie x Rama SIPA'!G13/'Serie x Rama SIPA'!G12-1)*100 -> -0.72250066 | H12: =('Serie x Rama SIPA'!H13/'Serie x Rama SIPA'!H12-1)*100 -> 0.20814153 | I12: =('Serie x Rama SIPA'!I13/'Serie x Rama SIPA'!I12-1)*100 -> 0.86759142 | ... Q12: =('Serie x Rama SIPA'!Q13/'Serie x Rama SIPA'!Q12-1)*100 -> 0.22068099
A13: 40087 | B13: =('Serie x Rama SIPA'!B14/'Serie x Rama SIPA'!B13-1)*100 -> 0.30364311 | C13: =('Serie x Rama SIPA'!C14/'Serie x Rama SIPA'!C13-1)*100 -> -1.2791878 | D13: =('Serie x Rama SIPA'!D14/'Serie x Rama SIPA'!D13-1)*100 -> 0.064558748 | E13: =('Serie x Rama SIPA'!E14/'Serie x Rama SIPA'!E13-1)*100 -> 0.30560493 | F13: =('Serie x Rama SIPA'!F14/'Serie x Rama SIPA'!F13-1)*100 -> 0.2561714 | G13: =('Serie x Rama SIPA'!G14/'Serie x Rama SIPA'!G13-1)*100 -> -0.4032558 | H13: =('Serie x Rama SIPA'!H14/'Serie x Rama SIPA'!H13-1)*100 -> 0.1557324 | I13: =('Serie x Rama SIPA'!I14/'Serie x Rama SIPA'!I13-1)*100 -> 0.82375993 | ... Q13: =('Serie x Rama SIPA'!Q14/'Serie x Rama SIPA'!Q13-1)*100 -> 0.25356989
A14: 40118 | B14: =('Serie x Rama SIPA'!B15/'Serie x Rama SIPA'!B14-1)*100 -> 0.12730241 | C14: =('Serie x Rama SIPA'!C15/'Serie x Rama SIPA'!C14-1)*100 -> 0.3839298 | D14: =('Serie x Rama SIPA'!D15/'Serie x Rama SIPA'!D14-1)*100 -> -0.1230326 | E14: =('Serie x Rama SIPA'!E15/'Serie x Rama SIPA'!E14-1)*100 -> -0.041885158 | F14: =('Serie x Rama SIPA'!F15/'Serie x Rama SIPA'!F14-1)*100 -> 0.16974895 | G14: =('Serie x Rama SIPA'!G15/'Serie x Rama SIPA'!G14-1)*100 -> -0.2202161 | H14: =('Serie x Rama SIPA'!H15/'Serie x Rama SIPA'!H14-1)*100 -> 0.3205689 | I14: =('Serie x Rama SIPA'!I15/'Serie x Rama SIPA'!I14-1)*100 -> -0.030210254 | ... Q14: =('Serie x Rama SIPA'!Q15/'Serie x Rama SIPA'!Q14-1)*100 -> 0.061687274
A15: 40148 | B15: =('Serie x Rama SIPA'!B16/'Serie x Rama SIPA'!B15-1)*100 -> -1.2090519 | C15: =('Serie x Rama SIPA'!C16/'Serie x Rama SIPA'!C15-1)*100 -> 0.43026909 | D15: =('Serie x Rama SIPA'!D16/'Serie x Rama SIPA'!D15-1)*100 -> 0.23284811 | E15: =('Serie x Rama SIPA'!E16/'Serie x Rama SIPA'!E15-1)*100 -> 0.016709669 | F15: =('Serie x Rama SIPA'!F16/'Serie x Rama SIPA'!F15-1)*100 -> 0.090973956 | G15: =('Serie x Rama SIPA'!G16/'Serie x Rama SIPA'!G15-1)*100 -> -0.015745999 | H15: =('Serie x Rama SIPA'!H16/'Serie x Rama SIPA'!H15-1)*100 -> -0.079713701 | I15: =('Serie x Rama SIPA'!I16/'Serie x Rama SIPA'!I15-1)*100 -> 0.48080393 | ... Q15: =('Serie x Rama SIPA'!Q16/'Serie x Rama SIPA'!Q15-1)*100 -> 0.11507026
A16: 40179 | B16: =('Serie x Rama SIPA'!B17/'Serie x Rama SIPA'!B16-1)*100 -> -0.54495913 | C16: =('Serie x Rama SIPA'!C17/'Serie x Rama SIPA'!C16-1)*100 -> -0.66643999 | D16: =('Serie x Rama SIPA'!D17/'Serie x Rama SIPA'!D16-1)*100 -> 0.091424118 | E16: =('Serie x Rama SIPA'!E17/'Serie x Rama SIPA'!E16-1)*100 -> 0.10957998 | F16: =('Serie x Rama SIPA'!F17/'Serie x Rama SIPA'!F16-1)*100 -> 0.11049527 | G16: =('Serie x Rama SIPA'!G17/'Serie x Rama SIPA'!G16-1)*100 -> 0.22744934 | H16: =('Serie x Rama SIPA'!H17/'Serie x Rama SIPA'!H16-1)*100 -> 0.13283067 | I16: =('Serie x Rama SIPA'!I17/'Serie x Rama SIPA'!I16-1)*100 -> -0.049376509 | ... Q16: =('Serie x Rama SIPA'!Q17/'Serie x Rama SIPA'!Q16-1)*100 -> 0.077445428
... A113: 43132 | B113: =('Serie x Rama SIPA'!B114/'Serie x Rama SIPA'!B113-1)*100 -> -0.33925044 | C113: =('Serie x Rama SIPA'!C114/'Serie x Rama SIPA'!C113-1)*100 -> -1.6062414 | D113: =('Serie x Rama SIPA'!D114/'Serie x Rama SIPA'!D113-1)*100 -> 0.30032343 | E113: =('Serie x Rama SIPA'!E114/'Serie x Rama SIPA'!E113-1)*100 -> -0.26684905 | F113: =('Serie x Rama SIPA'!F114/'Serie x Rama SIPA'!F113-1)*100 -> 0.047225183 | G113: =('Serie x Rama SIPA'!G114/'Serie x Rama SIPA'!G113-1)*100 -> 0.11447887 | H113: =('Serie x Rama SIPA'!H114/'Serie x Rama SIPA'!H113-1)*100 -> -0.12696376 | I113: =('Serie x Rama SIPA'!I114/'Serie x Rama SIPA'!I113-1)*100 -> -0.026412713 | ... Q113: =('Serie x Rama SIPA'!Q114/'Serie x Rama SIPA'!Q113-1)*100 -> -0.074675946
A114: mar-18 | B114: =('Serie x Rama SIPA'!B115/'Serie x Rama SIPA'!B114-1)*100 -> -0.085951558 | C114: =('Serie x Rama SIPA'!C115/'Serie x Rama SIPA'!C114-1)*100 -> -0.25652985 | D114: =('Serie x Rama SIPA'!D115/'Serie x Rama SIPA'!D114-1)*100 -> 0.076775432 | E114: =('Serie x Rama SIPA'!E115/'Serie x Rama SIPA'!E114-1)*100 -> -0.16604746 | F114: =('Serie x Rama SIPA'!F115/'Serie x Rama SIPA'!F114-1)*100 -> 0.037762313 | G114: =('Serie x Rama SIPA'!G115/'Serie x Rama SIPA'!G114-1)*100 -> 0.65820333 | H114: =('Serie x Rama SIPA'!H115/'Serie x Rama SIPA'!H114-1)*100 -> 0.10214201 | I114: =('Serie x Rama SIPA'!I115/'Serie x Rama SIPA'!I114-1)*100 -> 0.12769518 | ... Q114: =('Serie x Rama SIPA'!Q115/'Serie x Rama SIPA'!Q114-1)*100 -> 0.13613108
A115: 43191 | B115: =('Serie x Rama SIPA'!B116/'Serie x Rama SIPA'!B115-1)*100 -> -0.34998143 | C115: =('Serie x Rama SIPA'!C116/'Serie x Rama SIPA'!C115-1)*100 -> 1.0209649 | D115: =('Serie x Rama SIPA'!D116/'Serie x Rama SIPA'!D115-1)*100 -> 3.6325278 | E115: =('Serie x Rama SIPA'!E116/'Serie x Rama SIPA'!E115-1)*100 -> -0.23872632 | F115: =('Serie x Rama SIPA'!F116/'Serie x Rama SIPA'!F115-1)*100 -> 0.064710958 | G115: =('Serie x Rama SIPA'!G116/'Serie x Rama SIPA'!G115-1)*100 -> -0.027487394 | H115: =('Serie x Rama SIPA'!H116/'Serie x Rama SIPA'!H115-1)*100 -> 0.0043293902 | I115: =('Serie x Rama SIPA'!I116/'Serie x Rama SIPA'!I115-1)*100 -> 0.35071389 | ... Q115: =('Serie x Rama SIPA'!Q116/'Serie x Rama SIPA'!Q115-1)*100 -> 0.044864096
A116: 43221 | B116: =('Serie x Rama SIPA'!B117/'Serie x Rama SIPA'!B116-1)*100 -> -0.0071422139 | C116: =('Serie x Rama SIPA'!C117/'Serie x Rama SIPA'!C116-1)*100 -> -1.2729517 | D116: =('Serie x Rama SIPA'!D117/'Serie x Rama SIPA'!D116-1)*100 -> 0.65144168 | E116: =('Serie x Rama SIPA'!E117/'Serie x Rama SIPA'!E116-1)*100 -> -0.37641367 | F116: =('Serie x Rama SIPA'!F117/'Serie x Rama SIPA'!F116-1)*100 -> 0.014820004 | G116: =('Serie x Rama SIPA'!G117/'Serie x Rama SIPA'!G116-1)*100 -> -0.17012502 | H116: =('Serie x Rama SIPA'!H117/'Serie x Rama SIPA'!H116-1)*100 -> -0.14082642 | I116: =('Serie x Rama SIPA'!I117/'Serie x Rama SIPA'!I116-1)*100 -> 0.059526201 | ... Q116: =('Serie x Rama SIPA'!Q117/'Serie x Rama SIPA'!Q116-1)*100 -> -0.10183419
A117: 43252 | B117: =('Serie x Rama SIPA'!B118/'Serie x Rama SIPA'!B117-1)*100 -> -0.20682844 | C117: =('Serie x Rama SIPA'!C118/'Serie x Rama SIPA'!C117-1)*100 -> 0.015628663 | D117: =('Serie x Rama SIPA'!D118/'Serie x Rama SIPA'!D117-1)*100 -> -0.23045146 | E117: =('Serie x Rama SIPA'!E118/'Serie x Rama SIPA'!E117-1)*100 -> -0.60699973 | F117: =('Serie x Rama SIPA'!F118/'Serie x Rama SIPA'!F117-1)*100 -> -0.14683101 | G117: =('Serie x Rama SIPA'!G118/'Serie x Rama SIPA'!G117-1)*100 -> -0.80559787 | H117: =('Serie x Rama SIPA'!H118/'Serie x Rama SIPA'!H117-1)*100 -> -0.27694968 | I117: =('Serie x Rama SIPA'!I118/'Serie x Rama SIPA'!I117-1)*100 -> -0.30657829 | ... Q117: =('Serie x Rama SIPA'!Q118/'Serie x Rama SIPA'!Q117-1)*100 -> -0.33472061
A118: 43282 | B118: =('Serie x Rama SIPA'!B119/'Serie x Rama SIPA'!B118-1)*100 -> 0.54864007 | C118: =('Serie x Rama SIPA'!C119/'Serie x Rama SIPA'!C118-1)*100 -> 0.33596375 | D118: =('Serie x Rama SIPA'!D119/'Serie x Rama SIPA'!D118-1)*100 -> 0.12163507 | E118: =('Serie x Rama SIPA'!E119/'Serie x Rama SIPA'!E118-1)*100 -> -0.48308106 | F118: =('Serie x Rama SIPA'!F119/'Serie x Rama SIPA'!F118-1)*100 -> 0.20100909 | G118: =('Serie x Rama SIPA'!G119/'Serie x Rama SIPA'!G118-1)*100 -> -0.74272674 | H118: =('Serie x Rama SIPA'!H119/'Serie x Rama SIPA'!H118-1)*100 -> -0.26203427 | I118: =('Serie x Rama SIPA'!I119/'Serie x Rama SIPA'!I118-1)*100 -> 0.01903702 | ... Q118: =('Serie x Rama SIPA'!Q119/'Serie x Rama SIPA'!Q118-1)*100 -> -0.16554804
A119: ago-18 | B119: =('Serie x Rama SIPA'!B120/'Serie x Rama SIPA'!B119-1)*100 -> 0.67223146 | C119: =('Serie x Rama SIPA'!C120/'Serie x Rama SIPA'!C119-1)*100 -> 2.5385454 | D119: =('Serie x Rama SIPA'!D120/'Serie x Rama SIPA'!D119-1)*100 -> 0.24665603 | E119: =('Serie x Rama SIPA'!E120/'Serie x Rama SIPA'!E119-1)*100 -> -0.40353455 | F119: =('Serie x Rama SIPA'!F120/'Serie x Rama SIPA'!F119-1)*100 -> -0.31908448 | G119: =('Serie x Rama SIPA'!G120/'Serie x Rama SIPA'!G119-1)*100 -> -0.51182307 | H119: =('Serie x Rama SIPA'!H120/'Serie x Rama SIPA'!H119-1)*100 -> -0.23024559 | I119: =('Serie x Rama SIPA'!I120/'Serie x Rama SIPA'!I119-1)*100 -> -0.2562188 | ... Q119: =('Serie x Rama SIPA'!Q120/'Serie x Rama SIPA'!Q119-1)*100 -> -0.14617176
A120: sep-18 | B120: =('Serie x Rama SIPA'!B121/'Serie x Rama SIPA'!B120-1)*100 -> -0.12389517 | C120: =('Serie x Rama SIPA'!C121/'Serie x Rama SIPA'!C120-1)*100 -> 2.3390036 | D120: =('Serie x Rama SIPA'!D121/'Serie x Rama SIPA'!D120-1)*100 -> 0.29134176 | E120: =('Serie x Rama SIPA'!E121/'Serie x Rama SIPA'!E120-1)*100 -> -0.70579312 | F120: =('Serie x Rama SIPA'!F121/'Serie x Rama SIPA'!F120-1)*100 -> -0.19449472 | G120: =('Serie x Rama SIPA'!G121/'Serie x Rama SIPA'!G120-1)*100 -> -1.2630756 | H120: =('Serie x Rama SIPA'!H121/'Serie x Rama SIPA'!H120-1)*100 -> -0.45555745 | I120: =('Serie x Rama SIPA'!I121/'Serie x Rama SIPA'!I120-1)*100 -> -0.40659954 | ... Q120: =('Serie x Rama SIPA'!Q121/'Serie x Rama SIPA'!Q120-1)*100 -> -0.39732814
A121: 43374 | B121: =('Serie x Rama SIPA'!B122/'Serie x Rama SIPA'!B121-1)*100 -> 1.381775 | C121: =('Serie x Rama SIPA'!C122/'Serie x Rama SIPA'!C121-1)*100 -> 2.1519739 | D121: =('Serie x Rama SIPA'!D122/'Serie x Rama SIPA'!D121-1)*100 -> 0.77506133 | E121: =('Serie x Rama SIPA'!E122/'Serie x Rama SIPA'!E121-1)*100 -> -0.62808902 | F121: =('Serie x Rama SIPA'!F122/'Serie x Rama SIPA'!F121-1)*100 -> 0.2395323 | G121: =('Serie x Rama SIPA'!G122/'Serie x Rama SIPA'!G121-1)*100 -> -0.68700388 | H121: =('Serie x Rama SIPA'!H122/'Serie x Rama SIPA'!H121-1)*100 -> -0.49886278 | I121: =('Serie x Rama SIPA'!I122/'Serie x Rama SIPA'!I121-1)*100 -> -0.10538107 | ... Q121: =('Serie x Rama SIPA'!Q122/'Serie x Rama SIPA'!Q121-1)*100 -> -0.23445587
A122: 43405 | B122: =('Serie x Rama SIPA'!B123/'Serie x Rama SIPA'!B122-1)*100 -> 0.98888454 | C122: =('Serie x Rama SIPA'!C123/'Serie x Rama SIPA'!C122-1)*100 -> 0.61746332 | D122: =('Serie x Rama SIPA'!D123/'Serie x Rama SIPA'!D122-1)*100 -> 0.26161523 | E122: =('Serie x Rama SIPA'!E123/'Serie x Rama SIPA'!E122-1)*100 -> -0.80518505 | F122: =('Serie x Rama SIPA'!F123/'Serie x Rama SIPA'!F122-1)*100 -> 0.13770571 | G122: =('Serie x Rama SIPA'!G123/'Serie x Rama SIPA'!G122-1)*100 -> -0.49283154 | H122: =('Serie x Rama SIPA'!H123/'Serie x Rama SIPA'!H122-1)*100 -> -0.66378608 | I122: =('Serie x Rama SIPA'!I123/'Serie x Rama SIPA'!I122-1)*100 -> -0.58537125 | ... Q122: =('Serie x Rama SIPA'!Q123/'Serie x Rama SIPA'!Q122-1)*100 -> -0.42112389
A123: 43435 | B123: =('Serie x Rama SIPA'!B124/'Serie x Rama SIPA'!B123-1)*100 -> -0.90704652 | C123: =('Serie x Rama SIPA'!C124/'Serie x Rama SIPA'!C123-1)*100 -> -8.2521118 | D123: =('Serie x Rama SIPA'!D124/'Serie x Rama SIPA'!D123-1)*100 -> 0.38173472 | E123: =('Serie x Rama SIPA'!E124/'Serie x Rama SIPA'!E123-1)*100 -> -0.21001891 | F123: =('Serie x Rama SIPA'!F124/'Serie x Rama SIPA'!F123-1)*100 -> -0.02561579 | G123: =('Serie x Rama SIPA'!G124/'Serie x Rama SIPA'!G123-1)*100 -> 0.76677172 | H123: =('Serie x Rama SIPA'!H124/'Serie x Rama SIPA'!H123-1)*100 -> -0.66021169 | I123: =('Serie x Rama SIPA'!I124/'Serie x Rama SIPA'!I123-1)*100 -> -0.64335882 | ... Q123: =('Serie x Rama SIPA'!Q124/'Serie x Rama SIPA'!Q123-1)*100 -> -0.27875963
A124: 43466 | B124: =('Serie x Rama SIPA'!B125/'Serie x Rama SIPA'!B124-1)*100 -> -0.32979269 | C124: =('Serie x Rama SIPA'!C125/'Serie x Rama SIPA'!C124-1)*100 -> 7.1293673 | D124: =('Serie x Rama SIPA'!D125/'Serie x Rama SIPA'!D124-1)*100 -> 0.68956388 | E124: =('Serie x Rama SIPA'!E125/'Serie x Rama SIPA'!E124-1)*100 -> -0.34820914 | F124: =('Serie x Rama SIPA'!F125/'Serie x Rama SIPA'!F124-1)*100 -> 0.075518516 | G124: =('Serie x Rama SIPA'!G125/'Serie x Rama SIPA'!G124-1)*100 -> 0.6887754 | H124: =('Serie x Rama SIPA'!H125/'Serie x Rama SIPA'!H124-1)*100 -> -0.14198221 | I124: =('Serie x Rama SIPA'!I125/'Serie x Rama SIPA'!I124-1)*100 -> -0.13630134 | ... Q124: =('Serie x Rama SIPA'!Q125/'Serie x Rama SIPA'!Q124-1)*100 -> -0.10041814
A125: 43497 | B125: =('Serie x Rama SIPA'!B126/'Serie x Rama SIPA'!B125-1)*100 -> -0.041094139 | C125: =('Serie x Rama SIPA'!C126/'Serie x Rama SIPA'!C125-1)*100 -> -0.74188336 | D125: =('Serie x Rama SIPA'!D126/'Serie x Rama SIPA'!D125-1)*100 -> 0.37170278 | E125: =('Serie x Rama SIPA'!E126/'Serie x Rama SIPA'!E125-1)*100 -> -0.26530155 | F125: =('Serie x Rama SIPA'!F126/'Serie x Rama SIPA'!F125-1)*100 -> 0.30049859 | G125: =('Serie x Rama SIPA'!G126/'Serie x Rama SIPA'!G125-1)*100 -> 1.4342485 | H125: =('Serie x Rama SIPA'!H126/'Serie x Rama SIPA'!H125-1)*100 -> -0.11471272 | I125: =('Serie x Rama SIPA'!I126/'Serie x Rama SIPA'!I125-1)*100 -> -0.0022436281 | ... Q125: =('Serie x Rama SIPA'!Q126/'Serie x Rama SIPA'!Q125-1)*100 -> 0.061665151
A126: 43525 | B126: =('Serie x Rama SIPA'!B127/'Serie x Rama SIPA'!B126-1)*100 -> -0.86942222 | C126: =('Serie x Rama SIPA'!C127/'Serie x Rama SIPA'!C126-1)*100 -> 0.64382447 | D126: =('Serie x Rama SIPA'!D127/'Serie x Rama SIPA'!D126-1)*100 -> 0.43819957 | E126: =('Serie x Rama SIPA'!E127/'Serie x Rama SIPA'!E126-1)*100 -> -0.53663149 | F126: =('Serie x Rama SIPA'!F127/'Serie x Rama SIPA'!F126-1)*100 -> -0.056426585 | G126: =('Serie x Rama SIPA'!G127/'Serie x Rama SIPA'!G126-1)*100 -> -0.12009109 | H126: =('Serie x Rama SIPA'!H127/'Serie x Rama SIPA'!H126-1)*100 -> -0.35349599 | I126: =('Serie x Rama SIPA'!I127/'Serie x Rama SIPA'!I126-1)*100 -> 0.12153258 | ... Q126: =('Serie x Rama SIPA'!Q127/'Serie x Rama SIPA'!Q126-1)*100 -> -0.26707808
A127: 43556 | B127: =('Serie x Rama SIPA'!B128/'Serie x Rama SIPA'!B127-1)*100 -> 1.5138669 | C127: =('Serie x Rama SIPA'!C128/'Serie x Rama SIPA'!C127-1)*100 -> -1.1764706 | D127: =('Serie x Rama SIPA'!D128/'Serie x Rama SIPA'!D127-1)*100 -> 0.41257647 | E127: =('Serie x Rama SIPA'!E128/'Serie x Rama SIPA'!E127-1)*100 -> -0.35769089 | F127: =('Serie x Rama SIPA'!F128/'Serie x Rama SIPA'!F127-1)*100 -> -0.086031912 | G127: =('Serie x Rama SIPA'!G128/'Serie x Rama SIPA'!G127-1)*100 -> -0.26412384 | H127: =('Serie x Rama SIPA'!H128/'Serie x Rama SIPA'!H127-1)*100 -> -0.30801437 | I127: =('Serie x Rama SIPA'!I128/'Serie x Rama SIPA'!I127-1)*100 -> -0.20579436 | ... Q127: =('Serie x Rama SIPA'!Q128/'Serie x Rama SIPA'!Q127-1)*100 -> -0.11164983
A128: 43586 | B128: =('Serie x Rama SIPA'!B129/'Serie x Rama SIPA'!B128-1)*100 -> -0.10288938 | C128: =('Serie x Rama SIPA'!C129/'Serie x Rama SIPA'!C128-1)*100 -> -8.4300595 | D128: =('Serie x Rama SIPA'!D129/'Serie x Rama SIPA'!D128-1)*100 -> 0.11688864 | E128: =('Serie x Rama SIPA'!E129/'Serie x Rama SIPA'!E128-1)*100 -> -0.26481903 | F128: =('Serie x Rama SIPA'!F129/'Serie x Rama SIPA'!F128-1)*100 -> 0.060543275 | G128: =('Serie x Rama SIPA'!G129/'Serie x Rama SIPA'!G128-1)*100 -> -0.21190256 | H128: =('Serie x Rama SIPA'!H129/'Serie x Rama SIPA'!H128-1)*100 -> -0.20052276 | I128: =('Serie x Rama SIPA'!I129/'Serie x Rama SIPA'!I128-1)*100 -> 0.25150454 | ... Q128: =('Serie x Rama SIPA'!Q129/'Serie x Rama SIPA'!Q128-1)*100 -> -0.10555586
A129: jun-19 | B129: =('Serie x Rama SIPA'!B130/'Serie x Rama SIPA'!B129-1)*100 -> -0.33867294 | C129: =('Serie x Rama SIPA'!C130/'Serie x Rama SIPA'!C129-1)*100 -> 4.2739904 | D129: =('Serie x Rama SIPA'!D130/'Serie x Rama SIPA'!D129-1)*100 -> 0.71348546 | E129: =('Serie x Rama SIPA'!E130/'Serie x Rama SIPA'!E129-1)*100 -> -0.25698882 | F129: =('Serie x Rama SIPA'!F130/'Serie x Rama SIPA'!F129-1)*100 -> 0.14521594 | G129: =('Serie x Rama SIPA'!G130/'Serie x Rama SIPA'!G129-1)*100 -> -1.0465789 | H129: =('Serie x Rama SIPA'!H130/'Serie x Rama SIPA'!H129-1)*100 -> -0.12851443 | I129: =('Serie x Rama SIPA'!I130/'Serie x Rama SIPA'!I129-1)*100 -> 0.0055998566 | ... Q129: =('Serie x Rama SIPA'!Q130/'Serie x Rama SIPA'!Q129-1)*100 -> -0.1237552
A130: 43647 | B130: =('Serie x Rama SIPA'!B131/'Serie x Rama SIPA'!B130-1)*100 -> -0.30304504 | C130: =('Serie x Rama SIPA'!C131/'Serie x Rama SIPA'!C130-1)*100 -> 4.5273903 | D130: =('Serie x Rama SIPA'!D131/'Serie x Rama SIPA'!D130-1)*100 -> 0.59484778 | E130: =('Serie x Rama SIPA'!E131/'Serie x Rama SIPA'!E130-1)*100 -> -0.21928699 | F130: =('Serie x Rama SIPA'!F131/'Serie x Rama SIPA'!F130-1)*100 -> 0.04027927 | G130: =('Serie x Rama SIPA'!G131/'Serie x Rama SIPA'!G130-1)*100 -> -0.84638529 | H130: =('Serie x Rama SIPA'!H131/'Serie x Rama SIPA'!H130-1)*100 -> -0.063984921 | I130: =('Serie x Rama SIPA'!I131/'Serie x Rama SIPA'!I130-1)*100 -> 0.061968277 | ... Q130: =('Serie x Rama SIPA'!Q131/'Serie x Rama SIPA'!Q130-1)*100 -> -0.11294753
A131: 43678 | B131: =('Serie x Rama SIPA'!B132/'Serie x Rama SIPA'!B131-1)*100 -> -0.048780934 | C131: =('Serie x Rama SIPA'!C132/'Serie x Rama SIPA'!C131-1)*100 -> 1.1629641 | D131: =('Serie x Rama SIPA'!D132/'Serie x Rama SIPA'!D131-1)*100 -> 0.14550449 | E131: =('Serie x Rama SIPA'!E132/'Serie x Rama SIPA'!E131-1)*100 -> -0.25316296 | F131: =('Serie x Rama SIPA'!F132/'Serie x Rama SIPA'!F131-1)*100 -> 0.045631459 | G131: =('Serie x Rama SIPA'!G132/'Serie x Rama SIPA'!G131-1)*100 -> -0.87738382 | H131: =('Serie x Rama SIPA'!H132/'Serie x Rama SIPA'!H131-1)*100 -> -0.1533602 | I131: =('Serie x Rama SIPA'!I132/'Serie x Rama SIPA'!I131-1)*100 -> -0.026115018 | ... Q131: =('Serie x Rama SIPA'!Q132/'Serie x Rama SIPA'!Q131-1)*100 -> -0.17293764
A132: 43709 | B132: =('Serie x Rama SIPA'!B133/'Serie x Rama SIPA'!B132-1)*100 -> -0.13329795 | C132: =('Serie x Rama SIPA'!C133/'Serie x Rama SIPA'!C132-1)*100 -> -2.1149595 | D132: =('Serie x Rama SIPA'!D133/'Serie x Rama SIPA'!D132-1)*100 -> 0.11390978 | E132: =('Serie x Rama SIPA'!E133/'Serie x Rama SIPA'!E132-1)*100 -> -0.60551387 | F132: =('Serie x Rama SIPA'!F133/'Serie x Rama SIPA'!F132-1)*100 -> -0.15829577 | G132: =('Serie x Rama SIPA'!G133/'Serie x Rama SIPA'!G132-1)*100 -> -2.6884847 | H132: =('Serie x Rama SIPA'!H133/'Serie x Rama SIPA'!H132-1)*100 -> -0.28620217 | I132: =('Serie x Rama SIPA'!I133/'Serie x Rama SIPA'!I132-1)*100 -> -0.7351432 | ... Q132: =('Serie x Rama SIPA'!Q133/'Serie x Rama SIPA'!Q132-1)*100 -> -0.47523342
A133: oct-19 | B133: =('Serie x Rama SIPA'!B134/'Serie x Rama SIPA'!B133-1)*100 -> 0.072999389 | C133: =('Serie x Rama SIPA'!C134/'Serie x Rama SIPA'!C133-1)*100 -> 0.82812618 | D133: =('Serie x Rama SIPA'!D134/'Serie x Rama SIPA'!D133-1)*100 -> 0.035991687 | E133: =('Serie x Rama SIPA'!E134/'Serie x Rama SIPA'!E133-1)*100 -> -0.43960546 | F133: =('Serie x Rama SIPA'!F134/'Serie x Rama SIPA'!F133-1)*100 -> 0.053744659 | G133: =('Serie x Rama SIPA'!G134/'Serie x Rama SIPA'!G133-1)*100 -> -3.1050254 | H133: =('Serie x Rama SIPA'!H134/'Serie x Rama SIPA'!H133-1)*100 -> -0.29237523 | I133: =('Serie x Rama SIPA'!I134/'Serie x Rama SIPA'!I133-1)*100 -> -0.50675739 | ... Q133: =('Serie x Rama SIPA'!Q134/'Serie x Rama SIPA'!Q133-1)*100 -> -0.38276375
A134: 43770 | B134: =('Serie x Rama SIPA'!B135/'Serie x Rama SIPA'!B134-1)*100 -> 0.13856714 | C134: =('Serie x Rama SIPA'!C135/'Serie x Rama SIPA'!C134-1)*100 -> -3.4794296 | D134: =('Serie x Rama SIPA'!D135/'Serie x Rama SIPA'!D134-1)*100 -> -0.21819364 | E134: =('Serie x Rama SIPA'!E135/'Serie x Rama SIPA'!E134-1)*100 -> -0.54331527 | F134: =('Serie x Rama SIPA'!F135/'Serie x Rama SIPA'!F134-1)*100 -> -0.18129079 | G134: =('Serie x Rama SIPA'!G135/'Serie x Rama SIPA'!G134-1)*100 -> -1.8295126 | H134: =('Serie x Rama SIPA'!H135/'Serie x Rama SIPA'!H134-1)*100 -> -0.21826952 | I134: =('Serie x Rama SIPA'!I135/'Serie x Rama SIPA'!I134-1)*100 -> -0.22255221 | ... Q134: =('Serie x Rama SIPA'!Q135/'Serie x Rama SIPA'!Q134-1)*100 -> -0.3175118
A135: 43800 | B135: =('Serie x Rama SIPA'!B136/'Serie x Rama SIPA'!B135-1)*100 -> -0.83421469 | C135: =('Serie x Rama SIPA'!C136/'Serie x Rama SIPA'!C135-1)*100 -> -0.79678193 | D135: =('Serie x Rama SIPA'!D136/'Serie x Rama SIPA'!D135-1)*100 -> -0.43152581 | E135: =('Serie x Rama SIPA'!E136/'Serie x Rama SIPA'!E135-1)*100 -> -0.24611249 | F135: =('Serie x Rama SIPA'!F136/'Serie x Rama SIPA'!F135-1)*100 -> -0.23005206 | G135: =('Serie x Rama SIPA'!G136/'Serie x Rama SIPA'!G135-1)*100 -> -1.9088289 | H135: =('Serie x Rama SIPA'!H136/'Serie x Rama SIPA'!H135-1)*100 -> -0.27253721 | I135: =('Serie x Rama SIPA'!I136/'Serie x Rama SIPA'!I135-1)*100 -> -0.61878001 | ... Q135: =('Serie x Rama SIPA'!Q136/'Serie x Rama SIPA'!Q135-1)*100 -> -0.36548734
A136: 43831 | B136: =('Serie x Rama SIPA'!B137/'Serie x Rama SIPA'!B136-1)*100 -> -0.36575321 | C136: =('Serie x Rama SIPA'!C137/'Serie x Rama SIPA'!C136-1)*100 -> 3.5012477 | D136: =('Serie x Rama SIPA'!D137/'Serie x Rama SIPA'!D136-1)*100 -> -0.98477857 | E136: =('Serie x Rama SIPA'!E137/'Serie x Rama SIPA'!E136-1)*100 -> -0.023593665 | F136: =('Serie x Rama SIPA'!F137/'Serie x Rama SIPA'!F136-1)*100 -> -0.2562028 | G136: =('Serie x Rama SIPA'!G137/'Serie x Rama SIPA'!G136-1)*100 -> -2.4453637 | H136: =('Serie x Rama SIPA'!H137/'Serie x Rama SIPA'!H136-1)*100 -> 0.072455691 | I136: =('Serie x Rama SIPA'!I137/'Serie x Rama SIPA'!I136-1)*100 -> 0.32922563 | ... Q136: =('Serie x Rama SIPA'!Q137/'Serie x Rama SIPA'!Q136-1)*100 -> -0.22391907
A137: 43862 | B137: =('Serie x Rama SIPA'!B138/'Serie x Rama SIPA'!B137-1)*100 -> 0.2455532 | C137: =('Serie x Rama SIPA'!C138/'Serie x Rama SIPA'!C137-1)*100 -> 1.6273638 | D137: =('Serie x Rama SIPA'!D138/'Serie x Rama SIPA'!D137-1)*100 -> 0.1993865 | E137: =('Serie x Rama SIPA'!E138/'Serie x Rama SIPA'!E137-1)*100 -> 0.042036134 | F137: =('Serie x Rama SIPA'!F138/'Serie x Rama SIPA'!F137-1)*100 -> -0.15276463 | G137: =('Serie x Rama SIPA'!G138/'Serie x Rama SIPA'!G137-1)*100 -> -1.512988 | H137: =('Serie x Rama SIPA'!H138/'Serie x Rama SIPA'!H137-1)*100 -> 0.096926905 | I137: =('Serie x Rama SIPA'!I138/'Serie x Rama SIPA'!I137-1)*100 -> 0.78466225 | ... Q137: =('Serie x Rama SIPA'!Q138/'Serie x Rama SIPA'!Q137-1)*100 -> 0.033999729
...

Sheet Var. Interanual
A1: Variación interanual de los Asalariados registrados del sector privado según rama de actividad de la ocupación principal. Total país.
A2: Desde Enero de 2010 en adelante (en %)
A4: Período | B4: Agricultura, ganaderia, caza y silvicultura | C4: Pesca | D4: Explotacion de minas y canteras | E4: Industrias manufactureras | F4: Suministro de Electricidad, gas y agua | G4: Construcción | H4: Comercio y reparaciones | I4: Hoteles y restaurantes | J4: Transporte, almacen. y comunicación | K4: Intermediacion financiera | L4: Actividades inmobiliarias, empresariales y de alquiler | M4: Enseñanza | N4: Servicios sociales y de salud | O4: Servicios comunitarios, sociales y personales | P4: Sin Especificar | Q4: Total
A5: 40179 | B5: =('Serie x Rama SIPA'!B17/'Serie x Rama SIPA'!B5-1)*100 -> -2.8855491 | C5: =('Serie x Rama SIPA'!C17/'Serie x Rama SIPA'!C5-1)*100 -> -4.0465086 | D5: =('Serie x Rama SIPA'!D17/'Serie x Rama SIPA'!D5-1)*100 -> -2.5563581 | E5: =('Serie x Rama SIPA'!E17/'Serie x Rama SIPA'!E5-1)*100 -> -1.2267377 | F5: =('Serie x Rama SIPA'!F17/'Serie x Rama SIPA'!F5-1)*100 -> 3.2781761 | G5: =('Serie x Rama SIPA'!G17/'Serie x Rama SIPA'!G5-1)*100 -> -3.8785793 | H5: =('Serie x Rama SIPA'!H17/'Serie x Rama SIPA'!H5-1)*100 -> 1.1555857 | I5: =('Serie x Rama SIPA'!I17/'Serie x Rama SIPA'!I5-1)*100 -> 2.0074581 | ... Q5: =('Serie x Rama SIPA'!Q17/'Serie x Rama SIPA'!Q5-1)*100 -> -0.19053475
A6: 40210 | B6: =('Serie x Rama SIPA'!B18/'Serie x Rama SIPA'!B6-1)*100 -> -1.5317479 | C6: =('Serie x Rama SIPA'!C18/'Serie x Rama SIPA'!C6-1)*100 -> -3.7931948 | D6: =('Serie x Rama SIPA'!D18/'Serie x Rama SIPA'!D6-1)*100 -> -1.5994019 | E6: =('Serie x Rama SIPA'!E18/'Serie x Rama SIPA'!E6-1)*100 -> -0.34790873 | F6: =('Serie x Rama SIPA'!F18/'Serie x Rama SIPA'!F6-1)*100 -> 2.9692062 | G6: =('Serie x Rama SIPA'!G18/'Serie x Rama SIPA'!G6-1)*100 -> -2.8322581 | H6: =('Serie x Rama SIPA'!H18/'Serie x Rama SIPA'!H6-1)*100 -> 1.5353375 | I6: =('Serie x Rama SIPA'!I18/'Serie x Rama SIPA'!I6-1)*100 -> 1.9866643 | ... Q6: =('Serie x Rama SIPA'!Q18/'Serie x Rama SIPA'!Q6-1)*100 -> 0.56814586
A7: 40238 | B7: =('Serie x Rama SIPA'!B19/'Serie x Rama SIPA'!B7-1)*100 -> -1.0661007 | C7: =('Serie x Rama SIPA'!C19/'Serie x Rama SIPA'!C7-1)*100 -> -4.8312984 | D7: =('Serie x Rama SIPA'!D19/'Serie x Rama SIPA'!D7-1)*100 -> 0.38355187 | E7: =('Serie x Rama SIPA'!E19/'Serie x Rama SIPA'!E7-1)*100 -> 0.76221494 | F7: =('Serie x Rama SIPA'!F19/'Serie x Rama SIPA'!F7-1)*100 -> 3.0205656 | G7: =('Serie x Rama SIPA'!G19/'Serie x Rama SIPA'!G7-1)*100 -> -1.955093 | H7: =('Serie x Rama SIPA'!H19/'Serie x Rama SIPA'!H7-1)*100 -> 1.9922168 | I7: =('Serie x Rama SIPA'!I19/'Serie x Rama SIPA'!I7-1)*100 -> 2.1524182 | ... Q7: =('Serie x Rama SIPA'!Q19/'Serie x Rama SIPA'!Q7-1)*100 -> 1.2119144
A8: 40269 | B8: =('Serie x Rama SIPA'!B20/'Serie x Rama SIPA'!B8-1)*100 -> 0.153256 | C8: =('Serie x Rama SIPA'!C20/'Serie x Rama SIPA'!C8-1)*100 -> -5.2135185 | D8: =('Serie x Rama SIPA'!D20/'Serie x Rama SIPA'!D8-1)*100 -> 1.1578397 | E8: =('Serie x Rama SIPA'!E20/'Serie x Rama SIPA'!E8-1)*100 -> 1.8297789 | F8: =('Serie x Rama SIPA'!F20/'Serie x Rama SIPA'!F8-1)*100 -> 2.7815418 | G8: =('Serie x Rama SIPA'!G20/'Serie x Rama SIPA'!G8-1)*100 -> -1.2766751 | H8: =('Serie x Rama SIPA'!H20/'Serie x Rama SIPA'!H8-1)*100 -> 2.479624 | I8: =('Serie x Rama SIPA'!I20/'Serie x Rama SIPA'!I8-1)*100 -> 2.3845014 | ... Q8: =('Serie x Rama SIPA'!Q20/'Serie x Rama SIPA'!Q8-1)*100 -> 1.8756594
A9: 40299 | B9: =('Serie x Rama SIPA'!B21/'Serie x Rama SIPA'!B9-1)*100 -> -0.043067514 | C9: =('Serie x Rama SIPA'!C21/'Serie x Rama SIPA'!C9-1)*100 -> -7.0885088 | D9: =('Serie x Rama SIPA'!D21/'Serie x Rama SIPA'!D9-1)*100 -> 1.4990668 | E9: =('Serie x Rama SIPA'!E21/'Serie x Rama SIPA'!E9-1)*100 -> 2.4174527 | F9: =('Serie x Rama SIPA'!F21/'Serie x Rama SIPA'!F9-1)*100 -> 2.7512705 | G9: =('Serie x Rama SIPA'!G21/'Serie x Rama SIPA'!G9-1)*100 -> -1.1029542 | H9: =('Serie x Rama SIPA'!H21/'Serie x Rama SIPA'!H9-1)*100 -> 2.7945557 | I9: =('Serie x Rama SIPA'!I21/'Serie x Rama SIPA'!I9-1)*100 -> 2.9141397 | ... Q9: =('Serie x Rama SIPA'!Q21/'Serie x Rama SIPA'!Q9-1)*100 -> 2.1907043
A10: 40330 | B10: =('Serie x Rama SIPA'!B22/'Serie x Rama SIPA'!B10-1)*100 -> -0.60418148 | C10: =('Serie x Rama SIPA'!C22/'Serie x Rama SIPA'!C10-1)*100 -> -5.579628 | D10: =('Serie x Rama SIPA'!D22/'Serie x Rama SIPA'!D10-1)*100 -> 1.8626118 | E10: =('Serie x Rama SIPA'!E22/'Serie x Rama SIPA'!E10-1)*100 -> 2.5477433 | F10: =('Serie x Rama SIPA'!F22/'Serie x Rama SIPA'!F10-1)*100 -> 1.555824 | G10: =('Serie x Rama SIPA'!G22/'Serie x Rama SIPA'!G10-1)*100 -> -1.1265848 | H10: =('Serie x Rama SIPA'!H22/'Serie x Rama SIPA'!H10-1)*100 -> 3.0779563 | I10: =('Serie x Rama SIPA'!I22/'Serie x Rama SIPA'!I10-1)*100 -> 3.6154422 | ... Q10: =('Serie x Rama SIPA'!Q22/'Serie x Rama SIPA'!Q10-1)*100 -> 2.3807496
A11: 40360 | B11: =('Serie x Rama SIPA'!B23/'Serie x Rama SIPA'!B11-1)*100 -> -1.0492756 | C11: =('Serie x Rama SIPA'!C23/'Serie x Rama SIPA'!C11-1)*100 -> 3.3158576 | D11: =('Serie x Rama SIPA'!D23/'Serie x Rama SIPA'!D11-1)*100 -> 2.732633 | E11: =('Serie x Rama SIPA'!E23/'Serie x Rama SIPA'!E11-1)*100 -> 2.7827335 | F11: =('Serie x Rama SIPA'!F23/'Serie x Rama SIPA'!F11-1)*100 -> 1.6267339 | G11: =('Serie x Rama SIPA'!G23/'Serie x Rama SIPA'!G11-1)*100 -> -0.29157777 | H11: =('Serie x Rama SIPA'!H23/'Serie x Rama SIPA'!H11-1)*100 -> 3.5427523 | I11: =('Serie x Rama SIPA'!I23/'Serie x Rama SIPA'!I11-1)*100 -> 5.2814909 | ... Q11: =('Serie x Rama SIPA'!Q23/'Serie x Rama SIPA'!Q11-1)*100 -> 2.5697433
A12: 40391 | B12: =('Serie x Rama SIPA'!B24/'Serie x Rama SIPA'!B12-1)*100 -> -1.1462033 | C12: =('Serie x Rama SIPA'!C24/'Serie x Rama SIPA'!C12-1)*100 -> 3.6582037 | D12: =('Serie x Rama SIPA'!D24/'Serie x Rama SIPA'!D12-1)*100 -> 3.8737253 | E12: =('Serie x Rama SIPA'!E24/'Serie x Rama SIPA'!E12-1)*100 -> 2.9650287 | F12: =('Serie x Rama SIPA'!F24/'Serie x Rama SIPA'!F12-1)*100 -> 1.4104499 | G12: =('Serie x Rama SIPA'!G24/'Serie x Rama SIPA'!G12-1)*100 -> 1.2389728 | H12: =('Serie x Rama SIPA'!H24/'Serie x Rama SIPA'!H12-1)*100 -> 3.7129155 | I12: =('Serie x Rama SIPA'!I24/'Serie x Rama SIPA'!I12-1)*100 -> 5.5343345 | ... Q12: =('Serie x Rama SIPA'!Q24/'Serie x Rama SIPA'!Q12-1)*100 -> 3.100803
A13: 40422 | B13: =('Serie x Rama SIPA'!B25/'Serie x Rama SIPA'!B13-1)*100 -> -0.37115329 | C13: =('Serie x Rama SIPA'!C25/'Serie x Rama SIPA'!C13-1)*100 -> 3.0456853 | D13: =('Serie x Rama SIPA'!D25/'Serie x Rama SIPA'!D13-1)*100 -> 4.1858091 | E13: =('Serie x Rama SIPA'!E25/'Serie x Rama SIPA'!E13-1)*100 -> 2.8827558 | F13: =('Serie x Rama SIPA'!F25/'Serie x Rama SIPA'!F13-1)*100 -> 1.3471391 | G13: =('Serie x Rama SIPA'!G25/'Serie x Rama SIPA'!G13-1)*100 -> 3.0831625 | H13: =('Serie x Rama SIPA'!H25/'Serie x Rama SIPA'!H13-1)*100 -> 3.9460788 | I13: =('Serie x Rama SIPA'!I25/'Serie x Rama SIPA'!I13-1)*100 -> 4.6797929 | ... Q13: =('Serie x Rama SIPA'!Q25/'Serie x Rama SIPA'!Q13-1)*100 -> 3.2912698
A14: 40452 | B14: =('Serie x Rama SIPA'!B26/'Serie x Rama SIPA'!B14-1)*100 -> -0.52260988 | C14: =('Serie x Rama SIPA'!C26/'Serie x Rama SIPA'!C14-1)*100 -> -1.0009598 | D14: =('Serie x Rama SIPA'!D26/'Serie x Rama SIPA'!D14-1)*100 -> 4.4396765 | E14: =('Serie x Rama SIPA'!E26/'Serie x Rama SIPA'!E14-1)*100 -> 2.7053186 | F14: =('Serie x Rama SIPA'!F26/'Serie x Rama SIPA'!F14-1)*100 -> 1.5045117 | G14: =('Serie x Rama SIPA'!G26/'Serie x Rama SIPA'!G14-1)*100 -> 4.2023928 | H14: =('Serie x Rama SIPA'!H26/'Serie x Rama SIPA'!H14-1)*100 -> 4.144858 | I14: =('Serie x Rama SIPA'!I26/'Serie x Rama SIPA'!I14-1)*100 -> 4.1820912 | ... Q14: =('Serie x Rama SIPA'!Q26/'Serie x Rama SIPA'!Q14-1)*100 -> 3.2856242
A15: 40483 | B15: =('Serie x Rama SIPA'!B27/'Serie x Rama SIPA'!B15-1)*100 -> -0.092465858 | C15: =('Serie x Rama SIPA'!C27/'Serie x Rama SIPA'!C15-1)*100 -> 0.12976369 | D15: =('Serie x Rama SIPA'!D27/'Serie x Rama SIPA'!D15-1)*100 -> 5.6679736 | E15: =('Serie x Rama SIPA'!E27/'Serie x Rama SIPA'!E15-1)*100 -> 2.920336 | F15: =('Serie x Rama SIPA'!F27/'Serie x Rama SIPA'!F15-1)*100 -> 1.8319658 | G15: =('Serie x Rama SIPA'!G27/'Serie x Rama SIPA'!G15-1)*100 -> 5.8908105 | H15: =('Serie x Rama SIPA'!H27/'Serie x Rama SIPA'!H15-1)*100 -> 4.1528966 | I15: =('Serie x Rama SIPA'!I27/'Serie x Rama SIPA'!I15-1)*100 -> 4.2861911 | ... Q15: =('Serie x Rama SIPA'!Q27/'Serie x Rama SIPA'!Q15-1)*100 -> 3.616833
A16: 40513 | B16: =('Serie x Rama SIPA'!B28/'Serie x Rama SIPA'!B16-1)*100 -> 1.0893025 | C16: =('Serie x Rama SIPA'!C28/'Serie x Rama SIPA'!C16-1)*100 -> 0.60523631 | D16: =('Serie x Rama SIPA'!D28/'Serie x Rama SIPA'!D16-1)*100 -> 5.283115 | E16: =('Serie x Rama SIPA'!E28/'Serie x Rama SIPA'!E16-1)*100 -> 3.4518979 | F16: =('Serie x Rama SIPA'!F28/'Serie x Rama SIPA'!F16-1)*100 -> 2.0370337 | G16: =('Serie x Rama SIPA'!G28/'Serie x Rama SIPA'!G16-1)*100 -> 7.7095258 | H16: =('Serie x Rama SIPA'!H28/'Serie x Rama SIPA'!H16-1)*100 -> 4.6991686 | I16: =('Serie x Rama SIPA'!I28/'Serie x Rama SIPA'!I16-1)*100 -> 3.8774026 | ... Q16: =('Serie x Rama SIPA'!Q28/'Serie x Rama SIPA'!Q16-1)*100 -> 4.1152511
... A102: 43132 | B102: =('Serie x Rama SIPA'!B114/'Serie x Rama SIPA'!B102-1)*100 -> 0.066827134 | C102: =('Serie x Rama SIPA'!C114/'Serie x Rama SIPA'!C102-1)*100 -> -0.24040326 | D102: =('Serie x Rama SIPA'!D114/'Serie x Rama SIPA'!D102-1)*100 -> -1.0721926 | E102: =('Serie x Rama SIPA'!E114/'Serie x Rama SIPA'!E102-1)*100 -> -1.2054992 | F102: =('Serie x Rama SIPA'!F114/'Serie x Rama SIPA'!F102-1)*100 -> 2.5404157 | G102: =('Serie x Rama SIPA'!G114/'Serie x Rama SIPA'!G102-1)*100 -> 9.1243829 | H102: =('Serie x Rama SIPA'!H114/'Serie x Rama SIPA'!H102-1)*100 -> 1.3152638 | I102: =('Serie x Rama SIPA'!I114/'Serie x Rama SIPA'!I102-1)*100 -> 2.2957269 | ... Q102: =('Serie x Rama SIPA'!Q114/'Serie x Rama SIPA'!Q102-1)*100 -> 1.3092235
A103: mar-18 | B103: =('Serie x Rama SIPA'!B115/'Serie x Rama SIPA'!B103-1)*100 -> 0.25407876 | C103: =('Serie x Rama SIPA'!C115/'Serie x Rama SIPA'!C103-1)*100 -> -0.70422535 | D103: =('Serie x Rama SIPA'!D115/'Serie x Rama SIPA'!D103-1)*100 -> -0.19524521 | E103: =('Serie x Rama SIPA'!E115/'Serie x Rama SIPA'!E103-1)*100 -> -1.341955 | F103: =('Serie x Rama SIPA'!F115/'Serie x Rama SIPA'!F103-1)*100 -> 2.4289877 | G103: =('Serie x Rama SIPA'!G115/'Serie x Rama SIPA'!G103-1)*100 -> 8.3969785 | H103: =('Serie x Rama SIPA'!H115/'Serie x Rama SIPA'!H103-1)*100 -> 1.355572 | I103: =('Serie x Rama SIPA'!I115/'Serie x Rama SIPA'!I103-1)*100 -> 2.3107582 | ... Q103: =('Serie x Rama SIPA'!Q115/'Serie x Rama SIPA'!Q103-1)*100 -> 1.2468807
A104: 43191 | B104: =('Serie x Rama SIPA'!B116/'Serie x Rama SIPA'!B104-1)*100 -> 0.79344213 | C104: =('Serie x Rama SIPA'!C116/'Serie x Rama SIPA'!C104-1)*100 -> -0.31531185 | D104: =('Serie x Rama SIPA'!D116/'Serie x Rama SIPA'!D104-1)*100 -> 3.749264 | E104: =('Serie x Rama SIPA'!E116/'Serie x Rama SIPA'!E104-1)*100 -> -1.4065831 | F104: =('Serie x Rama SIPA'!F116/'Serie x Rama SIPA'!F104-1)*100 -> 2.5547496 | G104: =('Serie x Rama SIPA'!G116/'Serie x Rama SIPA'!G104-1)*100 -> 7.6811339 | H104: =('Serie x Rama SIPA'!H116/'Serie x Rama SIPA'!H104-1)*100 -> 1.3492343 | I104: =('Serie x Rama SIPA'!I116/'Serie x Rama SIPA'!I104-1)*100 -> 2.2822437 | ... Q104: =('Serie x Rama SIPA'!Q116/'Serie x Rama SIPA'!Q104-1)*100 -> 1.3430767
A105: 43221 | B105: =('Serie x Rama SIPA'!B117/'Serie x Rama SIPA'!B105-1)*100 -> 0.50564007 | C105: =('Serie x Rama SIPA'!C117/'Serie x Rama SIPA'!C105-1)*100 -> -1.1814672 | D105: =('Serie x Rama SIPA'!D117/'Serie x Rama SIPA'!D105-1)*100 -> 4.5549503 | E105: =('Serie x Rama SIPA'!E117/'Serie x Rama SIPA'!E105-1)*100 -> -1.5850706 | F105: =('Serie x Rama SIPA'!F117/'Serie x Rama SIPA'!F105-1)*100 -> 2.2591088 | G105: =('Serie x Rama SIPA'!G117/'Serie x Rama SIPA'!G105-1)*100 -> 6.3418697 | H105: =('Serie x Rama SIPA'!H117/'Serie x Rama SIPA'!H105-1)*100 -> 0.93722329 | I105: =('Serie x Rama SIPA'!I117/'Serie x Rama SIPA'!I105-1)*100 -> 1.6328499 | ... Q105: =('Serie x Rama SIPA'!Q117/'Serie x Rama SIPA'!Q105-1)*100 -> 1.0059742
A106: 43252 | B106: =('Serie x Rama SIPA'!B118/'Serie x Rama SIPA'!B106-1)*100 -> -0.30126182 | C106: =('Serie x Rama SIPA'!C118/'Serie x Rama SIPA'!C106-1)*100 -> -0.25716958 | D106: =('Serie x Rama SIPA'!D118/'Serie x Rama SIPA'!D106-1)*100 -> 4.6802655 | E106: =('Serie x Rama SIPA'!E118/'Serie x Rama SIPA'!E106-1)*100 -> -2.0608362 | F106: =('Serie x Rama SIPA'!F118/'Serie x Rama SIPA'!F106-1)*100 -> 1.9040156 | G106: =('Serie x Rama SIPA'!G118/'Serie x Rama SIPA'!G106-1)*100 -> 3.8432948 | H106: =('Serie x Rama SIPA'!H118/'Serie x Rama SIPA'!H106-1)*100 -> 0.55560937 | I106: =('Serie x Rama SIPA'!I118/'Serie x Rama SIPA'!I106-1)*100 -> 0.90393602 | ... Q106: =('Serie x Rama SIPA'!Q118/'Serie x Rama SIPA'!Q106-1)*100 -> 0.43260166
A107: 43282 | B107: =('Serie x Rama SIPA'!B119/'Serie x Rama SIPA'!B107-1)*100 -> 0.2280003 | C107: =('Serie x Rama SIPA'!C119/'Serie x Rama SIPA'!C107-1)*100 -> 1.5338393 | D107: =('Serie x Rama SIPA'!D119/'Serie x Rama SIPA'!D107-1)*100 -> 4.6178732 | E107: =('Serie x Rama SIPA'!E119/'Serie x Rama SIPA'!E107-1)*100 -> -2.4200736 | F107: =('Serie x Rama SIPA'!F119/'Serie x Rama SIPA'!F107-1)*100 -> 1.8037528 | G107: =('Serie x Rama SIPA'!G119/'Serie x Rama SIPA'!G107-1)*100 -> 2.3156181 | H107: =('Serie x Rama SIPA'!H119/'Serie x Rama SIPA'!H107-1)*100 -> 0.17491259 | I107: =('Serie x Rama SIPA'!I119/'Serie x Rama SIPA'!I107-1)*100 -> 0.56613636 | ... Q107: =('Serie x Rama SIPA'!Q119/'Serie x Rama SIPA'!Q107-1)*100 -> 0.13430839
A108: ago-18 | B108: =('Serie x Rama SIPA'!B120/'Serie x Rama SIPA'!B108-1)*100 -> 1.8540554 | C108: =('Serie x Rama SIPA'!C120/'Serie x Rama SIPA'!C108-1)*100 -> 1.5500887 | D108: =('Serie x Rama SIPA'!D120/'Serie x Rama SIPA'!D108-1)*100 -> 4.7629429 | E108: =('Serie x Rama SIPA'!E120/'Serie x Rama SIPA'!E108-1)*100 -> -2.7121415 | F108: =('Serie x Rama SIPA'!F120/'Serie x Rama SIPA'!F108-1)*100 -> 1.0992312 | G108: =('Serie x Rama SIPA'!G120/'Serie x Rama SIPA'!G108-1)*100 -> 1.3204839 | H108: =('Serie x Rama SIPA'!H120/'Serie x Rama SIPA'!H108-1)*100 -> -0.11055463 | I108: =('Serie x Rama SIPA'!I120/'Serie x Rama SIPA'!I108-1)*100 -> 0.31105172 | ... Q108: =('Serie x Rama SIPA'!Q120/'Serie x Rama SIPA'!Q108-1)*100 -> -0.0019566901
A109: sep-18 | B109: =('Serie x Rama SIPA'!B121/'Serie x Rama SIPA'!B109-1)*100 -> 0.99825593 | C109: =('Serie x Rama SIPA'!C121/'Serie x Rama SIPA'!C109-1)*100 -> 3.5341119 | D109: =('Serie x Rama SIPA'!D121/'Serie x Rama SIPA'!D109-1)*100 -> 4.9900686 | E109: =('Serie x Rama SIPA'!E121/'Serie x Rama SIPA'!E109-1)*100 -> -3.2690176 | F109: =('Serie x Rama SIPA'!F121/'Serie x Rama SIPA'!F109-1)*100 -> 0.66890999 | G109: =('Serie x Rama SIPA'!G121/'Serie x Rama SIPA'!G109-1)*100 -> -1.0060433 | H109: =('Serie x Rama SIPA'!H121/'Serie x Rama SIPA'!H109-1)*100 -> -0.6780481 | I109: =('Serie x Rama SIPA'!I121/'Serie x Rama SIPA'!I109-1)*100 -> -0.36162581 | ... Q109: =('Serie x Rama SIPA'!Q121/'Serie x Rama SIPA'!Q109-1)*100 -> -0.57248929
A110: 43374 | B110: =('Serie x Rama SIPA'!B122/'Serie x Rama SIPA'!B110-1)*100 -> 2.3890499 | C110: =('Serie x Rama SIPA'!C122/'Serie x Rama SIPA'!C110-1)*100 -> 7.211838 | D110: =('Serie x Rama SIPA'!D122/'Serie x Rama SIPA'!D110-1)*100 -> 6.1684262 | E110: =('Serie x Rama SIPA'!E122/'Serie x Rama SIPA'!E110-1)*100 -> -3.9633379 | F110: =('Serie x Rama SIPA'!F122/'Serie x Rama SIPA'!F110-1)*100 -> 0.73027443 | G110: =('Serie x Rama SIPA'!G122/'Serie x Rama SIPA'!G110-1)*100 -> -2.3374259 | H110: =('Serie x Rama SIPA'!H122/'Serie x Rama SIPA'!H110-1)*100 -> -1.4577906 | I110: =('Serie x Rama SIPA'!I122/'Serie x Rama SIPA'!I110-1)*100 -> -0.77081869 | ... Q110: =('Serie x Rama SIPA'!Q122/'Serie x Rama SIPA'!Q110-1)*100 -> -0.98537354
A111: 43405 | B111: =('Serie x Rama SIPA'!B123/'Serie x Rama SIPA'!B111-1)*100 -> 3.3922382 | C111: =('Serie x Rama SIPA'!C123/'Serie x Rama SIPA'!C111-1)*100 -> 8.4227006 | D111: =('Serie x Rama SIPA'!D123/'Serie x Rama SIPA'!D111-1)*100 -> 5.8689619 | E111: =('Serie x Rama SIPA'!E123/'Serie x Rama SIPA'!E111-1)*100 -> -4.8272267 | F111: =('Serie x Rama SIPA'!F123/'Serie x Rama SIPA'!F111-1)*100 -> 0.56674124 | G111: =('Serie x Rama SIPA'!G123/'Serie x Rama SIPA'!G111-1)*100 -> -3.5197272 | H111: =('Serie x Rama SIPA'!H123/'Serie x Rama SIPA'!H111-1)*100 -> -2.3412836 | I111: =('Serie x Rama SIPA'!I123/'Serie x Rama SIPA'!I111-1)*100 -> -1.6285563 | ... Q111: =('Serie x Rama SIPA'!Q123/'Serie x Rama SIPA'!Q111-1)*100 -> -1.597369
A112: 43435 | B112: =('Serie x Rama SIPA'!B124/'Serie x Rama SIPA'!B112-1)*100 -> 1.095298 | C112: =('Serie x Rama SIPA'!C124/'Serie x Rama SIPA'!C112-1)*100 -> 3.1242392 | D112: =('Serie x Rama SIPA'!D124/'Serie x Rama SIPA'!D112-1)*100 -> 6.3696877 | E112: =('Serie x Rama SIPA'!E124/'Serie x Rama SIPA'!E112-1)*100 -> -4.9851428 | F112: =('Serie x Rama SIPA'!F124/'Serie x Rama SIPA'!F112-1)*100 -> 0.10935159 | G112: =('Serie x Rama SIPA'!G124/'Serie x Rama SIPA'!G112-1)*100 -> -3.0759337 | H112: =('Serie x Rama SIPA'!H124/'Serie x Rama SIPA'!H112-1)*100 -> -3.1279556 | I112: =('Serie x Rama SIPA'!I124/'Serie x Rama SIPA'!I112-1)*100 -> -2.1693147 | ... Q112: =('Serie x Rama SIPA'!Q124/'Serie x Rama SIPA'!Q112-1)*100 -> -2.0457231
A113: 43466 | B113: =('Serie x Rama SIPA'!B125/'Serie x Rama SIPA'!B113-1)*100 -> 1.2248143 | C113: =('Serie x Rama SIPA'!C125/'Serie x Rama SIPA'!C113-1)*100 -> 4.130335 | D113: =('Serie x Rama SIPA'!D125/'Serie x Rama SIPA'!D113-1)*100 -> 7.3835926 | E113: =('Serie x Rama SIPA'!E125/'Serie x Rama SIPA'!E113-1)*100 -> -5.1172674 | F113: =('Serie x Rama SIPA'!F125/'Serie x Rama SIPA'!F113-1)*100 -> 0.13088122 | G113: =('Serie x Rama SIPA'!G125/'Serie x Rama SIPA'!G113-1)*100 -> -2.4681125 | H113: =('Serie x Rama SIPA'!H125/'Serie x Rama SIPA'!H113-1)*100 -> -3.3031794 | I113: =('Serie x Rama SIPA'!I125/'Serie x Rama SIPA'!I113-1)*100 -> -1.8973132 | ... Q113: =('Serie x Rama SIPA'!Q125/'Serie x Rama SIPA'!Q113-1)*100 -> -2.0559948
A114: 43497 | B114: =('Serie x Rama SIPA'!B126/'Serie x Rama SIPA'!B114-1)*100 -> 1.5276498 | C114: =('Serie x Rama SIPA'!C126/'Serie x Rama SIPA'!C114-1)*100 -> 5.0450871 | D114: =('Serie x Rama SIPA'!D126/'Serie x Rama SIPA'!D114-1)*100 -> 7.4600128 | E114: =('Serie x Rama SIPA'!E126/'Serie x Rama SIPA'!E114-1)*100 -> -5.1157951 | F114: =('Serie x Rama SIPA'!F126/'Serie x Rama SIPA'!F114-1)*100 -> 0.3843664 | G114: =('Serie x Rama SIPA'!G126/'Serie x Rama SIPA'!G114-1)*100 -> -1.1823883 | H114: =('Serie x Rama SIPA'!H126/'Serie x Rama SIPA'!H114-1)*100 -> -3.291318 | I114: =('Serie x Rama SIPA'!I126/'Serie x Rama SIPA'!I114-1)*100 -> -1.8735965 | ... Q114: =('Serie x Rama SIPA'!Q126/'Serie x Rama SIPA'!Q114-1)*100 -> -1.9223571
A115: 43525 | B115: =('Serie x Rama SIPA'!B127/'Serie x Rama SIPA'!B115-1)*100 -> 0.73152618 | C115: =('Serie x Rama SIPA'!C127/'Serie x Rama SIPA'!C115-1)*100 -> 5.9932975 | D115: =('Serie x Rama SIPA'!D127/'Serie x Rama SIPA'!D115-1)*100 -> 7.8481013 | E115: =('Serie x Rama SIPA'!E127/'Serie x Rama SIPA'!E115-1)*100 -> -5.4680057 | F115: =('Serie x Rama SIPA'!F127/'Serie x Rama SIPA'!F115-1)*100 -> 0.28985116 | G115: =('Serie x Rama SIPA'!G127/'Serie x Rama SIPA'!G115-1)*100 -> -1.9464511 | H115: =('Serie x Rama SIPA'!H127/'Serie x Rama SIPA'!H115-1)*100 -> -3.7315099 | I115: =('Serie x Rama SIPA'!I127/'Serie x Rama SIPA'!I115-1)*100 -> -1.8796359 | ... Q115: =('Serie x Rama SIPA'!Q127/'Serie x Rama SIPA'!Q115-1)*100 -> -2.3172776
A116: 43556 | B116: =('Serie x Rama SIPA'!B128/'Serie x Rama SIPA'!B116-1)*100 -> 2.6156029 | C116: =('Serie x Rama SIPA'!C128/'Serie x Rama SIPA'!C116-1)*100 -> 3.6877025 | D116: =('Serie x Rama SIPA'!D128/'Serie x Rama SIPA'!D116-1)*100 -> 4.4971684 | E116: =('Serie x Rama SIPA'!E128/'Serie x Rama SIPA'!E116-1)*100 -> -5.5807344 | F116: =('Serie x Rama SIPA'!F128/'Serie x Rama SIPA'!F116-1)*100 -> 0.13876913 | G116: =('Serie x Rama SIPA'!G128/'Serie x Rama SIPA'!G116-1)*100 -> -2.1785453 | H116: =('Serie x Rama SIPA'!H128/'Serie x Rama SIPA'!H116-1)*100 -> -4.0321855 | I116: =('Serie x Rama SIPA'!I128/'Serie x Rama SIPA'!I116-1)*100 -> -2.4237754 | ... Q116: =('Serie x Rama SIPA'!Q128/'Serie x Rama SIPA'!Q116-1)*100 -> -2.4700961
A117: 43586 | B117: =('Serie x Rama SIPA'!B129/'Serie x Rama SIPA'!B117-1)*100 -> 2.5173444 | C117: =('Serie x Rama SIPA'!C129/'Serie x Rama SIPA'!C117-1)*100 -> -3.8290224 | D117: =('Serie x Rama SIPA'!D129/'Serie x Rama SIPA'!D117-1)*100 -> 3.942191 | E117: =('Serie x Rama SIPA'!E129/'Serie x Rama SIPA'!E117-1)*100 -> -5.4749694 | F117: =('Serie x Rama SIPA'!F129/'Serie x Rama SIPA'!F117-1)*100 -> 0.18454907 | G117: =('Serie x Rama SIPA'!G129/'Serie x Rama SIPA'!G117-1)*100 -> -2.2194824 | H117: =('Serie x Rama SIPA'!H129/'Serie x Rama SIPA'!H117-1)*100 -> -4.0895556 | I117: =('Serie x Rama SIPA'!I129/'Serie x Rama SIPA'!I117-1)*100 -> -2.2365617 | ... Q117: =('Serie x Rama SIPA'!Q129/'Serie x Rama SIPA'!Q117-1)*100 -> -2.4737295
A118: jun-19 | B118: =('Serie x Rama SIPA'!B130/'Serie x Rama SIPA'!B118-1)*100 -> 2.3819008 | C118: =('Serie x Rama SIPA'!C130/'Serie x Rama SIPA'!C118-1)*100 -> 0.26564575 | D118: =('Serie x Rama SIPA'!D130/'Serie x Rama SIPA'!D118-1)*100 -> 4.925606 | E118: =('Serie x Rama SIPA'!E130/'Serie x Rama SIPA'!E118-1)*100 -> -5.142101 | F118: =('Serie x Rama SIPA'!F130/'Serie x Rama SIPA'!F118-1)*100 -> 0.47756523 | G118: =('Serie x Rama SIPA'!G130/'Serie x Rama SIPA'!G118-1)*100 -> -2.4570286 | H118: =('Serie x Rama SIPA'!H130/'Serie x Rama SIPA'!H118-1)*100 -> -3.9467953 | I118: =('Serie x Rama SIPA'!I130/'Serie x Rama SIPA'!I118-1)*100 -> -1.930427 | ... Q118: =('Serie x Rama SIPA'!Q130/'Serie x Rama SIPA'!Q118-1)*100 -> -2.2672918
